From mboxrd@z Thu Jan  1 00:00:00 1970
Return-Path: <test-report-bounces@dpdk.org>
Received: from mails.dpdk.org (mails.dpdk.org [217.70.189.124])
	by inbox.dpdk.org (Postfix) with ESMTP id 5B2E044094
	for <public@inbox.dpdk.org>; Wed, 22 May 2024 06:46:28 +0200 (CEST)
Received: from mails.dpdk.org (localhost [127.0.0.1])
	by mails.dpdk.org (Postfix) with ESMTP id 458B040273;
	Wed, 22 May 2024 06:46:28 +0200 (CEST)
Received: from mail-qv1-f100.google.com (mail-qv1-f100.google.com
 [209.85.219.100])
 by mails.dpdk.org (Postfix) with ESMTP id 67BDC400D6
 for <test-report@dpdk.org>; Wed, 22 May 2024 06:46:25 +0200 (CEST)
Received: by mail-qv1-f100.google.com with SMTP id
 6a1803df08f44-6a3652a740aso4847816d6.3
 for <test-report@dpdk.org>; Tue, 21 May 2024 21:46:25 -0700 (PDT)
DKIM-Signature: v=1; a=rsa-sha256; c=relaxed/relaxed;
 d=iol.unh.edu; s=unh-iol; t=1716353185; x=1716957985; darn=dpdk.org;
 h=references:in-reply-to:cc:to:from:subject:message-id:date:from:to
 :cc:subject:date:message-id:reply-to;
 bh=1SX0upOnCMav3jLwIVImG3W1eKMD9MhVPur7cX8eQf8=;
 b=gsVJcVIQR+PwqPFcYLSPUolBoMcJ+gVliTtofSfb3NAFGdDi1baiPo0i/ELL6x6wBQ
 DVRqUAg/RLt0NYvyVMhD1NCGlfRkG39J2DyBuzlmdar2AuqOebNMOilTT2t0bGkwgixJ
 2SKWGZe8b81Ur5hF8i6s0PTK1Vf0TqiU+BzbI=
X-Google-DKIM-Signature: v=1; a=rsa-sha256; c=relaxed/relaxed;
 d=1e100.net; s=20230601; t=1716353185; x=1716957985;
 h=references:in-reply-to:cc:to:from:subject:message-id:date
 :x-gm-message-state:from:to:cc:subject:date:message-id:reply-to;
 bh=1SX0upOnCMav3jLwIVImG3W1eKMD9MhVPur7cX8eQf8=;
 b=hdI/4kUcNCw5ABi0PlL0rG2l34Qo1gSlMX05fNNmLWCBNIvncylhhwa6J798A8tidv
 fMyZEqUwW5Qx2fcuBiF1aXTiO19NdrfsTug+SEfAkJdKw9Cq8TldXaNAqRpM2nLPMSNl
 NdFphUWFyjO/Wsgnobxq2chc8BugzNpoypyTim2dFTXRDtysEBWcZb8IhwhejFsVHycB
 ZF3Si2KraXd+apahtVBszyIGcN0B3fQ1PDQVbr67VC5/0DBBCsYJRXPYbYCo5bcWJv1l
 gnTYV8/eJR+brW7Ns4lSr+V3OMsA90JQL30u1RXhixMiKqFZCVc1dFBXbKTcjkrOgrum
 m6Ww==
X-Gm-Message-State: AOJu0YwFTg4klR0DBks/e7Zj9PTLBHxxBLhVmUtgs5J4e54GpfNJfVfC
 zPh2UbRhNqPxYrcuqoZgvC6YOMpH6if+WNmn3Be6o0WLWElTJ+5Fu2IZM4ejJC5EiwmntjzWjbz
 1oRTu607JJO+feLcaaF5gHpXFxeeFAVYu/PSn3OCVYV88++HR3FlLMZIG
X-Google-Smtp-Source: AGHT+IF7FEWRYmBRM75JQQMD5sk4Rot2T0TM0QGGZELFyEasai3XfH+qjosHIXWKEYL6IfS9lAvGo6RLxGGO
X-Received: by 2002:a05:6214:3913:b0:6a9:4fcf:7d95 with SMTP id
 6a1803df08f44-6ab7f36603emr7404036d6.22.1716353184830; 
 Tue, 21 May 2024 21:46:24 -0700 (PDT)
Received: from postal.iol.unh.edu (postal.iol.unh.edu.
 [2606:4100:3880:1234::84]) by smtp-relay.gmail.com with ESMTPS id
 6a1803df08f44-6aac226e343sm3922026d6.37.2024.05.21.21.46.24
 (version=TLS1_2 cipher=ECDHE-ECDSA-AES128-GCM-SHA256 bits=128/128);
 Tue, 21 May 2024 21:46:24 -0700 (PDT)
X-Relaying-Domain: iol.unh.edu
Date: Tue, 21 May 2024 21:46:24 -0700 (PDT)
Message-ID: <664d78a0.050a0220.c5e30.5ab6SMTPIN_ADDED_MISSING@mx.google.com>
Received: from [172.21.0.6] (unknown [172.18.0.240])
 by postal.iol.unh.edu (Postfix) with ESMTP id 591A5605C373;
 Wed, 22 May 2024 00:46:24 -0400 (EDT)
Subject: |SUCCESS| pw140238-140269 [PATCH] [v5,32/32] net/af_xdp:: replace us
From: dpdklab@iol.unh.edu
To: Test Report <test-report@dpdk.org>
Cc: dpdk-test-reports@iol.unh.edu
In-Reply-To: <20240522033009.143100-33-stephen@networkplumber.org>
References: <20240522033009.143100-33-stephen@networkplumber.org>
Content-Type: text/plain
X-BeenThere: test-report@dpdk.org
X-Mailman-Version: 2.1.29
Precedence: list
List-Id: automatic DPDK test reports <test-report.dpdk.org>
List-Unsubscribe: <https://mails.dpdk.org/options/test-report>,
 <mailto:test-report-request@dpdk.org?subject=unsubscribe>
List-Archive: <http://mails.dpdk.org/archives/test-report/>
List-Post: <mailto:test-report@dpdk.org>
List-Help: <mailto:test-report-request@dpdk.org?subject=help>
List-Subscribe: <https://mails.dpdk.org/listinfo/test-report>,
 <mailto:test-report-request@dpdk.org?subject=subscribe>
Errors-To: test-report-bounces@dpdk.org

Test-Label: iol-unit-amd64-testing
Test-Status: SUCCESS
http://dpdk.org/patch/140269

_Testing PASS_

Submitter: Stephen Hemminger <stephen@networkplumber.org>
Date: Wednesday, May 22 2024 03:27:59 
DPDK git baseline: Repo:dpdk
  Branch: master
  CommitID:6f80df8cb0f889203d7cd27766abcc6ebc720e33

140238-140269 --> testing pass

Test environment and result as below:

+---------------------+----------------+
|     Environment     | dpdk_unit_test |
+=====================+================+
| Windows Server 2019 | PASS           |
+---------------------+----------------+
| CentOS Stream 9     | PASS           |
+---------------------+----------------+
| CentOS Stream 8     | PASS           |
+---------------------+----------------+
| Debian Bullseye     | PASS           |
+---------------------+----------------+
| Debian 12           | PASS           |
+---------------------+----------------+
| Fedora 37           | PASS           |
+---------------------+----------------+
| Fedora 38           | PASS           |
+---------------------+----------------+
| Fedora 39           | PASS           |
+---------------------+----------------+


Windows Server 2019
	Kernel: 10.0.17763
	Compiler: clang 14.0 and gcc 8.1.0 (MinGW)

CentOS Stream 9
	Kernel: 5.4.0-167-generic
	Compiler: gcc 11.4.1 20230605

CentOS Stream 8
	Kernel: 5.4.0-167-generic
	Compiler: gcc 8.5.0 20210514

Debian Bullseye
	Kernel: 5.4.0-167-generic
	Compiler: gcc 10.2.1-6

Debian 12
	Kernel: Container Host Kernel
	Compiler: gcc 10.2.1

Fedora 37
	Kernel: Depends on container host system
	Compiler: gcc 12.3.1

Fedora 38
	Kernel: Depends on container host
	Compiler: gcc 13.2.1

Fedora 39
	Kernel: Depends on container host
	Compiler: gcc 13.2.1

To view detailed results, visit:
https://lab.dpdk.org/results/dashboard/patchsets/29987/

UNH-IOL DPDK Community Lab

To manage your email subscriptions, visit: 
https://lab.dpdk.org/results/dashboard/preferences/subscriptions/