From mboxrd@z Thu Jan  1 00:00:00 1970
Return-Path: <test-report-bounces@dpdk.org>
Received: from mails.dpdk.org (mails.dpdk.org [217.70.189.124])
	by inbox.dpdk.org (Postfix) with ESMTP id AB3E044094
	for <public@inbox.dpdk.org>; Wed, 22 May 2024 06:51:28 +0200 (CEST)
Received: from mails.dpdk.org (localhost [127.0.0.1])
	by mails.dpdk.org (Postfix) with ESMTP id A3B1440273;
	Wed, 22 May 2024 06:51:28 +0200 (CEST)
Received: from mail-yw1-f226.google.com (mail-yw1-f226.google.com
 [209.85.128.226])
 by mails.dpdk.org (Postfix) with ESMTP id 8B3DA400D6
 for <test-report@dpdk.org>; Wed, 22 May 2024 06:51:26 +0200 (CEST)
Received: by mail-yw1-f226.google.com with SMTP id
 00721157ae682-627ebbefd85so89877b3.3
 for <test-report@dpdk.org>; Tue, 21 May 2024 21:51:26 -0700 (PDT)
DKIM-Signature: v=1; a=rsa-sha256; c=relaxed/relaxed;
 d=iol.unh.edu; s=unh-iol; t=1716353486; x=1716958286; darn=dpdk.org;
 h=references:in-reply-to:cc:to:from:subject:message-id:date:from:to
 :cc:subject:date:message-id:reply-to;
 bh=/3SF7MFEaMr+Wef11t349x3S351nNWuQKf/ifGYe6AY=;
 b=aCyUueA5bH01NTqNAGJMtDpq9QkptgW+syuXV2NBfMCTAovCc2MOQClGRMflpfFDPh
 /LcbHlqB589nNgNc4Bfwfvu4+xG3827zUgJ5ie092yOWAZDX+JJDVMPlCrqp+TCPjtbF
 NICv+OwHxmIZyUeHqPHetoLLKXrcP8biWLXLA=
X-Google-DKIM-Signature: v=1; a=rsa-sha256; c=relaxed/relaxed;
 d=1e100.net; s=20230601; t=1716353486; x=1716958286;
 h=references:in-reply-to:cc:to:from:subject:message-id:date
 :x-gm-message-state:from:to:cc:subject:date:message-id:reply-to;
 bh=/3SF7MFEaMr+Wef11t349x3S351nNWuQKf/ifGYe6AY=;
 b=kMI5QKm6WRMDc0pheNQ5cz289SLF4XKl3nACW/AFesvUtFqEoXfMUrwdDnALBLttql
 i3m7tFrd1IPpMmH40Qhug4HV8Y6Eo8l0daVkCtHlKNS2TaTdzvzqFaz6t+JY1dWZOL3q
 BQiz5i/QqpWFj/LxGix8/ZD8agZCkhgyoVSt2I9/TIo+r4Ig/v2odhzNLwP7E2/sdk7q
 UnKZ5v7vU2JNpAOSsU2ch8i3SGA4KWweocWBjwrHqabhNG8lyPnM/wR/OIhXZqa1MIOE
 oJQ8gIOIFcGa280SvcZs/4A4jEZ1opEqwztJCbgJxlztBGnFguI9CbRvZCpaWrtiV5DC
 nK3Q==
X-Gm-Message-State: AOJu0YxXKVHBjdmFTXvGdBG1PCVBTCniaeNibsUOmFnte5fSNvjsdTgy
 duDnN0VYoLCZJGCm1aifWkFenbMBptlGUC00wZIPGnlcQNh248/1FltUcHG1RVQzsql0KRr2Sl2
 x7RMT+8ZrOzk7BFDpXoDI7BNmn5WqNHulbPquTYBO+zciF4a2u2CRnzTw
X-Google-Smtp-Source: AGHT+IEuxV/JbJRZzZ9WeLNstaypSo+1XH0//EISVwExErSLfr1wNsrEM9yFeJkclPwSS9CeVpFEiwBAUNoO
X-Received: by 2002:a0d:ed84:0:b0:614:7146:ea93 with SMTP id
 00721157ae682-627e46d646cmr10229647b3.25.1716353485467; 
 Tue, 21 May 2024 21:51:25 -0700 (PDT)
Received: from postal.iol.unh.edu (postal.iol.unh.edu.
 [2606:4100:3880:1234::84]) by smtp-relay.gmail.com with ESMTPS id
 6a1803df08f44-6ab7adb253esm1136056d6.25.2024.05.21.21.51.25
 (version=TLS1_2 cipher=ECDHE-ECDSA-AES128-GCM-SHA256 bits=128/128);
 Tue, 21 May 2024 21:51:25 -0700 (PDT)
X-Relaying-Domain: iol.unh.edu
Date: Tue, 21 May 2024 21:51:25 -0700 (PDT)
Message-ID: <664d79cd.d40a0220.6c140.676cSMTPIN_ADDED_MISSING@mx.google.com>
Received: from [172.17.0.4] (unknown [172.18.0.217])
 by postal.iol.unh.edu (Postfix) with ESMTP id 2C98B605C373;
 Wed, 22 May 2024 00:51:25 -0400 (EDT)
Subject: |SUCCESS| pw140238-140269 [PATCH] [v5,32/32] net/af_xdp:: replace us
From: dpdklab@iol.unh.edu
To: Test Report <test-report@dpdk.org>
Cc: dpdk-test-reports@iol.unh.edu
In-Reply-To: <20240522033009.143100-33-stephen@networkplumber.org>
References: <20240522033009.143100-33-stephen@networkplumber.org>
Content-Type: text/plain
X-BeenThere: test-report@dpdk.org
X-Mailman-Version: 2.1.29
Precedence: list
List-Id: automatic DPDK test reports <test-report.dpdk.org>
List-Unsubscribe: <https://mails.dpdk.org/options/test-report>,
 <mailto:test-report-request@dpdk.org?subject=unsubscribe>
List-Archive: <http://mails.dpdk.org/archives/test-report/>
List-Post: <mailto:test-report@dpdk.org>
List-Help: <mailto:test-report-request@dpdk.org?subject=help>
List-Subscribe: <https://mails.dpdk.org/listinfo/test-report>,
 <mailto:test-report-request@dpdk.org?subject=subscribe>
Errors-To: test-report-bounces@dpdk.org

Test-Label: iol-unit-arm64-testing
Test-Status: SUCCESS
http://dpdk.org/patch/140269

_Testing PASS_

Submitter: Stephen Hemminger <stephen@networkplumber.org>
Date: Wednesday, May 22 2024 03:27:59 
DPDK git baseline: Repo:dpdk
  Branch: master
  CommitID:6f80df8cb0f889203d7cd27766abcc6ebc720e33

140238-140269 --> testing pass

Test environment and result as below:

+-----------------------------+------------------------------+---------------------------+----------------+--------------+
|         Environment         | cryptodev_sw_snow3g_autotest | cryptodev_sw_zuc_autotest | dpdk_unit_test | lpm_autotest |
+=============================+==============================+===========================+================+==============+
| Debian 12 (arm)             | PASS                         | PASS                      | PASS           | SKIPPED      |
+-----------------------------+------------------------------+---------------------------+----------------+--------------+
| CentOS Stream 9 (ARM)       | SKIPPED                      | SKIPPED                   | PASS           | SKIPPED      |
+-----------------------------+------------------------------+---------------------------+----------------+--------------+
| Debian 11 (Buster) (ARM)    | SKIPPED                      | SKIPPED                   | PASS           | SKIPPED      |
+-----------------------------+------------------------------+---------------------------+----------------+--------------+
| Fedora 37 (ARM)             | SKIPPED                      | SKIPPED                   | PASS           | SKIPPED      |
+-----------------------------+------------------------------+---------------------------+----------------+--------------+
| 32-bit Ubuntu 20.04.4 (ARM) | SKIPPED                      | SKIPPED                   | PASS           | SKIPPED      |
+-----------------------------+------------------------------+---------------------------+----------------+--------------+
| Fedora 38 (ARM)             | SKIPPED                      | SKIPPED                   | PASS           | SKIPPED      |
+-----------------------------+------------------------------+---------------------------+----------------+--------------+
| Fedora 39 (ARM)             | SKIPPED                      | SKIPPED                   | PASS           | SKIPPED      |
+-----------------------------+------------------------------+---------------------------+----------------+--------------+
| Ubuntu 20.04 ARM SVE        | SKIPPED                      | SKIPPED                   | SKIPPED        | PASS         |
+-----------------------------+------------------------------+---------------------------+----------------+--------------+


Debian 12 (arm)
	Kernel: Container Host Kernel
	Compiler: gcc 12.2.0

CentOS Stream 9 (ARM)
	Kernel: Container Host Kernel
	Compiler: gcc 11.4.1

Debian 11 (Buster) (ARM)
	Kernel: Container Host Kernel
	Compiler: gcc 10.2.1

Fedora 37 (ARM)
	Kernel: Depends on container host
	Compiler: gcc 12.3.1

32-bit Ubuntu 20.04.4 (ARM)
	Kernel: 5.4.0-155-generic aarch64
	Compiler: gcc 9.4

Fedora 38 (ARM)
	Kernel: Depends on container host
	Compiler: gcc 13.2.1

Fedora 39 (ARM)
	Kernel: Depends on container host
	Compiler: gcc 13.2.1

Ubuntu 20.04 ARM SVE
	Kernel: 5.4.0-167-generic
	Compiler: gcc (Ubuntu 10.5.0-1ubuntu1~20.04) 10.5.0

To view detailed results, visit:
https://lab.dpdk.org/results/dashboard/patchsets/29987/

UNH-IOL DPDK Community Lab

To manage your email subscriptions, visit: 
https://lab.dpdk.org/results/dashboard/preferences/subscriptions/