From mboxrd@z Thu Jan  1 00:00:00 1970
Return-Path: <test-report-bounces@dpdk.org>
Received: from mails.dpdk.org (mails.dpdk.org [217.70.189.124])
	by inbox.dpdk.org (Postfix) with ESMTP id F33BA44094
	for <public@inbox.dpdk.org>; Wed, 22 May 2024 06:56:31 +0200 (CEST)
Received: from mails.dpdk.org (localhost [127.0.0.1])
	by mails.dpdk.org (Postfix) with ESMTP id E996940273;
	Wed, 22 May 2024 06:56:31 +0200 (CEST)
Received: from mail-pg1-f227.google.com (mail-pg1-f227.google.com
 [209.85.215.227])
 by mails.dpdk.org (Postfix) with ESMTP id CBD10400D6
 for <test-report@dpdk.org>; Wed, 22 May 2024 06:56:29 +0200 (CEST)
Received: by mail-pg1-f227.google.com with SMTP id
 41be03b00d2f7-5dca1efad59so1764740a12.2
 for <test-report@dpdk.org>; Tue, 21 May 2024 21:56:29 -0700 (PDT)
DKIM-Signature: v=1; a=rsa-sha256; c=relaxed/relaxed;
 d=iol.unh.edu; s=unh-iol; t=1716353789; x=1716958589; darn=dpdk.org;
 h=references:in-reply-to:cc:to:from:subject:message-id:date:from:to
 :cc:subject:date:message-id:reply-to;
 bh=lSiEbXNI5QK8fETJmwWUwKC+AavdurbiTXTBQvSRrMk=;
 b=fIe9tLnAQ0q/xIl8E2+HBGmtDRfGTTaylzIs2PGZxBdknmsX5204ugAC6kHZJqvcgd
 Bf6rblBvNIzyo30K08mvPeKkjMlJ7elsBwTVK51bG/xAMOCt1ELc58VE7elkWVvTuBCW
 7QyfMmWDVErKlcSQZukgTL8+szq4ie567vKV0=
X-Google-DKIM-Signature: v=1; a=rsa-sha256; c=relaxed/relaxed;
 d=1e100.net; s=20230601; t=1716353789; x=1716958589;
 h=references:in-reply-to:cc:to:from:subject:message-id:date
 :x-gm-message-state:from:to:cc:subject:date:message-id:reply-to;
 bh=lSiEbXNI5QK8fETJmwWUwKC+AavdurbiTXTBQvSRrMk=;
 b=XOcXD6kliEe62/yio+jvfxEe4TTYSbjiBT4/gfWmYzh56m/szowVljJX/DP/mXfgO0
 nCimQZ1LzTLudiHs1yskCOsHaDFXsihmt441miK1bBpr7Fqvv39dOJdE8elTQZSswsiK
 OTxjrNwn7kDsgWcbTT/JN3cv8f1Bw3vcGwe9g8DpAAMDOccdjLq8FL/o5NOLWKXITr5k
 Px8I6T17CT5Ya3QVdKR+HhXuiUFKZ9a1qQnOznwGeYlATiG+tUYuybjylJWSwSkW59fc
 3Z0sep55KZIySNGVeS0P2qf/Vf+tK532OMfczEOg2RNG/krMQoyhs0Y66M8qCqc2Lpw7
 Fbwg==
X-Gm-Message-State: AOJu0YyBa247I1pcP9Tenbfp5q0a964Q+/e55Nf41hJDY/4HxBF8Cb3/
 PKLa3AIDtfbiqEa4dCYjHLewsoXGJ9k8Npri/lqoowzk/sshwX2/oR+l03cWv43QcOKBvLvwVnS
 jylE60m2ErWSLcwgL1khWXY8p95uxuCBr20Zxl5SC
X-Google-Smtp-Source: AGHT+IFYoOVEI4ZnuGeD4oe4MYwdxkxfWkGnVZfkOuxFTSxCSggL8sHi66wgpHKazqgP4bK7jxTKfOTO2Gpb
X-Received: by 2002:a05:6a20:6a07:b0:1af:cdc5:dfbd with SMTP id
 adf61e73a8af0-1b1f88a68b9mr1166930637.14.1716353788913; 
 Tue, 21 May 2024 21:56:28 -0700 (PDT)
Received: from postal.iol.unh.edu (postal.iol.unh.edu. [132.177.123.84])
 by smtp-relay.gmail.com with ESMTPS id
 98e67ed59e1d1-2bd676662cesm460456a91.3.2024.05.21.21.56.28
 (version=TLS1_2 cipher=ECDHE-ECDSA-AES128-GCM-SHA256 bits=128/128);
 Tue, 21 May 2024 21:56:28 -0700 (PDT)
X-Relaying-Domain: iol.unh.edu
Date: Tue, 21 May 2024 21:56:28 -0700 (PDT)
Message-ID: <664d7afc.170a0220.a47f9.7536SMTPIN_ADDED_MISSING@mx.google.com>
Received: from [172.21.0.6] (unknown [172.18.0.240])
 by postal.iol.unh.edu (Postfix) with ESMTP id E2E77605C373;
 Wed, 22 May 2024 00:56:27 -0400 (EDT)
Subject: |SUCCESS| pw140238-140269 [PATCH] [v5,32/32] net/af_xdp:: replace us
From: dpdklab@iol.unh.edu
To: Test Report <test-report@dpdk.org>
Cc: dpdk-test-reports@iol.unh.edu
In-Reply-To: <20240522033009.143100-33-stephen@networkplumber.org>
References: <20240522033009.143100-33-stephen@networkplumber.org>
Content-Type: text/plain
X-BeenThere: test-report@dpdk.org
X-Mailman-Version: 2.1.29
Precedence: list
List-Id: automatic DPDK test reports <test-report.dpdk.org>
List-Unsubscribe: <https://mails.dpdk.org/options/test-report>,
 <mailto:test-report-request@dpdk.org?subject=unsubscribe>
List-Archive: <http://mails.dpdk.org/archives/test-report/>
List-Post: <mailto:test-report@dpdk.org>
List-Help: <mailto:test-report-request@dpdk.org?subject=help>
List-Subscribe: <https://mails.dpdk.org/listinfo/test-report>,
 <mailto:test-report-request@dpdk.org?subject=subscribe>
Errors-To: test-report-bounces@dpdk.org

Test-Label: iol-compile-arm64-testing
Test-Status: SUCCESS
http://dpdk.org/patch/140269

_Testing PASS_

Submitter: Stephen Hemminger <stephen@networkplumber.org>
Date: Wednesday, May 22 2024 03:27:59 
DPDK git baseline: Repo:dpdk
  Branch: master
  CommitID:6f80df8cb0f889203d7cd27766abcc6ebc720e33

140238-140269 --> testing pass

Test environment and result as below:

+----------------------------------------+--------------------+
|              Environment               | dpdk_meson_compile |
+========================================+====================+
| Ubuntu 20.04 ARM SVE                   | PASS               |
+----------------------------------------+--------------------+
| Debian 12 with MUSDK                   | PASS               |
+----------------------------------------+--------------------+
| Fedora 37 (ARM)                        | PASS               |
+----------------------------------------+--------------------+
| CentOS Stream 9 (ARM)                  | PASS               |
+----------------------------------------+--------------------+
| Fedora 39 (ARM)                        | PASS               |
+----------------------------------------+--------------------+
| Ubuntu 20.04 aarch32 GCC Cross Compile | PASS               |
+----------------------------------------+--------------------+
| Ubuntu 20.04 ARM GCC Cross Compile     | PASS               |
+----------------------------------------+--------------------+
| Debian 11 (Buster) (ARM)               | PASS               |
+----------------------------------------+--------------------+
| Ubuntu 20.04 ARM Clang Cross Compile   | PASS               |
+----------------------------------------+--------------------+
| Debian 12 (arm)                        | PASS               |
+----------------------------------------+--------------------+
| Fedora 38 (ARM)                        | PASS               |
+----------------------------------------+--------------------+
| Ubuntu 20.04 (ARM)                     | PASS               |
+----------------------------------------+--------------------+


Ubuntu 20.04 ARM SVE
	Kernel: 5.4.0-167-generic
	Compiler: gcc (Ubuntu 10.5.0-1ubuntu1~20.04) 10.5.0

Debian 12 with MUSDK
	Kernel: Container Host Kernel
	Compiler: gcc 12.2.0

Fedora 37 (ARM)
	Kernel: Depends on container host
	Compiler: gcc 12.3.1

CentOS Stream 9 (ARM)
	Kernel: Container Host Kernel
	Compiler: gcc 11.4.1

Fedora 39 (ARM)
	Kernel: Depends on container host
	Compiler: gcc 13.2.1

Ubuntu 20.04 aarch32 GCC Cross Compile
	Kernel: 5.4.0-167-generic
	Compiler: gcc 9.4.0

Ubuntu 20.04 ARM GCC Cross Compile
	Kernel: 5.4.0-167-generic
	Compiler: aarch64-linux-gnu-gcc (Ubuntu 9.4.0-1ubuntu1~20.04.2) 9.4.0

Debian 11 (Buster) (ARM)
	Kernel: Container Host Kernel
	Compiler: gcc 10.2.1

Ubuntu 20.04 ARM Clang Cross Compile
	Kernel: 5.4.0-72-generic
	Compiler: clang 10.0.0-4ubuntu1

Debian 12 (arm)
	Kernel: Container Host Kernel
	Compiler: gcc 12.2.0

Fedora 38 (ARM)
	Kernel: Depends on container host
	Compiler: gcc 13.2.1

Ubuntu 20.04 (ARM)
	Kernel: Container Host Kernel
	Compiler: gcc 9.4.0

To view detailed results, visit:
https://lab.dpdk.org/results/dashboard/patchsets/29987/

UNH-IOL DPDK Community Lab

To manage your email subscriptions, visit: 
https://lab.dpdk.org/results/dashboard/preferences/subscriptions/