From mboxrd@z Thu Jan  1 00:00:00 1970
Return-Path: <test-report-bounces@dpdk.org>
Received: from mails.dpdk.org (mails.dpdk.org [217.70.189.124])
	by inbox.dpdk.org (Postfix) with ESMTP id 2C34F44098
	for <public@inbox.dpdk.org>; Wed, 22 May 2024 16:47:39 +0200 (CEST)
Received: from mails.dpdk.org (localhost [127.0.0.1])
	by mails.dpdk.org (Postfix) with ESMTP id 26DD9402E2;
	Wed, 22 May 2024 16:47:39 +0200 (CEST)
Received: from mail-oo1-f97.google.com (mail-oo1-f97.google.com
 [209.85.161.97]) by mails.dpdk.org (Postfix) with ESMTP id 68818400D6
 for <test-report@dpdk.org>; Wed, 22 May 2024 16:47:37 +0200 (CEST)
Received: by mail-oo1-f97.google.com with SMTP id
 006d021491bc7-5b2a66dce8fso3973721eaf.1
 for <test-report@dpdk.org>; Wed, 22 May 2024 07:47:37 -0700 (PDT)
DKIM-Signature: v=1; a=rsa-sha256; c=relaxed/relaxed;
 d=iol.unh.edu; s=unh-iol; t=1716389256; x=1716994056; darn=dpdk.org;
 h=references:in-reply-to:cc:to:from:subject:message-id:date:from:to
 :cc:subject:date:message-id:reply-to;
 bh=3aJ9EL1P7Z83mPLQ+7qoyfDXnr+GA9NNEO/q2ZJIO80=;
 b=KHnsPxn+urFe8u1UaldyhSHZI2cGp4li7jUfnSeoY9fg1/ITlAaGkUAqkW/QSiFY4i
 SoGJrubDH6YxW7N+k2yP1j/ukUXvUceqc0VEj+sx08s9+PbYPIH/yEVDHdgG+ZAttz31
 4GwduZKDjTLpTdzIDTE1FNeLpZVjPRQeR0IYQ=
X-Google-DKIM-Signature: v=1; a=rsa-sha256; c=relaxed/relaxed;
 d=1e100.net; s=20230601; t=1716389256; x=1716994056;
 h=references:in-reply-to:cc:to:from:subject:message-id:date
 :x-gm-message-state:from:to:cc:subject:date:message-id:reply-to;
 bh=3aJ9EL1P7Z83mPLQ+7qoyfDXnr+GA9NNEO/q2ZJIO80=;
 b=I8pFxFNWFZ+Q/FrcLShUvjsSFG6Q8S9OhadEIkiFwAyMdChV03u0SC2+1uYleGi0uE
 8b9Ye+nokLbN9J+Q5B+zhvxTz5hXg0yfeibEx6Px62kKOMOIAdxjr1NMbKmYAK0cIjft
 vsA/CIYwWO4tlXpf1P0OBH5O9lVEk7QUBxbxdXl0R6DqBhloWsGlPywCQJZ9rdcDQMiA
 beKYrp6wJ7LohUR56Yg8JdnAq8WRwI0gBj1gqX5Ua0/4/cnOgf32pdWCZn1An3qu0W4l
 4p/5s4rZW+H7K8qgUq8+DnDLgxRMfvZ+Xu1WJnttw71iGZn+GArREJ6idXiLsnwedPhM
 yHGw==
X-Gm-Message-State: AOJu0YzivsZ/sk61WqKOwgDCtc1s1KT7tfWQTZ08A0rtv2oRHLbSMQTN
 D6yuu5amTHJd49vqGiKpwQ1wQWoMerUGXVpyAH3PQVd2QZxcHMzaYeYbitEyIgXuzzupCHHHeK9
 D1yNLPHbaZJmWWWBQ6t0zy9xf80CAbV94X+66Fx1G/yd+ROJdGb14l5lF
X-Google-Smtp-Source: AGHT+IHVa+pyEvI3KJV+uPavHuCo2jHKKi5RLVyZgETIabIbwN0N6+f1/PyxBJJiatkukAWVStBQwlDaXtA2
X-Received: by 2002:a05:6820:2213:b0:5b2:3782:7847 with SMTP id
 006d021491bc7-5b6a475cd36mr2175286eaf.7.1716389256773; 
 Wed, 22 May 2024 07:47:36 -0700 (PDT)
Received: from postal.iol.unh.edu (postal.iol.unh.edu.
 [2606:4100:3880:1234::84]) by smtp-relay.gmail.com with ESMTPS id
 006d021491bc7-5b26ded5ec4sm2498305eaf.27.2024.05.22.07.47.36
 (version=TLS1_2 cipher=ECDHE-ECDSA-AES128-GCM-SHA256 bits=128/128);
 Wed, 22 May 2024 07:47:36 -0700 (PDT)
X-Relaying-Domain: iol.unh.edu
Date: Wed, 22 May 2024 07:47:36 -0700 (PDT)
Message-ID: <664e0588.4a0a0220.81ade.3e9fSMTPIN_ADDED_MISSING@mx.google.com>
Received: from [172.17.0.2] (unknown [172.18.0.217])
 by postal.iol.unh.edu (Postfix) with ESMTP id 3DBB4605C373;
 Wed, 22 May 2024 10:47:36 -0400 (EDT)
Subject: |SUCCESS| pw140270 [PATCH] test/crypto: fix enqueue dequeue callback
From: dpdklab@iol.unh.edu
To: Test Report <test-report@dpdk.org>
Cc: Akhil Goyal <gakhil@marvell.com>
In-Reply-To: <20240522134835.3453044-1-gakhil@marvell.com>
References: <20240522134835.3453044-1-gakhil@marvell.com>
Content-Type: text/plain
X-BeenThere: test-report@dpdk.org
X-Mailman-Version: 2.1.29
Precedence: list
List-Id: automatic DPDK test reports <test-report.dpdk.org>
List-Unsubscribe: <https://mails.dpdk.org/options/test-report>,
 <mailto:test-report-request@dpdk.org?subject=unsubscribe>
List-Archive: <http://mails.dpdk.org/archives/test-report/>
List-Post: <mailto:test-report@dpdk.org>
List-Help: <mailto:test-report-request@dpdk.org?subject=help>
List-Subscribe: <https://mails.dpdk.org/listinfo/test-report>,
 <mailto:test-report-request@dpdk.org?subject=subscribe>
Errors-To: test-report-bounces@dpdk.org

Test-Label: iol-abi-testing
Test-Status: SUCCESS
http://dpdk.org/patch/140270

_Testing PASS_

Submitter: Akhil Goyal <gakhil@marvell.com>
Date: Wednesday, May 22 2024 13:48:35 
DPDK git baseline: Repo:dpdk
  Branch: master
  CommitID:6f80df8cb0f889203d7cd27766abcc6ebc720e33

140270 --> testing pass

Test environment and result as below:

+------------------+----------+
|   Environment    | abi_test |
+==================+==========+
| Fedora 39        | PASS     |
+------------------+----------+
| RHEL8            | PASS     |
+------------------+----------+
| Debian 12        | PASS     |
+------------------+----------+
| openSUSE Leap 15 | PASS     |
+------------------+----------+
| Fedora 38        | PASS     |
+------------------+----------+
| CentOS Stream 8  | PASS     |
+------------------+----------+
| CentOS Stream 9  | PASS     |
+------------------+----------+
| Ubuntu 22.04     | PASS     |
+------------------+----------+
| Debian Bullseye  | PASS     |
+------------------+----------+


Fedora 39
	Kernel: Depends on container host
	Compiler: gcc 13.2.1

RHEL8
	Kernel: 5.4.0-167-generic
	Compiler: gcc 8.5.0 20210514 (Red Hat 8.5.0-20)

Debian 12
	Kernel: Container Host Kernel
	Compiler: gcc 10.2.1

openSUSE Leap 15
	Kernel: 5.4.0-167-generic
	Compiler: gcc 7.5.0

Fedora 38
	Kernel: Depends on container host
	Compiler: clang 16.0.6

CentOS Stream 8
	Kernel: 5.4.0-167-generic
	Compiler: gcc 8.5.0 20210514

CentOS Stream 9
	Kernel: 5.4.0-167-generic
	Compiler: gcc 11.4.1 20230605

Ubuntu 22.04
	Kernel: 5.4.0-167-generic
	Compiler: gcc 11.4.0

Debian Bullseye
	Kernel: 5.4.0-167-generic
	Compiler: gcc 10.2.1-6

To view detailed results, visit:
https://lab.dpdk.org/results/dashboard/patchsets/29988/

UNH-IOL DPDK Community Lab

To manage your email subscriptions, visit: 
https://lab.dpdk.org/results/dashboard/preferences/subscriptions/