From mboxrd@z Thu Jan  1 00:00:00 1970
Return-Path: <test-report-bounces@dpdk.org>
Received: from mails.dpdk.org (mails.dpdk.org [217.70.189.124])
	by inbox.dpdk.org (Postfix) with ESMTP id 5EFFF4409C
	for <public@inbox.dpdk.org>; Wed, 22 May 2024 19:43:13 +0200 (CEST)
Received: from mails.dpdk.org (localhost [127.0.0.1])
	by mails.dpdk.org (Postfix) with ESMTP id 583D24026B;
	Wed, 22 May 2024 19:43:13 +0200 (CEST)
Received: from mail-yw1-f225.google.com (mail-yw1-f225.google.com
 [209.85.128.225])
 by mails.dpdk.org (Postfix) with ESMTP id BEC15400D6
 for <test-report@dpdk.org>; Wed, 22 May 2024 19:43:12 +0200 (CEST)
Received: by mail-yw1-f225.google.com with SMTP id
 00721157ae682-61816fc256dso12737917b3.0
 for <test-report@dpdk.org>; Wed, 22 May 2024 10:43:12 -0700 (PDT)
DKIM-Signature: v=1; a=rsa-sha256; c=relaxed/relaxed;
 d=iol.unh.edu; s=unh-iol; t=1716399792; x=1717004592; darn=dpdk.org;
 h=references:in-reply-to:cc:to:from:subject:message-id:date:from:to
 :cc:subject:date:message-id:reply-to;
 bh=hhOe2bROisd+n3aTeJViWSnnLCDmRz70fFex6ErhkhQ=;
 b=W9XDvxvLiYxnLHiUEQKYEA23nHG87IGJH/igGJA3r1j/JmykEf6FO8ZBFtwMKUKuHg
 fraf1kcDuSs60AI/CVtvf99CqtMEM1h5NaEAM1GjuCO+/2di1ONOs5ztXZ2Yv7PI8tQ9
 8Y8uBFuR41Cm/MjZxTzQHhmRCMZJcb7NVSULA=
X-Google-DKIM-Signature: v=1; a=rsa-sha256; c=relaxed/relaxed;
 d=1e100.net; s=20230601; t=1716399792; x=1717004592;
 h=references:in-reply-to:cc:to:from:subject:message-id:date
 :x-gm-message-state:from:to:cc:subject:date:message-id:reply-to;
 bh=hhOe2bROisd+n3aTeJViWSnnLCDmRz70fFex6ErhkhQ=;
 b=k5XmSVlajTF40ky69W8cn0CXKJ2AdMXRvw7SAi/BYtPtNulW5qlAsSk8R7Cd/4XI1O
 LEvHkdKQn0lnF1Vg/NzqoQeiCxj8b/wVm3r/REG8/wbyuLY1i2al21NexqYdKsiYwxvV
 JqIOBTBGFHaqVKAZNBw3PI+VeLKBcZ69wY9k2YZTDO84tKtoYOgdf8RuolGc/yhHPNrU
 5w+r0OMCR4xWGs0FyV+YPdfMoxSJvLk++brMBKAhg5RdbsnE2xryioiStK8Yj2AaL4eP
 KpOblux2MzxGKMdrL6GgQPz5I7YONvuwf3nK8LXlL/I3muEIE+Dn/bMtsOibX5sC2sMr
 bLsg==
X-Gm-Message-State: AOJu0YyZhiy4C5+8ziiLvv33puAII7H0C8kSAYPCx8PxpNkt2Y5+2k45
 gMHUCzB+YA0soNU2dzqOkvo2ZTRhNu4X891TXZfdKlmN0KTg1CkarSYSntyS3zXdbGfLQZmJ6S5
 INrG+ae0JV9FVG9jhplk3Kw1fc7nvwx9uxJYD9Hu3whiRSCROkDoyrmmw
X-Google-Smtp-Source: AGHT+IFN8rR5/5tpQkX9ZUPV/t7j0ESqv74rgRmC8O3m5Si3csohEhyK6PNOb6Vy+HWhAXV2bVJ6F8RPU8zC
X-Received: by 2002:a05:690c:3387:b0:627:7563:61ed with SMTP id
 00721157ae682-627e486abcdmr29620047b3.33.1716399790465; 
 Wed, 22 May 2024 10:43:10 -0700 (PDT)
Received: from postal.iol.unh.edu (postal.iol.unh.edu.
 [2606:4100:3880:1234::84]) by smtp-relay.gmail.com with ESMTPS id
 00721157ae682-6209e2329d7sm23231547b3.1.2024.05.22.10.43.10
 (version=TLS1_2 cipher=ECDHE-ECDSA-AES128-GCM-SHA256 bits=128/128);
 Wed, 22 May 2024 10:43:10 -0700 (PDT)
X-Relaying-Domain: iol.unh.edu
Date: Wed, 22 May 2024 10:43:10 -0700 (PDT)
Message-ID: <664e2eae.0d0a0220.243ff.cd97SMTPIN_ADDED_MISSING@mx.google.com>
Received: from [172.17.0.4] (unknown [172.18.0.217])
 by postal.iol.unh.edu (Postfix) with ESMTP id 279D4605C380;
 Wed, 22 May 2024 13:43:10 -0400 (EDT)
Subject: |SUCCESS| pw140272-140279 [PATCH] [v10,8/8] net/null: use generic SW
From: dpdklab@iol.unh.edu
To: Test Report <test-report@dpdk.org>
Cc: dpdk-test-reports@iol.unh.edu
In-Reply-To: <20240522161427.64568-9-stephen@networkplumber.org>
References: <20240522161427.64568-9-stephen@networkplumber.org>
Content-Type: text/plain
X-BeenThere: test-report@dpdk.org
X-Mailman-Version: 2.1.29
Precedence: list
List-Id: automatic DPDK test reports <test-report.dpdk.org>
List-Unsubscribe: <https://mails.dpdk.org/options/test-report>,
 <mailto:test-report-request@dpdk.org?subject=unsubscribe>
List-Archive: <http://mails.dpdk.org/archives/test-report/>
List-Post: <mailto:test-report@dpdk.org>
List-Help: <mailto:test-report-request@dpdk.org?subject=help>
List-Subscribe: <https://mails.dpdk.org/listinfo/test-report>,
 <mailto:test-report-request@dpdk.org?subject=subscribe>
Errors-To: test-report-bounces@dpdk.org

Test-Label: iol-abi-testing
Test-Status: SUCCESS
http://dpdk.org/patch/140279

_Testing PASS_

Submitter: Stephen Hemminger <stephen@networkplumber.org>
Date: Wednesday, May 22 2024 16:12:32 
DPDK git baseline: Repo:dpdk
  Branch: master
  CommitID:6f80df8cb0f889203d7cd27766abcc6ebc720e33

140272-140279 --> testing pass

Test environment and result as below:

+------------------+----------+
|   Environment    | abi_test |
+==================+==========+
| RHEL8            | PASS     |
+------------------+----------+
| Ubuntu 22.04     | PASS     |
+------------------+----------+
| openSUSE Leap 15 | PASS     |
+------------------+----------+
| CentOS Stream 8  | PASS     |
+------------------+----------+
| CentOS Stream 9  | PASS     |
+------------------+----------+
| Debian Bullseye  | PASS     |
+------------------+----------+
| Debian 12        | PASS     |
+------------------+----------+
| Fedora 38        | PASS     |
+------------------+----------+
| Fedora 39        | PASS     |
+------------------+----------+
| Fedora 37        | PASS     |
+------------------+----------+


RHEL8
	Kernel: 5.4.0-167-generic
	Compiler: gcc 8.5.0 20210514 (Red Hat 8.5.0-20)

Ubuntu 22.04
	Kernel: 5.4.0-167-generic
	Compiler: gcc 11.4.0

openSUSE Leap 15
	Kernel: 5.4.0-167-generic
	Compiler: gcc 7.5.0

CentOS Stream 8
	Kernel: 5.4.0-167-generic
	Compiler: gcc 8.5.0 20210514

CentOS Stream 9
	Kernel: 5.4.0-167-generic
	Compiler: gcc 11.4.1 20230605

Debian Bullseye
	Kernel: 5.4.0-167-generic
	Compiler: gcc 10.2.1-6

Debian 12
	Kernel: Container Host Kernel
	Compiler: gcc 10.2.1

Fedora 38
	Kernel: Depends on container host
	Compiler: clang 16.0.6

Fedora 39
	Kernel: Depends on container host
	Compiler: clang 17.0.6

Fedora 37
	Kernel: Depends on container host system
	Compiler: gcc 12.3.1

To view detailed results, visit:
https://lab.dpdk.org/results/dashboard/patchsets/29990/

UNH-IOL DPDK Community Lab

To manage your email subscriptions, visit: 
https://lab.dpdk.org/results/dashboard/preferences/subscriptions/