From mboxrd@z Thu Jan  1 00:00:00 1970
Return-Path: <test-report-bounces@dpdk.org>
Received: from mails.dpdk.org (mails.dpdk.org [217.70.189.124])
	by inbox.dpdk.org (Postfix) with ESMTP id 655A04409D
	for <public@inbox.dpdk.org>; Wed, 22 May 2024 20:22:11 +0200 (CEST)
Received: from mails.dpdk.org (localhost [127.0.0.1])
	by mails.dpdk.org (Postfix) with ESMTP id 5E0024028B;
	Wed, 22 May 2024 20:22:11 +0200 (CEST)
Received: from mail-io1-f98.google.com (mail-io1-f98.google.com
 [209.85.166.98]) by mails.dpdk.org (Postfix) with ESMTP id 317C3400D6
 for <test-report@dpdk.org>; Wed, 22 May 2024 20:22:09 +0200 (CEST)
Received: by mail-io1-f98.google.com with SMTP id
 ca18e2360f4ac-7e21dfbc310so311283639f.1
 for <test-report@dpdk.org>; Wed, 22 May 2024 11:22:09 -0700 (PDT)
DKIM-Signature: v=1; a=rsa-sha256; c=relaxed/relaxed;
 d=iol.unh.edu; s=unh-iol; t=1716402128; x=1717006928; darn=dpdk.org;
 h=references:in-reply-to:cc:to:from:subject:message-id:date:from:to
 :cc:subject:date:message-id:reply-to;
 bh=Yj52dXtV60a829UpnP9e5wRjAxNIlqlVFfGlikg8WCo=;
 b=BJ3ltWMnODRCzW3qSVyAlgpoZECkjAj4fJhNO7osssXEyQBjbpWmsiRBcA0S+l/Ooq
 JPkguJIYYTquGxSoKyBvHuvnMb55Upej4MifMJM0f1HBnSQE1k+xD/lU22Aj8P3rx5EX
 rSU/yp+Sai5foJYGyEqGfLRSb8MO8z176TKaE=
X-Google-DKIM-Signature: v=1; a=rsa-sha256; c=relaxed/relaxed;
 d=1e100.net; s=20230601; t=1716402128; x=1717006928;
 h=references:in-reply-to:cc:to:from:subject:message-id:date
 :x-gm-message-state:from:to:cc:subject:date:message-id:reply-to;
 bh=Yj52dXtV60a829UpnP9e5wRjAxNIlqlVFfGlikg8WCo=;
 b=ly4UOTssM6a5cVC1NkRinHmt/fdZj32o2EUeG93wrR1FGcfI9yG1R6LGthUgFH4RBU
 ZZSgj+NcmNsXuH2LzvNzVENeJxFVB4sVDysbUk496GS97MaLp1lZUXn2zIgAWmfBnI0g
 YGjS8dA0cgQefpAQxPhsOP3XJiUvurOZLqwHkAB/KPXrB2Zj3CLK9v9zPfA7YZS5DfqT
 oN2vo83on7PVGPIC6n6lx9tuc4/X40/2U35QiSfFiBLvucYcnEzg8aEpmVriaXnIhQE1
 08xBDn2dJ31ANKiJ0dydlDfVu3DXMeavLDQbcQ2riR68rIwpU2Vi4GESQi35NErlkp7D
 TozQ==
X-Gm-Message-State: AOJu0Ywn3J0mCrlq4MS3XtSVw7pDBGBBTCawp5sxsmaTSed0yTWV3+f3
 H5ooiCFv1l/P1QqhRNDmrJwMpJ+jzBHZHk/ixQ3Hkrkpu3FwTCuVRVvw3v9wdTOpKv73HErU58j
 MgkyXFd9ZFCqQYyQI6nwPtLg5l+sYsFcHMXesMPsWBpVHobMln7xyuE1W
X-Google-Smtp-Source: AGHT+IETe4NVXOLyyVimLzymwFWhUIEkeAwYcremKMYJ1JrH5fHeKbcdp84RWUtlEMlOESm9ZcRjltIX6SpO
X-Received: by 2002:a5e:8e44:0:b0:7e2:60f0:cb33 with SMTP id
 ca18e2360f4ac-7e38b227999mr287001539f.17.1716402128573; 
 Wed, 22 May 2024 11:22:08 -0700 (PDT)
Received: from postal.iol.unh.edu (postal.iol.unh.edu.
 [2606:4100:3880:1234::84]) by smtp-relay.gmail.com with ESMTPS id
 8926c6da1cb9f-4893703b274sm1436093173.41.2024.05.22.11.22.08
 (version=TLS1_2 cipher=ECDHE-ECDSA-AES128-GCM-SHA256 bits=128/128);
 Wed, 22 May 2024 11:22:08 -0700 (PDT)
X-Relaying-Domain: iol.unh.edu
Date: Wed, 22 May 2024 11:22:08 -0700 (PDT)
Message-ID: <664e37d0.050a0220.88d05.970dSMTPIN_ADDED_MISSING@mx.google.com>
Received: from [172.17.0.3] (unknown [172.18.0.217])
 by postal.iol.unh.edu (Postfix) with ESMTP id 3A355605C380;
 Wed, 22 May 2024 14:22:07 -0400 (EDT)
Subject: |SUCCESS| pw140272-140279 [PATCH] [v10,8/8] net/null: use generic SW
From: dpdklab@iol.unh.edu
To: Test Report <test-report@dpdk.org>
Cc: dpdk-test-reports@iol.unh.edu
In-Reply-To: <20240522161427.64568-9-stephen@networkplumber.org>
References: <20240522161427.64568-9-stephen@networkplumber.org>
Content-Type: text/plain
X-BeenThere: test-report@dpdk.org
X-Mailman-Version: 2.1.29
Precedence: list
List-Id: automatic DPDK test reports <test-report.dpdk.org>
List-Unsubscribe: <https://mails.dpdk.org/options/test-report>,
 <mailto:test-report-request@dpdk.org?subject=unsubscribe>
List-Archive: <http://mails.dpdk.org/archives/test-report/>
List-Post: <mailto:test-report@dpdk.org>
List-Help: <mailto:test-report-request@dpdk.org?subject=help>
List-Subscribe: <https://mails.dpdk.org/listinfo/test-report>,
 <mailto:test-report-request@dpdk.org?subject=subscribe>
Errors-To: test-report-bounces@dpdk.org

Test-Label: iol-compile-arm64-testing
Test-Status: SUCCESS
http://dpdk.org/patch/140279

_Testing PASS_

Submitter: Stephen Hemminger <stephen@networkplumber.org>
Date: Wednesday, May 22 2024 16:12:32 
DPDK git baseline: Repo:dpdk
  Branch: master
  CommitID:6f80df8cb0f889203d7cd27766abcc6ebc720e33

140272-140279 --> testing pass

Test environment and result as below:

+----------------------------------------+--------------------+
|              Environment               | dpdk_meson_compile |
+========================================+====================+
| Ubuntu 20.04 ARM SVE                   | PASS               |
+----------------------------------------+--------------------+
| Debian 12 with MUSDK                   | PASS               |
+----------------------------------------+--------------------+
| Ubuntu 20.04 aarch32 GCC Cross Compile | PASS               |
+----------------------------------------+--------------------+
| Fedora 37 (ARM)                        | PASS               |
+----------------------------------------+--------------------+
| Ubuntu 20.04 ARM Clang Cross Compile   | PASS               |
+----------------------------------------+--------------------+
| Ubuntu 20.04 (ARM)                     | PASS               |
+----------------------------------------+--------------------+
| Debian 11 (Buster) (ARM)               | PASS               |
+----------------------------------------+--------------------+
| CentOS Stream 9 (ARM)                  | PASS               |
+----------------------------------------+--------------------+
| Fedora 38 (ARM)                        | PASS               |
+----------------------------------------+--------------------+
| Debian 12 (arm)                        | PASS               |
+----------------------------------------+--------------------+
| Fedora 39 (ARM)                        | PASS               |
+----------------------------------------+--------------------+
| Ubuntu 20.04 ARM GCC Cross Compile     | PASS               |
+----------------------------------------+--------------------+


Ubuntu 20.04 ARM SVE
	Kernel: 5.4.0-167-generic
	Compiler: gcc (Ubuntu 10.5.0-1ubuntu1~20.04) 10.5.0

Debian 12 with MUSDK
	Kernel: Container Host Kernel
	Compiler: gcc 12.2.0

Ubuntu 20.04 aarch32 GCC Cross Compile
	Kernel: 5.4.0-167-generic
	Compiler: gcc 9.4.0

Fedora 37 (ARM)
	Kernel: Depends on container host
	Compiler: gcc 12.3.1

Ubuntu 20.04 ARM Clang Cross Compile
	Kernel: 5.4.0-72-generic
	Compiler: clang 10.0.0-4ubuntu1

Ubuntu 20.04 (ARM)
	Kernel: Container Host Kernel
	Compiler: gcc 9.4.0

Debian 11 (Buster) (ARM)
	Kernel: Container Host Kernel
	Compiler: gcc 10.2.1

CentOS Stream 9 (ARM)
	Kernel: Container Host Kernel
	Compiler: gcc 11.4.1

Fedora 38 (ARM)
	Kernel: Depends on container host
	Compiler: gcc 13.2.1

Debian 12 (arm)
	Kernel: Container Host Kernel
	Compiler: gcc 12.2.0

Fedora 39 (ARM)
	Kernel: Depends on container host
	Compiler: gcc 13.2.1

Ubuntu 20.04 ARM GCC Cross Compile
	Kernel: 5.4.0-167-generic
	Compiler: aarch64-linux-gnu-gcc (Ubuntu 9.4.0-1ubuntu1~20.04.2) 9.4.0

To view detailed results, visit:
https://lab.dpdk.org/results/dashboard/patchsets/29990/

UNH-IOL DPDK Community Lab

To manage your email subscriptions, visit: 
https://lab.dpdk.org/results/dashboard/preferences/subscriptions/