From mboxrd@z Thu Jan  1 00:00:00 1970
Return-Path: <test-report-bounces@dpdk.org>
Received: from mails.dpdk.org (mails.dpdk.org [217.70.189.124])
	by inbox.dpdk.org (Postfix) with ESMTP id 9542D440A2
	for <public@inbox.dpdk.org>; Thu, 23 May 2024 09:12:14 +0200 (CEST)
Received: from mails.dpdk.org (localhost [127.0.0.1])
	by mails.dpdk.org (Postfix) with ESMTP id 91C0240395;
	Thu, 23 May 2024 09:12:14 +0200 (CEST)
Received: from mail-io1-f100.google.com (mail-io1-f100.google.com
 [209.85.166.100])
 by mails.dpdk.org (Postfix) with ESMTP id 55D784026B
 for <test-report@dpdk.org>; Thu, 23 May 2024 09:12:09 +0200 (CEST)
Received: by mail-io1-f100.google.com with SMTP id
 ca18e2360f4ac-7e18adf7268so298552939f.0
 for <test-report@dpdk.org>; Thu, 23 May 2024 00:12:09 -0700 (PDT)
DKIM-Signature: v=1; a=rsa-sha256; c=relaxed/relaxed;
 d=iol.unh.edu; s=unh-iol; t=1716448328; x=1717053128; darn=dpdk.org;
 h=references:in-reply-to:cc:to:from:subject:message-id:date:from:to
 :cc:subject:date:message-id:reply-to;
 bh=ymMLOa+f1qbp0FRSKj+43NX57UFv0XlF0i42o2aQ+n4=;
 b=INciZKqldwUqyZrN+/YgUDQwcfv2N/0kIrPvgDcHtqzhFzcy3Wpwu6CmUPmZmoQy37
 Cyf6HjPCBh5fK82AKEbx+OK3K/JxBfqgX37d6+zHqe4RzJv0m4TXeA7/d0jeW+zZBIo/
 5nj6QCwdRuC5gnmioGnZaatiZD4+YEtyUvzNY=
X-Google-DKIM-Signature: v=1; a=rsa-sha256; c=relaxed/relaxed;
 d=1e100.net; s=20230601; t=1716448328; x=1717053128;
 h=references:in-reply-to:cc:to:from:subject:message-id:date
 :x-gm-message-state:from:to:cc:subject:date:message-id:reply-to;
 bh=ymMLOa+f1qbp0FRSKj+43NX57UFv0XlF0i42o2aQ+n4=;
 b=HLEgR9z6IKDLDufKXnld484RvA5WNYhTixZsbCsokFk5D5mD6MSvZT1FU5jhFlINzj
 oBYQ7VLn3I0r1EEJYwwJPrNOSrEb1GKOSVGYp/NLFhTfvjs1SRRlHrrAvtWYscR/Ridc
 94DarSFq2tc8wQSvUpiwrFa6hnewc2H/+lkE+PxixFyDQAgmegBaAeaeVh0DkgGk3LIn
 d+9SiYu+G/wP2rxD6algJxBsWPgkhNjaRHWlxLCiz2KLvZOc7dohAHLHgH1WAFrF/lRF
 s5DJ4G1G+sUIJWw+SftQ1GQ1MaSs7qHXrWwVJUqFlqdVTlR2w1ikhMXl2kHSYH4f/sOd
 g1Qg==
X-Gm-Message-State: AOJu0YwbwHOWXUBzwowCH8fhOZVN14DHKNpCkS1/p2zARcKcvIoE6ow/
 davDz3aS6RcRJoJP9qcj4CeXDYcKs819wmYiUhf7w+RvdnaqFN+yP/obj/4OOufZ7F6BX2caUo+
 B3t7pDa+g7zK42gP8oUn5IKxr9MK0UkVwtUCy9/DM
X-Google-Smtp-Source: AGHT+IFww9PsLLJNVU1ooaEgI5XrREB+ksT2uiedRm+kYLEZ2o+NK95ka/ZEIAkrX1LdT0jCxDQLrTGSS3b6
X-Received: by 2002:a05:6602:1492:b0:7e1:89ca:3b5d with SMTP id
 ca18e2360f4ac-7e36f4657bdmr554735939f.8.1716448328790; 
 Thu, 23 May 2024 00:12:08 -0700 (PDT)
Received: from postal.iol.unh.edu (postal.iol.unh.edu. [132.177.123.84])
 by smtp-relay.gmail.com with ESMTPS id
 8926c6da1cb9f-489374b789csm1611909173.85.2024.05.23.00.12.08
 (version=TLS1_2 cipher=ECDHE-ECDSA-AES128-GCM-SHA256 bits=128/128);
 Thu, 23 May 2024 00:12:08 -0700 (PDT)
X-Relaying-Domain: iol.unh.edu
Date: Thu, 23 May 2024 00:12:08 -0700 (PDT)
Message-ID: <664eec48.050a0220.23ab9.e6edSMTPIN_ADDED_MISSING@mx.google.com>
Received: from [172.21.0.8] (unknown [172.18.0.240])
 by postal.iol.unh.edu (Postfix) with ESMTP id 609E46050A9D;
 Thu, 23 May 2024 03:12:08 -0400 (EDT)
Subject: |SUCCESS| pw140284 [PATCH] [v2] net/cpfl: get running host ID for CP
From: dpdklab@iol.unh.edu
To: Test Report <test-report@dpdk.org>
Cc: Shaiq Wani <shaiq.wani@intel.com>
In-Reply-To: <20240523061045.483159-1-shaiq.wani@intel.com>
References: <20240523061045.483159-1-shaiq.wani@intel.com>
Content-Type: text/plain
X-BeenThere: test-report@dpdk.org
X-Mailman-Version: 2.1.29
Precedence: list
List-Id: automatic DPDK test reports <test-report.dpdk.org>
List-Unsubscribe: <https://mails.dpdk.org/options/test-report>,
 <mailto:test-report-request@dpdk.org?subject=unsubscribe>
List-Archive: <http://mails.dpdk.org/archives/test-report/>
List-Post: <mailto:test-report@dpdk.org>
List-Help: <mailto:test-report-request@dpdk.org?subject=help>
List-Subscribe: <https://mails.dpdk.org/listinfo/test-report>,
 <mailto:test-report-request@dpdk.org?subject=subscribe>
Errors-To: test-report-bounces@dpdk.org

Test-Label: iol-abi-testing
Test-Status: SUCCESS
http://dpdk.org/patch/140284

_Testing PASS_

Submitter: Shaiq Wani <shaiq.wani@intel.com>
Date: Thursday, May 23 2024 06:10:45 
DPDK git baseline: Repo:dpdk
  Branch: master
  CommitID:19be1a0ba8af8a513adb011a3017d583d6312fc9

140284 --> testing pass

Test environment and result as below:

+-----------------+----------+
|   Environment   | abi_test |
+=================+==========+
| CentOS Stream 9 | PASS     |
+-----------------+----------+
| CentOS Stream 8 | PASS     |
+-----------------+----------+
| Fedora 37       | PASS     |
+-----------------+----------+
| Debian 12       | PASS     |
+-----------------+----------+
| Debian Bullseye | PASS     |
+-----------------+----------+


CentOS Stream 9
	Kernel: 5.4.0-167-generic
	Compiler: gcc 11.4.1 20230605

CentOS Stream 8
	Kernel: 5.4.0-167-generic
	Compiler: gcc 8.5.0 20210514

Fedora 37
	Kernel: Depends on container host system
	Compiler: gcc 12.3.1

Debian 12
	Kernel: Container Host Kernel
	Compiler: gcc 10.2.1

Debian Bullseye
	Kernel: 5.4.0-167-generic
	Compiler: gcc 10.2.1-6

To view detailed results, visit:
https://lab.dpdk.org/results/dashboard/patchsets/29994/

UNH-IOL DPDK Community Lab

To manage your email subscriptions, visit: 
https://lab.dpdk.org/results/dashboard/preferences/subscriptions/