From mboxrd@z Thu Jan  1 00:00:00 1970
Return-Path: <test-report-bounces@dpdk.org>
Received: from mails.dpdk.org (mails.dpdk.org [217.70.189.124])
	by inbox.dpdk.org (Postfix) with ESMTP id 587E4440A2
	for <public@inbox.dpdk.org>; Thu, 23 May 2024 09:17:07 +0200 (CEST)
Received: from mails.dpdk.org (localhost [127.0.0.1])
	by mails.dpdk.org (Postfix) with ESMTP id 527FF4026B;
	Thu, 23 May 2024 09:17:07 +0200 (CEST)
Received: from mail-ot1-f100.google.com (mail-ot1-f100.google.com
 [209.85.210.100])
 by mails.dpdk.org (Postfix) with ESMTP id 842064025C
 for <test-report@dpdk.org>; Thu, 23 May 2024 09:17:06 +0200 (CEST)
Received: by mail-ot1-f100.google.com with SMTP id
 46e09a7af769-6f0f07746a4so3853778a34.2
 for <test-report@dpdk.org>; Thu, 23 May 2024 00:17:06 -0700 (PDT)
DKIM-Signature: v=1; a=rsa-sha256; c=relaxed/relaxed;
 d=iol.unh.edu; s=unh-iol; t=1716448626; x=1717053426; darn=dpdk.org;
 h=references:in-reply-to:cc:to:from:subject:message-id:date:from:to
 :cc:subject:date:message-id:reply-to;
 bh=zqiypaW8sng1ePJVQqbdXAMs4Lj5jcrgCSuAyNpIsDs=;
 b=JNYt6XNhPnT/IywK4Jkp1XNK/sYNhfoQePmZDjv5C5ZhPGWQQ5J32PKW8aJO+fjmiC
 oM6H1leP4o4kNXNcL6pbB8fvPwfMj/KJenZ3zBgAVBwuxQbyW5tRpmhYs/q8fuEGXpNo
 FMPDMRTbj+0AxeQDrLew7XTe5ntj6PwQj7gCI=
X-Google-DKIM-Signature: v=1; a=rsa-sha256; c=relaxed/relaxed;
 d=1e100.net; s=20230601; t=1716448626; x=1717053426;
 h=references:in-reply-to:cc:to:from:subject:message-id:date
 :x-gm-message-state:from:to:cc:subject:date:message-id:reply-to;
 bh=zqiypaW8sng1ePJVQqbdXAMs4Lj5jcrgCSuAyNpIsDs=;
 b=Pt6iBTj3bXex4XjJXAFjvgUJwSgI3ts19EGiAyY4IT61QlA2iEAIVWIVtrBPiBPdLn
 +jwTwkimkrtS8TzLxhv3DmDmewFcMg+7uyxieGQVFWBtzvQISzgONymD/My6nmZVB79h
 Y/Al4GEMkyCDJhShTB/ClCnh3oRNVJFhHBcycE9mkGkenAxWwgLo2XfBrdq3RryR1ujN
 MIcbJmtd/8NK0M7sxSazrYuHrEtJI9fMxqRCQkWBlRWcmsseefxwNrgyX32Cw9E3XE8p
 Zy+8uhMpAta5ZRR376QsSNn7L1P1V5ZriStwjUA/XkbJftNn/eL82BL8qDK3kQ7W3pwN
 1TqA==
X-Gm-Message-State: AOJu0Yy5G6HJNWCgouFVYzy3VC54rXsL141jT79p3yYlNCpADvfcVSiX
 dv4FyJG+WyiCWHBtO8HA8LqfHVjVetIxmY9mwqRX8G9gggAiohTpDTmNi9UiTWImP2TRVtbi4Bi
 tcyKIAI9dV605tfU+NeASUfLTMGrHIe8+3OuNltGosndci8Wf4u9OJXCr
X-Google-Smtp-Source: AGHT+IFEynCC4u0eIA5hraD5biVXbA1BMyTyNx6qu7CejtQt6OAezUgszxc3p1vT2654MgTgieEYszBMgAyY
X-Received: by 2002:a05:6830:903:b0:6f1:3bff:be3e with SMTP id
 46e09a7af769-6f665a3deacmr5440912a34.5.1716448625879; 
 Thu, 23 May 2024 00:17:05 -0700 (PDT)
Received: from postal.iol.unh.edu (postal.iol.unh.edu.
 [2606:4100:3880:1234::84]) by smtp-relay.gmail.com with ESMTPS id
 46e09a7af769-6f109798690sm943246a34.10.2024.05.23.00.17.05
 (version=TLS1_2 cipher=ECDHE-ECDSA-AES128-GCM-SHA256 bits=128/128);
 Thu, 23 May 2024 00:17:05 -0700 (PDT)
X-Relaying-Domain: iol.unh.edu
Date: Thu, 23 May 2024 00:17:05 -0700 (PDT)
Message-ID: <664eed71.050a0220.200b3.2881SMTPIN_ADDED_MISSING@mx.google.com>
Received: from [172.21.0.6] (unknown [172.18.0.240])
 by postal.iol.unh.edu (Postfix) with ESMTP id 52A1E6050A66;
 Thu, 23 May 2024 03:17:05 -0400 (EDT)
Subject: |SUCCESS| pw140284 [PATCH] [v2] net/cpfl: get running host ID for CP
From: dpdklab@iol.unh.edu
To: Test Report <test-report@dpdk.org>
Cc: dpdk-test-reports@iol.unh.edu
In-Reply-To: <20240523061045.483159-1-shaiq.wani@intel.com>
References: <20240523061045.483159-1-shaiq.wani@intel.com>
Content-Type: text/plain
X-BeenThere: test-report@dpdk.org
X-Mailman-Version: 2.1.29
Precedence: list
List-Id: automatic DPDK test reports <test-report.dpdk.org>
List-Unsubscribe: <https://mails.dpdk.org/options/test-report>,
 <mailto:test-report-request@dpdk.org?subject=unsubscribe>
List-Archive: <http://mails.dpdk.org/archives/test-report/>
List-Post: <mailto:test-report@dpdk.org>
List-Help: <mailto:test-report-request@dpdk.org?subject=help>
List-Subscribe: <https://mails.dpdk.org/listinfo/test-report>,
 <mailto:test-report-request@dpdk.org?subject=subscribe>
Errors-To: test-report-bounces@dpdk.org

Test-Label: iol-unit-arm64-testing
Test-Status: SUCCESS
http://dpdk.org/patch/140284

_Testing PASS_

Submitter: Shaiq Wani <shaiq.wani@intel.com>
Date: Thursday, May 23 2024 06:10:45 
DPDK git baseline: Repo:dpdk
  Branch: master
  CommitID:19be1a0ba8af8a513adb011a3017d583d6312fc9

140284 --> testing pass

Test environment and result as below:

+--------------------------+----------------+
|       Environment        | dpdk_unit_test |
+==========================+================+
| CentOS Stream 9 (ARM)    | PASS           |
+--------------------------+----------------+
| Debian 11 (Buster) (ARM) | PASS           |
+--------------------------+----------------+
| Debian 12 (arm)          | PASS           |
+--------------------------+----------------+
| Fedora 37 (ARM)          | PASS           |
+--------------------------+----------------+
| Fedora 38 (ARM)          | PASS           |
+--------------------------+----------------+
| Ubuntu 20.04 (ARM)       | PASS           |
+--------------------------+----------------+


CentOS Stream 9 (ARM)
	Kernel: Container Host Kernel
	Compiler: gcc 11.4.1

Debian 11 (Buster) (ARM)
	Kernel: Container Host Kernel
	Compiler: gcc 10.2.1

Debian 12 (arm)
	Kernel: Container Host Kernel
	Compiler: gcc 12.2.0

Fedora 37 (ARM)
	Kernel: Depends on container host
	Compiler: gcc 12.3.1

Fedora 38 (ARM)
	Kernel: Depends on container host
	Compiler: gcc 13.2.1

Ubuntu 20.04 (ARM)
	Kernel: Container Host Kernel
	Compiler: gcc 9.4.0

To view detailed results, visit:
https://lab.dpdk.org/results/dashboard/patchsets/29994/

UNH-IOL DPDK Community Lab

To manage your email subscriptions, visit: 
https://lab.dpdk.org/results/dashboard/preferences/subscriptions/