From mboxrd@z Thu Jan  1 00:00:00 1970
Return-Path: <test-report-bounces@dpdk.org>
Received: from mails.dpdk.org (mails.dpdk.org [217.70.189.124])
	by inbox.dpdk.org (Postfix) with ESMTP id 2034D440A2
	for <public@inbox.dpdk.org>; Thu, 23 May 2024 09:40:37 +0200 (CEST)
Received: from mails.dpdk.org (localhost [127.0.0.1])
	by mails.dpdk.org (Postfix) with ESMTP id 1A93A402A8;
	Thu, 23 May 2024 09:40:37 +0200 (CEST)
Received: from mail-io1-f100.google.com (mail-io1-f100.google.com
 [209.85.166.100])
 by mails.dpdk.org (Postfix) with ESMTP id E6AE64026B
 for <test-report@dpdk.org>; Thu, 23 May 2024 09:40:35 +0200 (CEST)
Received: by mail-io1-f100.google.com with SMTP id
 ca18e2360f4ac-7e1ec659c40so341208239f.2
 for <test-report@dpdk.org>; Thu, 23 May 2024 00:40:35 -0700 (PDT)
DKIM-Signature: v=1; a=rsa-sha256; c=relaxed/relaxed;
 d=iol.unh.edu; s=unh-iol; t=1716450035; x=1717054835; darn=dpdk.org;
 h=references:in-reply-to:cc:to:from:subject:message-id:date:from:to
 :cc:subject:date:message-id:reply-to;
 bh=2RhHiVuJLUtgRoG3HJ7vefZR6mrQu5xn9pxoduPYWy4=;
 b=AMawjWN8spdU7Ov78/LEu9oAoIHR8gMGON6IPhgS7gjQz5A/TgDEBg1l9h7duhNpeK
 1zumUQ1wFpU4jI+vm7q6LYYrs4sgeLVjGVn2Z8S2jdv4kTOYtm3V0zS8LrpNEepE1V3d
 hbnS27L7LvqR6LPRpKBpKQHVcSrfOomlBWcFI=
X-Google-DKIM-Signature: v=1; a=rsa-sha256; c=relaxed/relaxed;
 d=1e100.net; s=20230601; t=1716450035; x=1717054835;
 h=references:in-reply-to:cc:to:from:subject:message-id:date
 :x-gm-message-state:from:to:cc:subject:date:message-id:reply-to;
 bh=2RhHiVuJLUtgRoG3HJ7vefZR6mrQu5xn9pxoduPYWy4=;
 b=S/Qpsm5sWI56AZB9RkUwsDfVm5TwwhswNQkoXV5osZkuvqQJ2mgwae1IC7EqsLcavk
 lHnUwBytBiU+jPFaORp9NkxbnE9uLIl1DZQhKFgszH0vkEvjJvzzBOVIexHbHMCxtgdI
 Dmeo6SII5bkol1tZqWN2FvMCsfdDYBeSDAxjSXov4xLei1rZ7Oj9wSwvrWc2mFbGZlfW
 V+W8zr7wxqYLdeE1cRWwtXHQ47tbhDJF+NIQVD6/MYhJh+dz80TRBrjDi8aJM6rXP4fH
 8+8tsoFxzbCPur89Bm6yE9UVR9GJNvKX7u0Sf9a7bUbfX9YyfsjKCWjsP93g0wdNPGOy
 i8Hw==
X-Gm-Message-State: AOJu0YyvMiZnX6nHFgQQmnRJ7ZEl0IIbswh2HatGBkIuDrjnpJLLCSRf
 nU5344+BUGRkzgUbMwBmGYHtXQNCoJlG07ZtCn2mvaLt+nvjhh4dxI1GtkCmVXPZxJv3GPIma+b
 osxYvv0Fa1Yr0YN6yoAVEiM8x6w6gWsDZDL+42mMK
X-Google-Smtp-Source: AGHT+IHJpCDftnqsCGKE8DCDTFYU68puswaQMAPTM8pTPwABHXq1w8/b7Por+kFYxOTcJqHUCqrq46FFRVUm
X-Received: by 2002:a05:6e02:12e7:b0:36d:bddc:2fc2 with SMTP id
 e9e14a558f8ab-371fc2ece9bmr47614205ab.21.1716450035316; 
 Thu, 23 May 2024 00:40:35 -0700 (PDT)
Received: from postal.iol.unh.edu (postal.iol.unh.edu. [132.177.123.84])
 by smtp-relay.gmail.com with ESMTPS id
 e9e14a558f8ab-36cb9d438a1sm16240685ab.24.2024.05.23.00.40.35
 (version=TLS1_2 cipher=ECDHE-ECDSA-AES128-GCM-SHA256 bits=128/128);
 Thu, 23 May 2024 00:40:35 -0700 (PDT)
X-Relaying-Domain: iol.unh.edu
Date: Thu, 23 May 2024 00:40:35 -0700 (PDT)
Message-ID: <664ef2f3.920a0220.e9108.be2cSMTPIN_ADDED_MISSING@mx.google.com>
Received: from [172.17.0.2] (unknown [172.18.0.217])
 by postal.iol.unh.edu (Postfix) with ESMTP id CC8F76052538;
 Thu, 23 May 2024 03:40:34 -0400 (EDT)
Subject: |SUCCESS| pw140284 [PATCH] [v2] net/cpfl: get running host ID for CP
From: dpdklab@iol.unh.edu
To: Test Report <test-report@dpdk.org>
Cc: dpdk-test-reports@iol.unh.edu
In-Reply-To: <20240523061045.483159-1-shaiq.wani@intel.com>
References: <20240523061045.483159-1-shaiq.wani@intel.com>
Content-Type: text/plain
X-BeenThere: test-report@dpdk.org
X-Mailman-Version: 2.1.29
Precedence: list
List-Id: automatic DPDK test reports <test-report.dpdk.org>
List-Unsubscribe: <https://mails.dpdk.org/options/test-report>,
 <mailto:test-report-request@dpdk.org?subject=unsubscribe>
List-Archive: <http://mails.dpdk.org/archives/test-report/>
List-Post: <mailto:test-report@dpdk.org>
List-Help: <mailto:test-report-request@dpdk.org?subject=help>
List-Subscribe: <https://mails.dpdk.org/listinfo/test-report>,
 <mailto:test-report-request@dpdk.org?subject=subscribe>
Errors-To: test-report-bounces@dpdk.org

Test-Label: iol-unit-amd64-testing
Test-Status: SUCCESS
http://dpdk.org/patch/140284

_Testing PASS_

Submitter: Shaiq Wani <shaiq.wani@intel.com>
Date: Thursday, May 23 2024 06:10:45 
DPDK git baseline: Repo:dpdk
  Branch: master
  CommitID:19be1a0ba8af8a513adb011a3017d583d6312fc9

140284 --> testing pass

Test environment and result as below:

+---------------------+----------------+
|     Environment     | dpdk_unit_test |
+=====================+================+
| Windows Server 2019 | PASS           |
+---------------------+----------------+
| Debian Bullseye     | PASS           |
+---------------------+----------------+
| CentOS Stream 9     | PASS           |
+---------------------+----------------+
| Debian 12           | PASS           |
+---------------------+----------------+
| Fedora 37           | PASS           |
+---------------------+----------------+
| CentOS Stream 8     | PASS           |
+---------------------+----------------+
| Windows Server 2022 | PASS           |
+---------------------+----------------+
| Fedora 38           | PASS           |
+---------------------+----------------+
| Fedora 39           | PASS           |
+---------------------+----------------+
| Ubuntu 22.04        | PASS           |
+---------------------+----------------+
| Ubuntu 20.04        | PASS           |
+---------------------+----------------+
| openSUSE Leap 15    | PASS           |
+---------------------+----------------+


Windows Server 2019
	Kernel: 10.0.17763
	Compiler: clang 14.0 and gcc 8.1.0 (MinGW)

Debian Bullseye
	Kernel: 5.4.0-167-generic
	Compiler: gcc 10.2.1-6

CentOS Stream 9
	Kernel: 5.4.0-167-generic
	Compiler: gcc 11.4.1 20230605

Debian 12
	Kernel: Container Host Kernel
	Compiler: gcc 10.2.1

Fedora 37
	Kernel: Depends on container host system
	Compiler: gcc 12.3.1

CentOS Stream 8
	Kernel: 5.4.0-167-generic
	Compiler: gcc 8.5.0 20210514

Windows Server 2022
	Kernel: 10.0.20348.2031
	Compiler: clang 15.0.7, gcc 8.1.0 (MinGW), and MSVC VS 17.9

Fedora 38
	Kernel: Depends on container host
	Compiler: gcc 13.2.1

Fedora 39
	Kernel: Depends on container host
	Compiler: gcc 13.2.1

Ubuntu 22.04
	Kernel: 5.4.0-167-generic
	Compiler: gcc 11.4.0

Ubuntu 20.04
	Kernel: 5.4.0-167-generic
	Compiler: gcc 9.4.0-1ubuntu1~20.04.1

openSUSE Leap 15
	Kernel: 5.4.0-167-generic
	Compiler: gcc 7.5.0

To view detailed results, visit:
https://lab.dpdk.org/results/dashboard/patchsets/29994/

UNH-IOL DPDK Community Lab

To manage your email subscriptions, visit: 
https://lab.dpdk.org/results/dashboard/preferences/subscriptions/