From mboxrd@z Thu Jan  1 00:00:00 1970
Return-Path: <test-report-bounces@dpdk.org>
Received: from mails.dpdk.org (mails.dpdk.org [217.70.189.124])
	by inbox.dpdk.org (Postfix) with ESMTP id 9B924440A5
	for <public@inbox.dpdk.org>; Thu, 23 May 2024 12:50:04 +0200 (CEST)
Received: from mails.dpdk.org (localhost [127.0.0.1])
	by mails.dpdk.org (Postfix) with ESMTP id 95C0E402BF;
	Thu, 23 May 2024 12:50:04 +0200 (CEST)
Received: from mail-oo1-f99.google.com (mail-oo1-f99.google.com
 [209.85.161.99]) by mails.dpdk.org (Postfix) with ESMTP id A273D402DE
 for <test-report@dpdk.org>; Thu, 23 May 2024 12:49:56 +0200 (CEST)
Received: by mail-oo1-f99.google.com with SMTP id
 006d021491bc7-5b2e942171cso3298686eaf.3
 for <test-report@dpdk.org>; Thu, 23 May 2024 03:49:56 -0700 (PDT)
DKIM-Signature: v=1; a=rsa-sha256; c=relaxed/relaxed;
 d=iol.unh.edu; s=unh-iol; t=1716461396; x=1717066196; darn=dpdk.org;
 h=references:in-reply-to:cc:to:from:subject:message-id:date:from:to
 :cc:subject:date:message-id:reply-to;
 bh=KfpGDXIEFSeWrIX7eJOlamkVUyj6I6y5dvXM+dNf7f4=;
 b=C+d4A5wV1COXJuXWWsenLP98rNdTtQw9OcaorHCg61IOo2YontiDX6ZeFjT4PZ7MGQ
 deOzviyu9gA2WRlayJfHgM9NDSc+3gC7OA6MDY9rc5gVNTW1ypJdxEWT9cqAWxoieN1E
 AhIAATxQqUCCMu7laySj5IEu8Itt/EsRXwNIg=
X-Google-DKIM-Signature: v=1; a=rsa-sha256; c=relaxed/relaxed;
 d=1e100.net; s=20230601; t=1716461396; x=1717066196;
 h=references:in-reply-to:cc:to:from:subject:message-id:date
 :x-gm-message-state:from:to:cc:subject:date:message-id:reply-to;
 bh=KfpGDXIEFSeWrIX7eJOlamkVUyj6I6y5dvXM+dNf7f4=;
 b=mbcfeYu8MdlJHlkS/bEV7SU0cCkeRo1CDsG0jbr8C4G5UspM8uqbuxAa3ChY6nMnjH
 sbpCHcRmyFA/8vSsoHip6R9dprOJlFq03QWzn0hEcPdRwk+D382O0n+XqnxkTaeQnlso
 MIEB21a7XXmv8CKzU5YXplfl+Ns5PijJp6CwdBRwJhU8+TCbKs/39fzlrpEUMtMfKjPX
 Hw2OV7M/GpEP4K/PrSi+olvPw6U2a9ck7u4J/Ul4ItZUybr/uPFBuMU38zPTslC88G3H
 /Wdap1Cj+L3yDJ21IkfGWShDc40S0o+TUwK0a4vOOGTn6yl8Kv/SpLQL/GBlKpDY+NrF
 TEfg==
X-Gm-Message-State: AOJu0YxL1lPIy3dALjwLfqqlHc7pYAqyzzpmGlH4B1Pm+8TI4JvWKC1C
 HioU6jr7oiyqXU3cAluPEX+Wj+/3eaSTV/kkQ9tUofmkp2uoyjSiXRdtniOoz9t9NpH/7Oq2UWD
 vKq+ME0Utt56Oy5mFnduUMXDu8uMH8FGuQp4zqbyYUhZqoqSFyB4afnuH
X-Google-Smtp-Source: AGHT+IFmwfcmNRLMUPioa1LY0KLZrG961Af2kfVuJEDda37YT7Cpo5LTcKkor5joIf/3giaqLJFt2pF2ktML
X-Received: by 2002:a05:6820:619:b0:5b6:1b:cb61 with SMTP id
 006d021491bc7-5b6a3b1bfcamr4762912eaf.5.1716461395316; 
 Thu, 23 May 2024 03:49:55 -0700 (PDT)
Received: from postal.iol.unh.edu (postal.iol.unh.edu.
 [2606:4100:3880:1234::84]) by smtp-relay.gmail.com with ESMTPS id
 006d021491bc7-5b51cb2c2e9sm1038650eaf.14.2024.05.23.03.49.55
 (version=TLS1_2 cipher=ECDHE-ECDSA-AES128-GCM-SHA256 bits=128/128);
 Thu, 23 May 2024 03:49:55 -0700 (PDT)
X-Relaying-Domain: iol.unh.edu
Date: Thu, 23 May 2024 03:49:55 -0700 (PDT)
Message-ID: <664f1f53.4a0a0220.c0525.86a7SMTPIN_ADDED_MISSING@mx.google.com>
Received: from [172.21.0.6] (unknown [172.18.0.240])
 by postal.iol.unh.edu (Postfix) with ESMTP id C5DB36052538;
 Thu, 23 May 2024 06:49:54 -0400 (EDT)
Subject: |SUCCESS| pw140285 [PATCH] [v3] net/af_xdp: fix umem map size for ze
From: dpdklab@iol.unh.edu
To: Test Report <test-report@dpdk.org>
Cc: dpdk-test-reports@iol.unh.edu
In-Reply-To: <20240523065302.2345392-1-frank.du@intel.com>
References: <20240523065302.2345392-1-frank.du@intel.com>
Content-Type: text/plain
X-BeenThere: test-report@dpdk.org
X-Mailman-Version: 2.1.29
Precedence: list
List-Id: automatic DPDK test reports <test-report.dpdk.org>
List-Unsubscribe: <https://mails.dpdk.org/options/test-report>,
 <mailto:test-report-request@dpdk.org?subject=unsubscribe>
List-Archive: <http://mails.dpdk.org/archives/test-report/>
List-Post: <mailto:test-report@dpdk.org>
List-Help: <mailto:test-report-request@dpdk.org?subject=help>
List-Subscribe: <https://mails.dpdk.org/listinfo/test-report>,
 <mailto:test-report-request@dpdk.org?subject=subscribe>
Errors-To: test-report-bounces@dpdk.org

Test-Label: iol-abi-testing
Test-Status: SUCCESS
http://dpdk.org/patch/140285

_Testing PASS_

Submitter: Frank Du <frank.du@intel.com>
Date: Thursday, May 23 2024 06:53:02 
DPDK git baseline: Repo:dpdk
  Branch: master
  CommitID:a012926d36f3feb9d17a51c8f1559f466570ec0a

140285 --> testing pass

Test environment and result as below:

+------------------+----------+
|   Environment    | abi_test |
+==================+==========+
| CentOS Stream 8  | PASS     |
+------------------+----------+
| CentOS Stream 9  | PASS     |
+------------------+----------+
| openSUSE Leap 15 | PASS     |
+------------------+----------+
| Fedora 38        | PASS     |
+------------------+----------+
| Debian Bullseye  | PASS     |
+------------------+----------+
| RHEL8            | PASS     |
+------------------+----------+
| Fedora 37        | PASS     |
+------------------+----------+
| Debian 12        | PASS     |
+------------------+----------+
| Fedora 39        | PASS     |
+------------------+----------+


CentOS Stream 8
	Kernel: 5.4.0-167-generic
	Compiler: gcc 8.5.0 20210514

CentOS Stream 9
	Kernel: 5.4.0-167-generic
	Compiler: gcc 11.4.1 20230605

openSUSE Leap 15
	Kernel: 5.4.0-167-generic
	Compiler: gcc 7.5.0

Fedora 38
	Kernel: Depends on container host
	Compiler: clang 16.0.6

Debian Bullseye
	Kernel: 5.4.0-167-generic
	Compiler: gcc 10.2.1-6

RHEL8
	Kernel: 5.4.0-167-generic
	Compiler: gcc 8.5.0 20210514 (Red Hat 8.5.0-20)

Fedora 37
	Kernel: Depends on container host system
	Compiler: gcc 12.3.1

Debian 12
	Kernel: Container Host Kernel
	Compiler: gcc 10.2.1

Fedora 39
	Kernel: Depends on container host
	Compiler: clang 17.0.6

To view detailed results, visit:
https://lab.dpdk.org/results/dashboard/patchsets/29995/

UNH-IOL DPDK Community Lab

To manage your email subscriptions, visit: 
https://lab.dpdk.org/results/dashboard/preferences/subscriptions/