From mboxrd@z Thu Jan  1 00:00:00 1970
Return-Path: <test-report-bounces@dpdk.org>
Received: from mails.dpdk.org (mails.dpdk.org [217.70.189.124])
	by inbox.dpdk.org (Postfix) with ESMTP id 85C43440A6
	for <public@inbox.dpdk.org>; Thu, 23 May 2024 14:08:02 +0200 (CEST)
Received: from mails.dpdk.org (localhost [127.0.0.1])
	by mails.dpdk.org (Postfix) with ESMTP id 81027402B3;
	Thu, 23 May 2024 14:08:02 +0200 (CEST)
Received: from mail-pl1-f226.google.com (mail-pl1-f226.google.com
 [209.85.214.226])
 by mails.dpdk.org (Postfix) with ESMTP id A55A74026C
 for <test-report@dpdk.org>; Thu, 23 May 2024 14:08:00 +0200 (CEST)
Received: by mail-pl1-f226.google.com with SMTP id
 d9443c01a7336-1ed96772f92so20229845ad.0
 for <test-report@dpdk.org>; Thu, 23 May 2024 05:08:00 -0700 (PDT)
DKIM-Signature: v=1; a=rsa-sha256; c=relaxed/relaxed;
 d=iol.unh.edu; s=unh-iol; t=1716466080; x=1717070880; darn=dpdk.org;
 h=references:in-reply-to:cc:to:from:subject:message-id:date:from:to
 :cc:subject:date:message-id:reply-to;
 bh=h3h64qRHB8nqPPCRsEY9S4FqmIAmSyb4wCz+42l6mfs=;
 b=XlqEjwL0ONionovqCeWMqKLoizCFG9Px7AS0duHTl78pOw6L95bLjy4Mmww0kYYG6W
 E0LRUXwiLT2S4qm6j6XVTXzDAa/68G+2A9Qz+7EGZB0GBApCRdeY75AcbI9oaCjCCqmY
 hTTYP3yMqFa8Burl7jc68o+4gzZjvdnBHvypU=
X-Google-DKIM-Signature: v=1; a=rsa-sha256; c=relaxed/relaxed;
 d=1e100.net; s=20230601; t=1716466080; x=1717070880;
 h=references:in-reply-to:cc:to:from:subject:message-id:date
 :x-gm-message-state:from:to:cc:subject:date:message-id:reply-to;
 bh=h3h64qRHB8nqPPCRsEY9S4FqmIAmSyb4wCz+42l6mfs=;
 b=Amf+Y6R5AQ/4/mhOtCJrDWdnka4C9xXcNeBuhdDg4RlMgudVQHYHFOnhv4LhXoQ0oL
 5OjkOkg2YSLjgxbvt8mpHtNvXH3aYHfQHlz57Cxn/t3bWhZN55OXPmARHzObIuittldf
 HxMoXPtJ78obhi3uDKk1yjwfGF+a0YHklBhkxZyKdEgI1Fr4+0jbuJcFWsYeNQZYXNl4
 GrjVtSoRuJuZPZQbgOfqRb/N8dtFmtPgkvqwOgwjKTDy2rHLinm2HbpJFl9sJLoTsg1i
 y/qRI0jccyGSG7LChKZb5+5mHSfbOXJc6/LDlPZru0F0ALmN8STHp+39XU8PVsIgG8EO
 t2MQ==
X-Gm-Message-State: AOJu0YzBG6/nhBWMJgr0ow14YAC9jqIDjcqOer7vtnHC2weMdzR0wz5M
 zdyOu7fOf5qUze0AQwJ1t//krWn2Hrj56Tdl2bADT3+1qBUvmD8Fb2PoKTJbNklnubrA8VtPUob
 af1dtosKuzBdFNlyRFXSD/jlAIQ7CAhRBER96jXkFJwinRSlTJb2HK3A4
X-Google-Smtp-Source: AGHT+IEzQAAZqI0q/vM4+Fv2yMd5GgRH3VA9sgGPE4X574jBbtatJpH62CIttpQFENQV9J8StySJajmA/qxM
X-Received: by 2002:a17:902:d543:b0:1e4:3c7f:c060 with SMTP id
 d9443c01a7336-1f31c9e2a09mr54773315ad.66.1716466079887; 
 Thu, 23 May 2024 05:07:59 -0700 (PDT)
Received: from postal.iol.unh.edu (postal.iol.unh.edu.
 [2606:4100:3880:1234::84]) by smtp-relay.gmail.com with ESMTPS id
 d9443c01a7336-1f3360f6fd5sm2592605ad.129.2024.05.23.05.07.59
 (version=TLS1_2 cipher=ECDHE-ECDSA-AES128-GCM-SHA256 bits=128/128);
 Thu, 23 May 2024 05:07:59 -0700 (PDT)
X-Relaying-Domain: iol.unh.edu
Date: Thu, 23 May 2024 05:07:59 -0700 (PDT)
Message-ID: <664f319f.170a0220.97255.421dSMTPIN_ADDED_MISSING@mx.google.com>
Received: from [172.21.0.6] (unknown [172.18.0.240])
 by postal.iol.unh.edu (Postfix) with ESMTP id 4A2186052538;
 Thu, 23 May 2024 08:07:59 -0400 (EDT)
Subject: |SUCCESS| pw140285 [PATCH] [v3] net/af_xdp: fix umem map size for ze
From: dpdklab@iol.unh.edu
To: Test Report <test-report@dpdk.org>
Cc: dpdk-test-reports@iol.unh.edu
In-Reply-To: <20240523065302.2345392-1-frank.du@intel.com>
References: <20240523065302.2345392-1-frank.du@intel.com>
Content-Type: text/plain
X-BeenThere: test-report@dpdk.org
X-Mailman-Version: 2.1.29
Precedence: list
List-Id: automatic DPDK test reports <test-report.dpdk.org>
List-Unsubscribe: <https://mails.dpdk.org/options/test-report>,
 <mailto:test-report-request@dpdk.org?subject=unsubscribe>
List-Archive: <http://mails.dpdk.org/archives/test-report/>
List-Post: <mailto:test-report@dpdk.org>
List-Help: <mailto:test-report-request@dpdk.org?subject=help>
List-Subscribe: <https://mails.dpdk.org/listinfo/test-report>,
 <mailto:test-report-request@dpdk.org?subject=subscribe>
Errors-To: test-report-bounces@dpdk.org

Test-Label: iol-unit-amd64-testing
Test-Status: SUCCESS
http://dpdk.org/patch/140285

_Testing PASS_

Submitter: Frank Du <frank.du@intel.com>
Date: Thursday, May 23 2024 06:53:02 
DPDK git baseline: Repo:dpdk
  Branch: master
  CommitID:a012926d36f3feb9d17a51c8f1559f466570ec0a

140285 --> testing pass

Test environment and result as below:

+---------------------+----------------+
|     Environment     | dpdk_unit_test |
+=====================+================+
| CentOS Stream 9     | PASS           |
+---------------------+----------------+
| Windows Server 2019 | PASS           |
+---------------------+----------------+
| CentOS Stream 8     | PASS           |
+---------------------+----------------+
| Debian Bullseye     | PASS           |
+---------------------+----------------+
| Fedora 37           | PASS           |
+---------------------+----------------+
| Windows Server 2022 | PASS           |
+---------------------+----------------+
| Fedora 38           | PASS           |
+---------------------+----------------+
| Debian 12           | PASS           |
+---------------------+----------------+
| Ubuntu 22.04        | PASS           |
+---------------------+----------------+


CentOS Stream 9
	Kernel: 5.4.0-167-generic
	Compiler: gcc 11.4.1 20230605

Windows Server 2019
	Kernel: 10.0.17763
	Compiler: clang 14.0 and gcc 8.1.0 (MinGW)

CentOS Stream 8
	Kernel: 5.4.0-167-generic
	Compiler: gcc 8.5.0 20210514

Debian Bullseye
	Kernel: 5.4.0-167-generic
	Compiler: gcc 10.2.1-6

Fedora 37
	Kernel: Depends on container host system
	Compiler: gcc 12.3.1

Windows Server 2022
	Kernel: 10.0.20348.2031
	Compiler: clang 15.0.7, gcc 8.1.0 (MinGW), and MSVC VS 17.9

Fedora 38
	Kernel: Depends on container host
	Compiler: gcc 13.2.1

Debian 12
	Kernel: Container Host Kernel
	Compiler: gcc 10.2.1

Ubuntu 22.04
	Kernel: 5.4.0-167-generic
	Compiler: gcc 11.4.0

To view detailed results, visit:
https://lab.dpdk.org/results/dashboard/patchsets/29995/

UNH-IOL DPDK Community Lab

To manage your email subscriptions, visit: 
https://lab.dpdk.org/results/dashboard/preferences/subscriptions/