From mboxrd@z Thu Jan  1 00:00:00 1970
Return-Path: <test-report-bounces@dpdk.org>
Received: from mails.dpdk.org (mails.dpdk.org [217.70.189.124])
	by inbox.dpdk.org (Postfix) with ESMTP id EC541440A6
	for <public@inbox.dpdk.org>; Thu, 23 May 2024 14:22:15 +0200 (CEST)
Received: from mails.dpdk.org (localhost [127.0.0.1])
	by mails.dpdk.org (Postfix) with ESMTP id E6C82402B3;
	Thu, 23 May 2024 14:22:15 +0200 (CEST)
Received: from mail-pl1-f228.google.com (mail-pl1-f228.google.com
 [209.85.214.228])
 by mails.dpdk.org (Postfix) with ESMTP id 16A5A4026C
 for <test-report@dpdk.org>; Thu, 23 May 2024 14:22:14 +0200 (CEST)
Received: by mail-pl1-f228.google.com with SMTP id
 d9443c01a7336-1f05b669b6cso19401535ad.3
 for <test-report@dpdk.org>; Thu, 23 May 2024 05:22:14 -0700 (PDT)
DKIM-Signature: v=1; a=rsa-sha256; c=relaxed/relaxed;
 d=iol.unh.edu; s=unh-iol; t=1716466933; x=1717071733; darn=dpdk.org;
 h=references:in-reply-to:cc:to:from:subject:message-id:date:from:to
 :cc:subject:date:message-id:reply-to;
 bh=CUT+0Ne5vq5LnTNqmE6NifuXYDuP3iRnq9oGe6a4cKw=;
 b=OKtAWN4hJP5OQtRL+q+G4USsakj3hwaL+zCrfwDdOOsjbAZlaAwCCOxo9Rf47Q5eit
 eGFbmy5WOlWFuH6VFBH5H52hvx0pze1c526+2r/J8IrB3neFjnWX77RGRwQHB88RnlvS
 UzP0p6as9HCK16YeYdMiDcpuPWKfzH3RbUoH0=
X-Google-DKIM-Signature: v=1; a=rsa-sha256; c=relaxed/relaxed;
 d=1e100.net; s=20230601; t=1716466933; x=1717071733;
 h=references:in-reply-to:cc:to:from:subject:message-id:date
 :x-gm-message-state:from:to:cc:subject:date:message-id:reply-to;
 bh=CUT+0Ne5vq5LnTNqmE6NifuXYDuP3iRnq9oGe6a4cKw=;
 b=cC0/miPsdtIZFjt8sEhh3kirtrr8bPNxI0E/Dpv8lR903A0Y2S4I53wdITx82nlo/p
 4uSSmP31IMp3AhnTVS1n57oMU9lDITTVWhtKuGR/O3Sdo/m4iRXGpOIJ80Fq3R8lo8DP
 SwanatxP9KE9o+nZ/0Clb4QrVGFtQYyCL3YvQw86rI4BHf5pCfysi/IwRLVnWwt62wNJ
 4EQ3twy20iqHyYTUiw56PcKprgaJD3H/xg8LUX213l62sc3gazkjD6DfKWqmCQaZ0GXa
 +UXdSTfz1g6J4h7R8NNFjWfMpl6enoEmbBGhEAnjmh+04C5yP6S8uDItN7np5jd3Ihp6
 Houw==
X-Gm-Message-State: AOJu0YyxsOT27bWgYTvkmlB6/4Y14rJpNT94JsppOqsnDOyCsHJDQXf5
 Ft4LantANriT/jzZtoGeeMTqkpP3AttVSvu6Mq6oZtoy/S5rhtnzv84hBu2avCEg63+7ApO1Q+M
 4rfC7shz3tvzcJpoTwCknBgcq5OjOHfknSzOZZqBX
X-Google-Smtp-Source: AGHT+IG4p6Md90ADl5NJPR7uWmS50ZvLq4+qZUst+vE08JGuLwzuLeCOZn2oRyHJdIX0NagHihnceFXWmE80
X-Received: by 2002:a17:902:d4d0:b0:1f2:f4c8:e0d5 with SMTP id
 d9443c01a7336-1f31c7f4658mr54625665ad.0.1716466933348; 
 Thu, 23 May 2024 05:22:13 -0700 (PDT)
Received: from postal.iol.unh.edu (postal.iol.unh.edu. [132.177.123.84])
 by smtp-relay.gmail.com with ESMTPS id
 d9443c01a7336-1ef0bf2995fsm11211455ad.104.2024.05.23.05.22.13
 (version=TLS1_2 cipher=ECDHE-ECDSA-AES128-GCM-SHA256 bits=128/128);
 Thu, 23 May 2024 05:22:13 -0700 (PDT)
X-Relaying-Domain: iol.unh.edu
Date: Thu, 23 May 2024 05:22:13 -0700 (PDT)
Message-ID: <664f34f5.170a0220.4511c.1e70SMTPIN_ADDED_MISSING@mx.google.com>
Received: from [172.21.0.8] (unknown [172.18.0.240])
 by postal.iol.unh.edu (Postfix) with ESMTP id CE34B6052538;
 Thu, 23 May 2024 08:22:12 -0400 (EDT)
Subject: |SUCCESS| pw140287-140288 [PATCH] [v1,3/3] net/mlx5: implement VXLAN
From: dpdklab@iol.unh.edu
To: Test Report <test-report@dpdk.org>
Cc: dpdk-test-reports@iol.unh.edu
In-Reply-To: <20240523072848.896032-4-rongweil@nvidia.com>
References: <20240523072848.896032-4-rongweil@nvidia.com>
Content-Type: text/plain
X-BeenThere: test-report@dpdk.org
X-Mailman-Version: 2.1.29
Precedence: list
List-Id: automatic DPDK test reports <test-report.dpdk.org>
List-Unsubscribe: <https://mails.dpdk.org/options/test-report>,
 <mailto:test-report-request@dpdk.org?subject=unsubscribe>
List-Archive: <http://mails.dpdk.org/archives/test-report/>
List-Post: <mailto:test-report@dpdk.org>
List-Help: <mailto:test-report-request@dpdk.org?subject=help>
List-Subscribe: <https://mails.dpdk.org/listinfo/test-report>,
 <mailto:test-report-request@dpdk.org?subject=subscribe>
Errors-To: test-report-bounces@dpdk.org

Test-Label: iol-compile-arm64-testing
Test-Status: SUCCESS
http://dpdk.org/patch/140288

_Testing PASS_

Submitter: Rongwei Liu <rongweil@nvidia.com>
Date: Thursday, May 23 2024 07:28:48 
DPDK git baseline: Repo:dpdk
  Branch: master
  CommitID:a012926d36f3feb9d17a51c8f1559f466570ec0a

140287-140288 --> testing pass

Test environment and result as below:

+----------------------------------------+--------------------+
|              Environment               | dpdk_meson_compile |
+========================================+====================+
| Ubuntu 20.04 ARM SVE                   | PASS               |
+----------------------------------------+--------------------+
| Debian 12 with MUSDK                   | PASS               |
+----------------------------------------+--------------------+
| Ubuntu 20.04 aarch32 GCC Cross Compile | PASS               |
+----------------------------------------+--------------------+
| Ubuntu 20.04 ARM Clang Cross Compile   | PASS               |
+----------------------------------------+--------------------+
| Fedora 39 (ARM)                        | PASS               |
+----------------------------------------+--------------------+
| Ubuntu 20.04 (ARM)                     | PASS               |
+----------------------------------------+--------------------+
| Fedora 38 (ARM)                        | PASS               |
+----------------------------------------+--------------------+
| Ubuntu 20.04 ARM GCC Cross Compile     | PASS               |
+----------------------------------------+--------------------+
| Fedora 38 (ARM Clang)                  | PASS               |
+----------------------------------------+--------------------+


Ubuntu 20.04 ARM SVE
	Kernel: 5.4.0-167-generic
	Compiler: gcc (Ubuntu 10.5.0-1ubuntu1~20.04) 10.5.0

Debian 12 with MUSDK
	Kernel: Container Host Kernel
	Compiler: gcc 12.2.0

Ubuntu 20.04 aarch32 GCC Cross Compile
	Kernel: 5.4.0-167-generic
	Compiler: gcc 9.4.0

Ubuntu 20.04 ARM Clang Cross Compile
	Kernel: 5.4.0-72-generic
	Compiler: clang 10.0.0-4ubuntu1

Fedora 39 (ARM)
	Kernel: Depends on container host
	Compiler: gcc 13.2.1

Ubuntu 20.04 (ARM)
	Kernel: Container Host Kernel
	Compiler: gcc 9.4.0

Fedora 38 (ARM)
	Kernel: Depends on container host
	Compiler: gcc 13.2.1

Ubuntu 20.04 ARM GCC Cross Compile
	Kernel: 5.4.0-167-generic
	Compiler: aarch64-linux-gnu-gcc (Ubuntu 9.4.0-1ubuntu1~20.04.2) 9.4.0

Fedora 38 (ARM Clang)
	Kernel: Depends on container host
	Compiler: clang 16.0.6

To view detailed results, visit:
https://lab.dpdk.org/results/dashboard/patchsets/29996/

UNH-IOL DPDK Community Lab

To manage your email subscriptions, visit: 
https://lab.dpdk.org/results/dashboard/preferences/subscriptions/