From mboxrd@z Thu Jan  1 00:00:00 1970
Return-Path: <test-report-bounces@dpdk.org>
Received: from mails.dpdk.org (mails.dpdk.org [217.70.189.124])
	by inbox.dpdk.org (Postfix) with ESMTP id AD728440A6
	for <public@inbox.dpdk.org>; Thu, 23 May 2024 14:30:06 +0200 (CEST)
Received: from mails.dpdk.org (localhost [127.0.0.1])
	by mails.dpdk.org (Postfix) with ESMTP id A8151402BF;
	Thu, 23 May 2024 14:30:06 +0200 (CEST)
Received: from mail-il1-f227.google.com (mail-il1-f227.google.com
 [209.85.166.227])
 by mails.dpdk.org (Postfix) with ESMTP id A04804026C
 for <test-report@dpdk.org>; Thu, 23 May 2024 14:30:04 +0200 (CEST)
Received: by mail-il1-f227.google.com with SMTP id
 e9e14a558f8ab-36d93568a58so28231155ab.3
 for <test-report@dpdk.org>; Thu, 23 May 2024 05:30:04 -0700 (PDT)
DKIM-Signature: v=1; a=rsa-sha256; c=relaxed/relaxed;
 d=iol.unh.edu; s=unh-iol; t=1716467404; x=1717072204; darn=dpdk.org;
 h=references:in-reply-to:cc:to:from:subject:message-id:date:from:to
 :cc:subject:date:message-id:reply-to;
 bh=jg6WM+AudIbqKVqrqI1YAU52X7ketHuPHx5uKwXyw00=;
 b=gce0APGia/yIArCRVXPllPvsO3yp2pjrWn95OsEjwQO+qobvuR2DxTCgvrBwnfUOpO
 Nl7E1Yz3dsjzK1iuc5PuZBHLgSQ/O95ZXjH9iNncOgXTn2Hj/PJ2J1wgUMDVc4jIgV8S
 RChUls7Dmb51dFREOIYx6tHLxytk7yZSZWvTA=
X-Google-DKIM-Signature: v=1; a=rsa-sha256; c=relaxed/relaxed;
 d=1e100.net; s=20230601; t=1716467404; x=1717072204;
 h=references:in-reply-to:cc:to:from:subject:message-id:date
 :x-gm-message-state:from:to:cc:subject:date:message-id:reply-to;
 bh=jg6WM+AudIbqKVqrqI1YAU52X7ketHuPHx5uKwXyw00=;
 b=jwYDctDhe6AfQ2Bl7bAQMSEy37lnz5iISo3u3Ug5XpC3eCS1WXp9ifIAT7RQ/kv+Lu
 U96q2YJrjzVfJwKccd9Vg13CpO6Pr4DP14AdDsMr6XsL0GVSPjWNP1jmLdybqVx+snFK
 ZIs2hEUfd9QUPaThZvzs/oxJO5/C8GlpEG5o8JNU364ZrCuE7aNzyoVszk6xmHhjgAM2
 MBakpzPdybHdmEvPmHyZUhoAq0G7BbE2/A1tbXxNMdHVTGY2I5dAtPLiIBOqLE0xPFTo
 TDiEZ6hzvtj1nugqW6jWxBmEPtQRuAvBYAn+ZnbEelsfX1sl1jb62ihzJaIv8ecaBQkS
 x/1Q==
X-Gm-Message-State: AOJu0Yxx3ILJEjzxS4I1LuDrEXg3Gd6/rctSO15bk75rZlvZcZtP7vBr
 ZpYIPZLM9cZ8hZaUicedJZ+JuVQeqal4eEHk3W1au+bvQik3+5ZSC5kpL+4r4PuIUgtAsKlhjlN
 R5iulic9pCJdyWh8nskKSnJCcJex25MWXgE8j3zTR
X-Google-Smtp-Source: AGHT+IG52vLbY1S6ZhxCRjm5KyRdTlZb0BNr2hd3EVQzW3JERuAWnO2kIHib+cN0RfpxTM4PJtdk8YfLszU0
X-Received: by 2002:a92:cda7:0:b0:36c:c86b:9172 with SMTP id
 e9e14a558f8ab-371f9ed5ff0mr56564745ab.21.1716467404058; 
 Thu, 23 May 2024 05:30:04 -0700 (PDT)
Received: from postal.iol.unh.edu (postal.iol.unh.edu. [132.177.123.84])
 by smtp-relay.gmail.com with ESMTPS id
 e9e14a558f8ab-36cb9d23456sm16865355ab.11.2024.05.23.05.30.03
 (version=TLS1_2 cipher=ECDHE-ECDSA-AES128-GCM-SHA256 bits=128/128);
 Thu, 23 May 2024 05:30:04 -0700 (PDT)
X-Relaying-Domain: iol.unh.edu
Date: Thu, 23 May 2024 05:30:04 -0700 (PDT)
Message-ID: <664f36cc.050a0220.e157d.9360SMTPIN_ADDED_MISSING@mx.google.com>
Received: from [172.17.0.3] (unknown [172.18.0.214])
 by postal.iol.unh.edu (Postfix) with ESMTP id AB79E6052538;
 Thu, 23 May 2024 08:30:03 -0400 (EDT)
Subject: |SUCCESS| pw140285 [PATCH] [v3] net/af_xdp: fix umem map size for ze
From: dpdklab@iol.unh.edu
To: Test Report <test-report@dpdk.org>
Cc: dpdk-test-reports@iol.unh.edu
In-Reply-To: <20240523065302.2345392-1-frank.du@intel.com>
References: <20240523065302.2345392-1-frank.du@intel.com>
Content-Type: text/plain
X-BeenThere: test-report@dpdk.org
X-Mailman-Version: 2.1.29
Precedence: list
List-Id: automatic DPDK test reports <test-report.dpdk.org>
List-Unsubscribe: <https://mails.dpdk.org/options/test-report>,
 <mailto:test-report-request@dpdk.org?subject=unsubscribe>
List-Archive: <http://mails.dpdk.org/archives/test-report/>
List-Post: <mailto:test-report@dpdk.org>
List-Help: <mailto:test-report-request@dpdk.org?subject=help>
List-Subscribe: <https://mails.dpdk.org/listinfo/test-report>,
 <mailto:test-report-request@dpdk.org?subject=subscribe>
Errors-To: test-report-bounces@dpdk.org

Test-Label: iol-compile-arm64-testing
Test-Status: SUCCESS
http://dpdk.org/patch/140285

_Testing PASS_

Submitter: Frank Du <frank.du@intel.com>
Date: Thursday, May 23 2024 06:53:02 
DPDK git baseline: Repo:dpdk
  Branch: master
  CommitID:a012926d36f3feb9d17a51c8f1559f466570ec0a

140285 --> testing pass

Test environment and result as below:

+----------------------------------------+--------------------+
|              Environment               | dpdk_meson_compile |
+========================================+====================+
| Ubuntu 20.04 ARM SVE                   | PASS               |
+----------------------------------------+--------------------+
| Debian 12 with MUSDK                   | PASS               |
+----------------------------------------+--------------------+
| Fedora 37 (ARM)                        | PASS               |
+----------------------------------------+--------------------+
| Fedora 38 (ARM)                        | PASS               |
+----------------------------------------+--------------------+
| Fedora 39 (ARM)                        | PASS               |
+----------------------------------------+--------------------+
| Ubuntu 20.04 (ARM)                     | PASS               |
+----------------------------------------+--------------------+
| Debian 12 (arm)                        | PASS               |
+----------------------------------------+--------------------+
| Debian 11 (Buster) (ARM)               | PASS               |
+----------------------------------------+--------------------+
| CentOS Stream 9 (ARM)                  | PASS               |
+----------------------------------------+--------------------+
| Ubuntu 20.04 aarch32 GCC Cross Compile | PASS               |
+----------------------------------------+--------------------+


Ubuntu 20.04 ARM SVE
	Kernel: 5.4.0-167-generic
	Compiler: gcc (Ubuntu 10.5.0-1ubuntu1~20.04) 10.5.0

Debian 12 with MUSDK
	Kernel: Container Host Kernel
	Compiler: gcc 12.2.0

Fedora 37 (ARM)
	Kernel: Depends on container host
	Compiler: gcc 12.3.1

Fedora 38 (ARM)
	Kernel: Depends on container host
	Compiler: gcc 13.2.1

Fedora 39 (ARM)
	Kernel: Depends on container host
	Compiler: gcc 13.2.1

Ubuntu 20.04 (ARM)
	Kernel: Container Host Kernel
	Compiler: gcc 9.4.0

Debian 12 (arm)
	Kernel: Container Host Kernel
	Compiler: gcc 12.2.0

Debian 11 (Buster) (ARM)
	Kernel: Container Host Kernel
	Compiler: gcc 10.2.1

CentOS Stream 9 (ARM)
	Kernel: Container Host Kernel
	Compiler: gcc 11.4.1

Ubuntu 20.04 aarch32 GCC Cross Compile
	Kernel: 5.4.0-167-generic
	Compiler: gcc 9.4.0

To view detailed results, visit:
https://lab.dpdk.org/results/dashboard/patchsets/29995/

UNH-IOL DPDK Community Lab

To manage your email subscriptions, visit: 
https://lab.dpdk.org/results/dashboard/preferences/subscriptions/