From mboxrd@z Thu Jan  1 00:00:00 1970
Return-Path: <test-report-bounces@dpdk.org>
Received: from mails.dpdk.org (mails.dpdk.org [217.70.189.124])
	by inbox.dpdk.org (Postfix) with ESMTP id 86059440A6
	for <public@inbox.dpdk.org>; Thu, 23 May 2024 14:44:20 +0200 (CEST)
Received: from mails.dpdk.org (localhost [127.0.0.1])
	by mails.dpdk.org (Postfix) with ESMTP id 81AE7402E2;
	Thu, 23 May 2024 14:44:20 +0200 (CEST)
Received: from mail-qv1-f98.google.com (mail-qv1-f98.google.com
 [209.85.219.98]) by mails.dpdk.org (Postfix) with ESMTP id 8DCCC4026C
 for <test-report@dpdk.org>; Thu, 23 May 2024 14:44:18 +0200 (CEST)
Received: by mail-qv1-f98.google.com with SMTP id
 6a1803df08f44-6ab86d61491so7433626d6.2
 for <test-report@dpdk.org>; Thu, 23 May 2024 05:44:18 -0700 (PDT)
DKIM-Signature: v=1; a=rsa-sha256; c=relaxed/relaxed;
 d=iol.unh.edu; s=unh-iol; t=1716468258; x=1717073058; darn=dpdk.org;
 h=references:in-reply-to:cc:to:from:subject:message-id:date:from:to
 :cc:subject:date:message-id:reply-to;
 bh=f27UUGh7/C9iW9d32gYFWo/CfUfESHdarG4rIkAeWUA=;
 b=ErO8eq+RVFz9FEr+yCzFPQcEAj8hAElyAtl4sAOcpQ4wdnfUjUjpDAa4BdxpIM7jH6
 pq999dFogzjF59PsyzkFM5ppzO/u+5erOVBylK3rAUvfiMIfwBPavhGqEIVY5ZGrha2g
 Hgi08QjUJMZ0XhYL1+9W97XSugbAnmaV0l9GA=
X-Google-DKIM-Signature: v=1; a=rsa-sha256; c=relaxed/relaxed;
 d=1e100.net; s=20230601; t=1716468258; x=1717073058;
 h=references:in-reply-to:cc:to:from:subject:message-id:date
 :x-gm-message-state:from:to:cc:subject:date:message-id:reply-to;
 bh=f27UUGh7/C9iW9d32gYFWo/CfUfESHdarG4rIkAeWUA=;
 b=bViTLPnJmRy5jGTOJOLNmDE54ev/C43v2N2pzaU/gxTNqYWCh4hft2M3jb8ZCn7lmA
 o8E9of/dvubK7Uz/5cnjMuCbZBAUOpUgmnW6Yj9LW/LGime1dm+1cNFM9wyu1K2NIvU2
 cC8cGItTMOLwrG2iXue9N1e+3aejOIlg2b21WXXeHS+y50b9tWAJ1dsZPJNlwqCuaXY+
 rIqhMBtk9VEaT0l5J9Tk1WIsXbnFF2k/QuKi2qDHfH29Ha0P+IIOxCvlUe+90E4iA1om
 YcBOLXQY0i7lr+N2RKAcKn3riGHYDXb15M2anJSc/+bUv7EEyotcFK+VvLYUDn2vga8u
 IMZA==
X-Gm-Message-State: AOJu0YzBm4L13n2v9fy5xyi1mWZpCcCrdwuCglouPIHtjbmbgjY+t0Jm
 n/HCLnEEgUkXgbIZ5Ner4Vw2/9oIOoUYMYcBTttLhzCC+xpY1iGEaz05e8+1T+RA8zmQoHZ87Xb
 nOMhjyeqWa2Ik+04+CybxRbudsXfFh4Ji2kWIopxtpHZprQY+x0Q4Jm0R
X-Google-Smtp-Source: AGHT+IF7nditJ2GLp9TGFHuVBpqisXfEEq6n5LZPKZABSeB2eeJ4qHAUux8DbsTc004SYFzmnjLPgfCy83jk
X-Received: by 2002:a0c:e14a:0:b0:6ab:8e06:f5d8 with SMTP id
 6a1803df08f44-6ab8e06fc63mr20874196d6.29.1716468257965; 
 Thu, 23 May 2024 05:44:17 -0700 (PDT)
Received: from postal.iol.unh.edu (postal.iol.unh.edu.
 [2606:4100:3880:1234::84]) by smtp-relay.gmail.com with ESMTPS id
 6a1803df08f44-6aa8b1e53d1sm9011276d6.59.2024.05.23.05.44.17
 (version=TLS1_2 cipher=ECDHE-ECDSA-AES128-GCM-SHA256 bits=128/128);
 Thu, 23 May 2024 05:44:17 -0700 (PDT)
X-Relaying-Domain: iol.unh.edu
Date: Thu, 23 May 2024 05:44:17 -0700 (PDT)
Message-ID: <664f3a21.050a0220.6650b.da23SMTPIN_ADDED_MISSING@mx.google.com>
Received: from [172.21.0.8] (unknown [172.18.0.240])
 by postal.iol.unh.edu (Postfix) with ESMTP id AFD0C6052538;
 Thu, 23 May 2024 08:44:17 -0400 (EDT)
Subject: |SUCCESS| pw140287-140288 [PATCH] [v1,3/3] net/mlx5: implement VXLAN
From: dpdklab@iol.unh.edu
To: Test Report <test-report@dpdk.org>
Cc: dpdk-test-reports@iol.unh.edu
In-Reply-To: <20240523072848.896032-4-rongweil@nvidia.com>
References: <20240523072848.896032-4-rongweil@nvidia.com>
Content-Type: text/plain
X-BeenThere: test-report@dpdk.org
X-Mailman-Version: 2.1.29
Precedence: list
List-Id: automatic DPDK test reports <test-report.dpdk.org>
List-Unsubscribe: <https://mails.dpdk.org/options/test-report>,
 <mailto:test-report-request@dpdk.org?subject=unsubscribe>
List-Archive: <http://mails.dpdk.org/archives/test-report/>
List-Post: <mailto:test-report@dpdk.org>
List-Help: <mailto:test-report-request@dpdk.org?subject=help>
List-Subscribe: <https://mails.dpdk.org/listinfo/test-report>,
 <mailto:test-report-request@dpdk.org?subject=subscribe>
Errors-To: test-report-bounces@dpdk.org

Test-Label: iol-compile-arm64-testing
Test-Status: SUCCESS
http://dpdk.org/patch/140288

_Testing PASS_

Submitter: Rongwei Liu <rongweil@nvidia.com>
Date: Thursday, May 23 2024 07:28:48 
DPDK git baseline: Repo:dpdk
  Branch: master
  CommitID:a012926d36f3feb9d17a51c8f1559f466570ec0a

140287-140288 --> testing pass

Test environment and result as below:

+----------------------------------------+--------------------+
|              Environment               | dpdk_meson_compile |
+========================================+====================+
| Ubuntu 20.04 ARM SVE                   | PASS               |
+----------------------------------------+--------------------+
| Debian 12 with MUSDK                   | PASS               |
+----------------------------------------+--------------------+
| Ubuntu 20.04 aarch32 GCC Cross Compile | PASS               |
+----------------------------------------+--------------------+
| Ubuntu 20.04 ARM Clang Cross Compile   | PASS               |
+----------------------------------------+--------------------+
| Fedora 39 (ARM)                        | PASS               |
+----------------------------------------+--------------------+
| Ubuntu 20.04 (ARM)                     | PASS               |
+----------------------------------------+--------------------+
| Fedora 38 (ARM)                        | PASS               |
+----------------------------------------+--------------------+
| Ubuntu 20.04 ARM GCC Cross Compile     | PASS               |
+----------------------------------------+--------------------+
| Fedora 38 (ARM Clang)                  | PASS               |
+----------------------------------------+--------------------+
| Debian 11 (Buster) (ARM)               | PASS               |
+----------------------------------------+--------------------+
| CentOS Stream 9 (ARM)                  | PASS               |
+----------------------------------------+--------------------+
| Fedora 37 (ARM)                        | PASS               |
+----------------------------------------+--------------------+


Ubuntu 20.04 ARM SVE
	Kernel: 5.4.0-167-generic
	Compiler: gcc (Ubuntu 10.5.0-1ubuntu1~20.04) 10.5.0

Debian 12 with MUSDK
	Kernel: Container Host Kernel
	Compiler: gcc 12.2.0

Ubuntu 20.04 aarch32 GCC Cross Compile
	Kernel: 5.4.0-167-generic
	Compiler: gcc 9.4.0

Ubuntu 20.04 ARM Clang Cross Compile
	Kernel: 5.4.0-72-generic
	Compiler: clang 10.0.0-4ubuntu1

Fedora 39 (ARM)
	Kernel: Depends on container host
	Compiler: gcc 13.2.1

Ubuntu 20.04 (ARM)
	Kernel: Container Host Kernel
	Compiler: gcc 9.4.0

Fedora 38 (ARM)
	Kernel: Depends on container host
	Compiler: gcc 13.2.1

Ubuntu 20.04 ARM GCC Cross Compile
	Kernel: 5.4.0-167-generic
	Compiler: aarch64-linux-gnu-gcc (Ubuntu 9.4.0-1ubuntu1~20.04.2) 9.4.0

Fedora 38 (ARM Clang)
	Kernel: Depends on container host
	Compiler: clang 16.0.6

Debian 11 (Buster) (ARM)
	Kernel: Container Host Kernel
	Compiler: gcc 10.2.1

CentOS Stream 9 (ARM)
	Kernel: Container Host Kernel
	Compiler: gcc 11.4.1

Fedora 37 (ARM)
	Kernel: Depends on container host
	Compiler: gcc 12.3.1

To view detailed results, visit:
https://lab.dpdk.org/results/dashboard/patchsets/29996/

UNH-IOL DPDK Community Lab

To manage your email subscriptions, visit: 
https://lab.dpdk.org/results/dashboard/preferences/subscriptions/