From mboxrd@z Thu Jan  1 00:00:00 1970
Return-Path: <test-report-bounces@dpdk.org>
Received: from mails.dpdk.org (mails.dpdk.org [217.70.189.124])
	by inbox.dpdk.org (Postfix) with ESMTP id 9C6EA440B4
	for <public@inbox.dpdk.org>; Fri, 24 May 2024 11:44:22 +0200 (CEST)
Received: from mails.dpdk.org (localhost [127.0.0.1])
	by mails.dpdk.org (Postfix) with ESMTP id 97621402D7;
	Fri, 24 May 2024 11:44:22 +0200 (CEST)
Received: from mail-qv1-f98.google.com (mail-qv1-f98.google.com
 [209.85.219.98]) by mails.dpdk.org (Postfix) with ESMTP id C949C400D7
 for <test-report@dpdk.org>; Fri, 24 May 2024 11:44:21 +0200 (CEST)
Received: by mail-qv1-f98.google.com with SMTP id
 6a1803df08f44-6ab9ce74bddso3594056d6.0
 for <test-report@dpdk.org>; Fri, 24 May 2024 02:44:21 -0700 (PDT)
DKIM-Signature: v=1; a=rsa-sha256; c=relaxed/relaxed;
 d=iol.unh.edu; s=unh-iol; t=1716543861; x=1717148661; darn=dpdk.org;
 h=references:in-reply-to:cc:to:from:subject:message-id:date:from:to
 :cc:subject:date:message-id:reply-to;
 bh=FlwlqHB2mVdJZd91vWPavq6QMxT/rEEe5gNAuACYYxk=;
 b=RF02NPusIYhcWA6QeHo6sX/onDiAsoh6OgTEXbbFCUS8C2MrTcvtu/egsxEhsliAye
 E9ZihpaiOLMbGZt5F3JBkUzeyPtp5dGASX4/thCyd+jMBm0/RZmSZr+XKpOPlAKe5oyj
 QrllJlT3ZExZueUnkouMLJOxkj8BDYIVjkpCI=
X-Google-DKIM-Signature: v=1; a=rsa-sha256; c=relaxed/relaxed;
 d=1e100.net; s=20230601; t=1716543861; x=1717148661;
 h=references:in-reply-to:cc:to:from:subject:message-id:date
 :x-gm-message-state:from:to:cc:subject:date:message-id:reply-to;
 bh=FlwlqHB2mVdJZd91vWPavq6QMxT/rEEe5gNAuACYYxk=;
 b=Eq4ypwmqqBapzAV/zJ9G2pYwhsG06uto2DKgE0feOTgKK9kjbXq4YRiKHXgwfdP1Ms
 GSoLZm521zACACTRFToJ3Z0ZlVeeyPNtS865T9veH8ruko4zbQedGZAC1pWzzCx/BScM
 VRhZ3LLD8pV1y4UO3ymypslNGQxHs1SZkoGpQypcqoiowEpiGsg7btlGV+NpqLiAZJBe
 n5wGxyu89k1nwVoWvHiezYLKaeIQj3vfXWTmSFVXC4gtw5N6+75quuhVKmPFEvUnPxV0
 oEEHblDvrNrUjb+VPFrtaCupySWDIzilzqIjrZwGuxPn4bimbe3trXYOGTz1lyHWEC0V
 VTXA==
X-Gm-Message-State: AOJu0Yz9OJ9jAjCpFU3rkIx7lLWtaVBKhUEYuuVc4//4pNxj7B4vpuRD
 MmNGJW8PuxTbQIgH6MecOG9i+9uREU29+kvoxyaGuxLM9ZPc0kCE4PKekx6RvtsKFZJIIJOBkVI
 VnRas+ZORZOeE5laxR//Z7gAdSoJhly8HNgC4qwBw
X-Google-Smtp-Source: AGHT+IHeqUJtno/0JZZXtaKChHMXxLOQsGtW1eeR4+2lDZT9inDlgf0toLOepXnGJ5AFoVS3HVRF3gpJg3+T
X-Received: by 2002:a05:6214:3a0a:b0:6aa:4a99:eaba with SMTP id
 6a1803df08f44-6abcd18e43dmr16687356d6.55.1716543861233; 
 Fri, 24 May 2024 02:44:21 -0700 (PDT)
Received: from postal.iol.unh.edu (postal.iol.unh.edu. [132.177.123.84])
 by smtp-relay.gmail.com with ESMTPS id
 6a1803df08f44-6ac07086a17sm3015976d6.20.2024.05.24.02.44.21
 (version=TLS1_2 cipher=ECDHE-ECDSA-AES128-GCM-SHA256 bits=128/128);
 Fri, 24 May 2024 02:44:21 -0700 (PDT)
X-Relaying-Domain: iol.unh.edu
Date: Fri, 24 May 2024 02:44:21 -0700 (PDT)
Message-ID: <66506175.d40a0220.c32f5.463dSMTPIN_ADDED_MISSING@mx.google.com>
Received: from [172.21.0.13] (unknown [172.18.0.240])
 by postal.iol.unh.edu (Postfix) with ESMTP id AC043604A954;
 Fri, 24 May 2024 05:44:20 -0400 (EDT)
Subject: |SUCCESS| pw140293-140296 [PATCH] [RFC,4/4] net/ice: remove use of V
From: dpdklab@iol.unh.edu
To: Test Report <test-report@dpdk.org>
Cc: dpdk-test-reports@iol.unh.edu
In-Reply-To: <20240523162604.2600-5-konstantin.v.ananyev@yandex.ru>
References: <20240523162604.2600-5-konstantin.v.ananyev@yandex.ru>
Content-Type: text/plain
X-BeenThere: test-report@dpdk.org
X-Mailman-Version: 2.1.29
Precedence: list
List-Id: automatic DPDK test reports <test-report.dpdk.org>
List-Unsubscribe: <https://mails.dpdk.org/options/test-report>,
 <mailto:test-report-request@dpdk.org?subject=unsubscribe>
List-Archive: <http://mails.dpdk.org/archives/test-report/>
List-Post: <mailto:test-report@dpdk.org>
List-Help: <mailto:test-report-request@dpdk.org?subject=help>
List-Subscribe: <https://mails.dpdk.org/listinfo/test-report>,
 <mailto:test-report-request@dpdk.org?subject=subscribe>
Errors-To: test-report-bounces@dpdk.org

Test-Label: iol-unit-arm64-testing
Test-Status: SUCCESS
http://dpdk.org/patch/140296

_Testing PASS_

Submitter: Konstantin Ananyev <konstantin.v.ananyev@yandex.ru>
Date: Thursday, May 23 2024 16:26:04 
DPDK git baseline: Repo:dpdk
  Branch: master
  CommitID:19be1a0ba8af8a513adb011a3017d583d6312fc9

140293-140296 --> testing pass

Test environment and result as below:

+-----------------------------+----------------+------------------------------+---------------------------+--------------+
|         Environment         | dpdk_unit_test | cryptodev_sw_snow3g_autotest | cryptodev_sw_zuc_autotest | lpm_autotest |
+=============================+================+==============================+===========================+==============+
| CentOS Stream 9 (ARM)       | PASS           | SKIPPED                      | SKIPPED                   | SKIPPED      |
+-----------------------------+----------------+------------------------------+---------------------------+--------------+
| Debian 11 (Buster) (ARM)    | PASS           | SKIPPED                      | SKIPPED                   | SKIPPED      |
+-----------------------------+----------------+------------------------------+---------------------------+--------------+
| Debian 12 (arm)             | PASS           | PASS                         | PASS                      | SKIPPED      |
+-----------------------------+----------------+------------------------------+---------------------------+--------------+
| Fedora 37 (ARM)             | PASS           | SKIPPED                      | SKIPPED                   | SKIPPED      |
+-----------------------------+----------------+------------------------------+---------------------------+--------------+
| Fedora 39 (ARM)             | PASS           | SKIPPED                      | SKIPPED                   | SKIPPED      |
+-----------------------------+----------------+------------------------------+---------------------------+--------------+
| Fedora 38 (ARM)             | PASS           | SKIPPED                      | SKIPPED                   | SKIPPED      |
+-----------------------------+----------------+------------------------------+---------------------------+--------------+
| Ubuntu 20.04 (ARM)          | PASS           | SKIPPED                      | SKIPPED                   | SKIPPED      |
+-----------------------------+----------------+------------------------------+---------------------------+--------------+
| 32-bit Ubuntu 20.04.4 (ARM) | PASS           | SKIPPED                      | SKIPPED                   | SKIPPED      |
+-----------------------------+----------------+------------------------------+---------------------------+--------------+
| Fedora 38 (ARM Clang)       | PASS           | SKIPPED                      | SKIPPED                   | SKIPPED      |
+-----------------------------+----------------+------------------------------+---------------------------+--------------+
| Ubuntu 20.04 ARM SVE        | SKIPPED        | SKIPPED                      | SKIPPED                   | PASS         |
+-----------------------------+----------------+------------------------------+---------------------------+--------------+


CentOS Stream 9 (ARM)
	Kernel: Container Host Kernel
	Compiler: gcc 11.4.1

Debian 11 (Buster) (ARM)
	Kernel: Container Host Kernel
	Compiler: gcc 10.2.1

Debian 12 (arm)
	Kernel: Container Host Kernel
	Compiler: gcc 12.2.0

Fedora 37 (ARM)
	Kernel: Depends on container host
	Compiler: gcc 12.3.1

Fedora 39 (ARM)
	Kernel: Depends on container host
	Compiler: gcc 13.2.1

Fedora 38 (ARM)
	Kernel: Depends on container host
	Compiler: gcc 13.2.1

Ubuntu 20.04 (ARM)
	Kernel: Container Host Kernel
	Compiler: gcc 9.4.0

32-bit Ubuntu 20.04.4 (ARM)
	Kernel: 5.4.0-155-generic aarch64
	Compiler: gcc 9.4

Fedora 38 (ARM Clang)
	Kernel: Depends on container host
	Compiler: clang 16.0.6

Ubuntu 20.04 ARM SVE
	Kernel: 5.4.0-167-generic
	Compiler: gcc (Ubuntu 10.5.0-1ubuntu1~20.04) 10.5.0

To view detailed results, visit:
https://lab.dpdk.org/results/dashboard/patchsets/30001/

UNH-IOL DPDK Community Lab

To manage your email subscriptions, visit: 
https://lab.dpdk.org/results/dashboard/preferences/subscriptions/