From mboxrd@z Thu Jan  1 00:00:00 1970
Return-Path: <test-report-bounces@dpdk.org>
Received: from mails.dpdk.org (mails.dpdk.org [217.70.189.124])
	by inbox.dpdk.org (Postfix) with ESMTP id 5DA88440B6
	for <public@inbox.dpdk.org>; Fri, 24 May 2024 16:45:51 +0200 (CEST)
Received: from mails.dpdk.org (localhost [127.0.0.1])
	by mails.dpdk.org (Postfix) with ESMTP id 58CE44064A;
	Fri, 24 May 2024 16:45:51 +0200 (CEST)
Received: from mail-yw1-f228.google.com (mail-yw1-f228.google.com
 [209.85.128.228])
 by mails.dpdk.org (Postfix) with ESMTP id 6D8A4402F0
 for <test-report@dpdk.org>; Fri, 24 May 2024 16:45:50 +0200 (CEST)
Received: by mail-yw1-f228.google.com with SMTP id
 00721157ae682-627e3368394so38984497b3.2
 for <test-report@dpdk.org>; Fri, 24 May 2024 07:45:50 -0700 (PDT)
DKIM-Signature: v=1; a=rsa-sha256; c=relaxed/relaxed;
 d=iol.unh.edu; s=unh-iol; t=1716561950; x=1717166750; darn=dpdk.org;
 h=references:in-reply-to:cc:to:from:subject:message-id:date:from:to
 :cc:subject:date:message-id:reply-to;
 bh=RYohCTkO6gQAajlF7/tXtAZOJWBji4tJZyfdBI7khGw=;
 b=FxJF0YAZ4aZzpgPQ6UeAFx2G8T05fAleR14DHWRgmLIgNeQQvqA3HGRwQzKoNomGHN
 wgy3Ka6fBDka0NMwOGE2OQZKt28006fRMCr4ABZyBphuuuKqJ6CEwUGrurVFLKgJGDXU
 OYBWperkShCU0tUkMtxaItx/G6qLrwh8plJ3Y=
X-Google-DKIM-Signature: v=1; a=rsa-sha256; c=relaxed/relaxed;
 d=1e100.net; s=20230601; t=1716561950; x=1717166750;
 h=references:in-reply-to:cc:to:from:subject:message-id:date
 :x-gm-message-state:from:to:cc:subject:date:message-id:reply-to;
 bh=RYohCTkO6gQAajlF7/tXtAZOJWBji4tJZyfdBI7khGw=;
 b=RTI2e3mKuNg+1tNHZUA1i2y2GfnvRp8DkeZxKk+RB84uyfVi4vr4ZvvR4iL36eJDe0
 Z1c31ICFW/CF/GsUZh4c2+8W0tUyE/o0qY9NHe3T0/5uL1e6p3/lgMTgtEALY/u9qQuI
 R046Ow3/MUG5nqSp+sLPsuTRNdwr/pLE4KmBx7U6oG/4xaiMEnRgyAwGEetl02nb7D4z
 2Y4CKPH25hiIP0y2KtlrYM9/TpvwDAu/h22ywoFPqytiX5rgo36PhIEpk48zS/UVsTpu
 hsW5wuz6AQanq5iSP7SX8hRLL4eg+xT9r1aUhrevraVCJj+K1EUbSQDDzuljhTggQwKt
 iLcw==
X-Gm-Message-State: AOJu0YxWmN9RU5X7ka/slzL2yPj8UKrnddqfzLyzzNxkvK31t5sFlvx8
 o4SmdL5CzQYQATnA7qjY9qeUCeuvcKEw7mfwH4sgQrFWEep6lZ9DDbutSuL+pNk/Kcu9Ak7xfIg
 fMWGsHuSwuayGxijsKWQdFn/OcMwTDWrM4RRwqqn6
X-Google-Smtp-Source: AGHT+IHkyF910PQ7ArZXICQdLXC35cJKLlwcZ3uoO4mr7jULDEj6Y4n/9H5wFeneCncoLC97Q3uvdzW1JFG+
X-Received: by 2002:a0d:e216:0:b0:627:ee15:a93c with SMTP id
 00721157ae682-62a08d7e170mr24994517b3.17.1716561949829; 
 Fri, 24 May 2024 07:45:49 -0700 (PDT)
Received: from postal.iol.unh.edu (postal.iol.unh.edu. [132.177.123.84])
 by smtp-relay.gmail.com with ESMTPS id
 00721157ae682-62a0a4db8f2sm2116207b3.54.2024.05.24.07.45.49
 (version=TLS1_2 cipher=ECDHE-ECDSA-AES128-GCM-SHA256 bits=128/128);
 Fri, 24 May 2024 07:45:49 -0700 (PDT)
X-Relaying-Domain: iol.unh.edu
Date: Fri, 24 May 2024 07:45:49 -0700 (PDT)
Message-ID: <6650a81d.050a0220.3d9ab.3de5SMTPIN_ADDED_MISSING@mx.google.com>
Received: from [172.21.0.7] (unknown [172.18.0.240])
 by postal.iol.unh.edu (Postfix) with ESMTP id 75BA6605C373;
 Fri, 24 May 2024 10:45:49 -0400 (EDT)
Subject: |SUCCESS| pw140305 [PATCH] doc: remove empty section from testpmd gu
From: dpdklab@iol.unh.edu
To: Test Report <test-report@dpdk.org>
Cc: dpdk-test-reports@iol.unh.edu
In-Reply-To: <20240524133559.1496325-1-thomas@monjalon.net>
References: <20240524133559.1496325-1-thomas@monjalon.net>
Content-Type: text/plain
X-BeenThere: test-report@dpdk.org
X-Mailman-Version: 2.1.29
Precedence: list
List-Id: automatic DPDK test reports <test-report.dpdk.org>
List-Unsubscribe: <https://mails.dpdk.org/options/test-report>,
 <mailto:test-report-request@dpdk.org?subject=unsubscribe>
List-Archive: <http://mails.dpdk.org/archives/test-report/>
List-Post: <mailto:test-report@dpdk.org>
List-Help: <mailto:test-report-request@dpdk.org?subject=help>
List-Subscribe: <https://mails.dpdk.org/listinfo/test-report>,
 <mailto:test-report-request@dpdk.org?subject=subscribe>
Errors-To: test-report-bounces@dpdk.org

Test-Label: iol-unit-amd64-testing
Test-Status: SUCCESS
http://dpdk.org/patch/140305

_Testing PASS_

Submitter: Thomas Monjalon <thomas@monjalon.net>
Date: Friday, May 24 2024 13:35:59 
DPDK git baseline: Repo:dpdk
  Branch: master
  CommitID:2dbb63594a9a985e2c8639b57f9fcd1468b9de97

140305 --> testing pass

Test environment and result as below:

+---------------------+----------------+
|     Environment     | dpdk_unit_test |
+=====================+================+
| CentOS Stream 8     | PASS           |
+---------------------+----------------+
| CentOS Stream 9     | PASS           |
+---------------------+----------------+
| Debian 12           | PASS           |
+---------------------+----------------+
| Windows Server 2019 | PASS           |
+---------------------+----------------+
| Debian Bullseye     | PASS           |
+---------------------+----------------+
| Fedora 37           | PASS           |
+---------------------+----------------+
| Fedora 39           | PASS           |
+---------------------+----------------+
| Fedora 38           | PASS           |
+---------------------+----------------+
| openSUSE Leap 15    | PASS           |
+---------------------+----------------+
| RHEL8               | PASS           |
+---------------------+----------------+


CentOS Stream 8
	Kernel: 5.4.0-167-generic
	Compiler: gcc 8.5.0 20210514

CentOS Stream 9
	Kernel: 5.4.0-167-generic
	Compiler: gcc 11.4.1 20230605

Debian 12
	Kernel: Container Host Kernel
	Compiler: gcc 10.2.1

Windows Server 2019
	Kernel: 10.0.17763
	Compiler: clang 14.0 and gcc 8.1.0 (MinGW)

Debian Bullseye
	Kernel: 5.4.0-167-generic
	Compiler: gcc 10.2.1-6

Fedora 37
	Kernel: Depends on container host system
	Compiler: gcc 12.3.1

Fedora 39
	Kernel: Depends on container host
	Compiler: gcc 13.2.1

Fedora 38
	Kernel: Depends on container host
	Compiler: gcc 13.2.1

openSUSE Leap 15
	Kernel: 5.4.0-167-generic
	Compiler: gcc 7.5.0

RHEL8
	Kernel: 5.4.0-167-generic
	Compiler: gcc 8.5.0 20210514 (Red Hat 8.5.0-20)

To view detailed results, visit:
https://lab.dpdk.org/results/dashboard/patchsets/30004/

UNH-IOL DPDK Community Lab

To manage your email subscriptions, visit: 
https://lab.dpdk.org/results/dashboard/preferences/subscriptions/