From mboxrd@z Thu Jan  1 00:00:00 1970
Return-Path: <test-report-bounces@dpdk.org>
Received: from mails.dpdk.org (mails.dpdk.org [217.70.189.124])
	by inbox.dpdk.org (Postfix) with ESMTP id 875CE440C5
	for <public@inbox.dpdk.org>; Sat, 25 May 2024 17:09:53 +0200 (CEST)
Received: from mails.dpdk.org (localhost [127.0.0.1])
	by mails.dpdk.org (Postfix) with ESMTP id 91D40402BF;
	Sat, 25 May 2024 17:09:52 +0200 (CEST)
Received: from mail-qv1-f100.google.com (mail-qv1-f100.google.com
 [209.85.219.100])
 by mails.dpdk.org (Postfix) with ESMTP id E13F84027E
 for <test-report@dpdk.org>; Sat, 25 May 2024 17:09:50 +0200 (CEST)
Received: by mail-qv1-f100.google.com with SMTP id
 6a1803df08f44-6ab9e011f62so16815626d6.0
 for <test-report@dpdk.org>; Sat, 25 May 2024 08:09:50 -0700 (PDT)
DKIM-Signature: v=1; a=rsa-sha256; c=relaxed/relaxed;
 d=iol.unh.edu; s=unh-iol; t=1716649790; x=1717254590; darn=dpdk.org;
 h=references:in-reply-to:cc:to:from:subject:message-id:date:from:to
 :cc:subject:date:message-id:reply-to;
 bh=wwlEiGFBw8LoUWw1qwfdsxhUlaQGZZ8IN0vH656KKQE=;
 b=RJJ1MyDxeepJAXUleC3MdlsFhEmxAaJ/NvKHK3DsUgBkFmp0j2T2Hcpqp5wI24gkfu
 0C9O30Om6K+gN0enDBjaGttsLQjDpQvu7LMvhDjMZlcGbsWHhQDL0M+AklTW592ruP8V
 MvFC/kiAk313jXdPKUona4aqIiPXxa8qp/84k=
X-Google-DKIM-Signature: v=1; a=rsa-sha256; c=relaxed/relaxed;
 d=1e100.net; s=20230601; t=1716649790; x=1717254590;
 h=references:in-reply-to:cc:to:from:subject:message-id:date
 :x-gm-message-state:from:to:cc:subject:date:message-id:reply-to;
 bh=wwlEiGFBw8LoUWw1qwfdsxhUlaQGZZ8IN0vH656KKQE=;
 b=fH+rZ9Kc8oTfS/Ku6i0rUUoUeJTNOVSl22E593mQTMt9URYPQijbTUJNbj++TAclNj
 sx5WcWP6NVENBmfwTh9lSg8eUkqOhIuESJ6rGtzw219T17/Vgxzfm+Wx8v8qP0og6GSJ
 PfYgugS6e0vTEqOrgN0O8ZK6HQgi/N546J5GTQDZlCWegZPe4HVBAwEY+/wQrKOK0EDy
 pjJREJ09K8UocJD3lrGECsPbSRZIGjk9Cly/NDneuInhydrurS9WaYGn1KKp1EjNHwbc
 YLpsv8s6oZm+G8DUeCBxcregeCQFGWwVh2RRvLLdqfByTNx9iwNCOciNcP1BMaVVt4F3
 G8Bg==
X-Gm-Message-State: AOJu0Yxn5A6Znwst7uOR2qM+PFS5MtZb/YCtF4shDTmzFIKUi4opjwnJ
 Ph09xzcSkWxyRR5Qi2M5LN68Gjvg5FKeSgCSzLYNGK3kJR4j529lqfk0zac908XLWOpds4Z3nF0
 bGuio4l6LbKMIBF5YQ5nc40DNmXADyP+FYtpUig2+fk1kAqDr89vcb7RE
X-Google-Smtp-Source: AGHT+IHdg2bwYMhKP76B4leV6cocB9DZh1Ls9YXnJMUUMwUdPbZjzS/iMby3q6C0AtrP6qxaUcnesswyFaqd
X-Received: by 2002:a05:6214:5010:b0:6ad:764d:bf39 with SMTP id
 6a1803df08f44-6ad764dc1e9mr3138496d6.11.1716649790259; 
 Sat, 25 May 2024 08:09:50 -0700 (PDT)
Received: from postal.iol.unh.edu (postal.iol.unh.edu.
 [2606:4100:3880:1234::84]) by smtp-relay.gmail.com with ESMTPS id
 6a1803df08f44-6ac070ab4a4sm6748616d6.37.2024.05.25.08.09.50
 (version=TLS1_2 cipher=ECDHE-ECDSA-AES128-GCM-SHA256 bits=128/128);
 Sat, 25 May 2024 08:09:50 -0700 (PDT)
X-Relaying-Domain: iol.unh.edu
Date: Sat, 25 May 2024 08:09:50 -0700 (PDT)
Message-ID: <6651ff3e.d40a0220.7da7f.ce5eSMTPIN_ADDED_MISSING@mx.google.com>
Received: from [172.21.0.6] (unknown [172.18.0.240])
 by postal.iol.unh.edu (Postfix) with ESMTP id E83F160524C7;
 Sat, 25 May 2024 11:09:49 -0400 (EDT)
Subject: |SUCCESS| pw140312-140314 [PATCH] [v2,3/3] compress/uadk: support bu
From: dpdklab@iol.unh.edu
To: Test Report <test-report@dpdk.org>
Cc: dpdk-test-reports@iol.unh.edu
In-Reply-To: <20240525140753.122-4-zhangfei.gao@linaro.org>
References: <20240525140753.122-4-zhangfei.gao@linaro.org>
Content-Type: text/plain
X-BeenThere: test-report@dpdk.org
X-Mailman-Version: 2.1.29
Precedence: list
List-Id: automatic DPDK test reports <test-report.dpdk.org>
List-Unsubscribe: <https://mails.dpdk.org/options/test-report>,
 <mailto:test-report-request@dpdk.org?subject=unsubscribe>
List-Archive: <http://mails.dpdk.org/archives/test-report/>
List-Post: <mailto:test-report@dpdk.org>
List-Help: <mailto:test-report-request@dpdk.org?subject=help>
List-Subscribe: <https://mails.dpdk.org/listinfo/test-report>,
 <mailto:test-report-request@dpdk.org?subject=subscribe>
Errors-To: test-report-bounces@dpdk.org

Test-Label: iol-unit-amd64-testing
Test-Status: SUCCESS
http://dpdk.org/patch/140314

_Testing PASS_

Submitter: Zhangfei Gao <zhangfei.gao@linaro.org>
Date: Saturday, May 25 2024 14:07:53 
DPDK git baseline: Repo:dpdk
  Branch: master
  CommitID:6f80df8cb0f889203d7cd27766abcc6ebc720e33

140312-140314 --> testing pass

Test environment and result as below:

+---------------------+----------------+
|     Environment     | dpdk_unit_test |
+=====================+================+
| Windows Server 2019 | PASS           |
+---------------------+----------------+
| CentOS Stream 8     | PASS           |
+---------------------+----------------+
| CentOS Stream 9     | PASS           |
+---------------------+----------------+
| Debian Bullseye     | PASS           |
+---------------------+----------------+
| Fedora 37           | PASS           |
+---------------------+----------------+
| Debian 12           | PASS           |
+---------------------+----------------+


Windows Server 2019
	Kernel: 10.0.17763
	Compiler: clang 14.0 and gcc 8.1.0 (MinGW)

CentOS Stream 8
	Kernel: 5.4.0-167-generic
	Compiler: gcc 8.5.0 20210514

CentOS Stream 9
	Kernel: 5.4.0-167-generic
	Compiler: gcc 11.4.1 20230605

Debian Bullseye
	Kernel: 5.4.0-167-generic
	Compiler: gcc 10.2.1-6

Fedora 37
	Kernel: Depends on container host system
	Compiler: gcc 12.3.1

Debian 12
	Kernel: Container Host Kernel
	Compiler: gcc 10.2.1

To view detailed results, visit:
https://lab.dpdk.org/results/dashboard/patchsets/30011/

UNH-IOL DPDK Community Lab

To manage your email subscriptions, visit: 
https://lab.dpdk.org/results/dashboard/preferences/subscriptions/