From mboxrd@z Thu Jan  1 00:00:00 1970
Return-Path: <test-report-bounces@dpdk.org>
Received: from mails.dpdk.org (mails.dpdk.org [217.70.189.124])
	by inbox.dpdk.org (Postfix) with ESMTP id CAE3E440C5
	for <public@inbox.dpdk.org>; Sat, 25 May 2024 17:10:58 +0200 (CEST)
Received: from mails.dpdk.org (localhost [127.0.0.1])
	by mails.dpdk.org (Postfix) with ESMTP id C5338402BF;
	Sat, 25 May 2024 17:10:58 +0200 (CEST)
Received: from mail-qv1-f100.google.com (mail-qv1-f100.google.com
 [209.85.219.100])
 by mails.dpdk.org (Postfix) with ESMTP id ECE114027E
 for <test-report@dpdk.org>; Sat, 25 May 2024 17:10:56 +0200 (CEST)
Received: by mail-qv1-f100.google.com with SMTP id
 6a1803df08f44-6ab9d406101so12095596d6.3
 for <test-report@dpdk.org>; Sat, 25 May 2024 08:10:56 -0700 (PDT)
DKIM-Signature: v=1; a=rsa-sha256; c=relaxed/relaxed;
 d=iol.unh.edu; s=unh-iol; t=1716649856; x=1717254656; darn=dpdk.org;
 h=references:in-reply-to:cc:to:from:subject:message-id:date:from:to
 :cc:subject:date:message-id:reply-to;
 bh=2luoGep9R2GNmpWwTD6T9G8HKIdXAjn12j1JJwfSrpY=;
 b=gJBzPFaFRr54S/OywhLtlPG/Y+OQKOlW6akHxTq04RxyulNGuuCNqIQv7y8uToFWLV
 O8AjL7ZmiDc19Ib0epvZC5CC1m2ikJJscBmRJz5mzl1boGrNCcZeH8ZI7LYP+StMem62
 EfZ1ALH3qoE5ztvxGSVu9hVu1mghieNJ9NsGo=
X-Google-DKIM-Signature: v=1; a=rsa-sha256; c=relaxed/relaxed;
 d=1e100.net; s=20230601; t=1716649856; x=1717254656;
 h=references:in-reply-to:cc:to:from:subject:message-id:date
 :x-gm-message-state:from:to:cc:subject:date:message-id:reply-to;
 bh=2luoGep9R2GNmpWwTD6T9G8HKIdXAjn12j1JJwfSrpY=;
 b=dgGM3EX1sS5IMc6wL2fV4SAD+21N0iCrbAkOAUD8os4O8otxkANOJjZxZrXNuVuNzZ
 n3Nv4aSBEv0buVoIjhGjNeUqQy5wOcZSHxb7g7Odnep6QZHee9QBRNDMT7slqbt8FMVK
 /otpyYvwusdwqABaw8A5AZ7fBH1d8Dz65MbeqrmTGQB+mmORzpflh0DfsOpcJbd87gn2
 jcAYPdfct/YHyKFXLlAYet+eqZC0j39d2aeqxjyVgGAqAYM5rpKg6l0Tk9iSXcZC4KBT
 9jRcypnfGB9xM9Ierebr4WiMfom2/C/tyBEq511wrrpQqXSOu9oviVQFeXcL1UaLX8cQ
 5tKg==
X-Gm-Message-State: AOJu0YznUw7bXxxYYNBiVccL+BGwpoD1F+KQEsCZbA7trlBG+fj8C5gK
 69hvrC26X3d9c1KyNuZVClf+v1HyekybVFWxKUBfurb7q3W/bdAEbca4Tg4T6Asb4s5qfAWX8WE
 9evI5PKPDEvmPxlANwRgl/murT5jHJhUgAv164wHN
X-Google-Smtp-Source: AGHT+IEWcgCF2TbV4sA+TsEnEQ0qN0Y7pJ1BxZHsBkBsVQahkjBY+byZQ01zUcG6eU2p47FnxjU+etY6MAij
X-Received: by 2002:ad4:5590:0:b0:6ad:5a91:3f1d with SMTP id
 6a1803df08f44-6ad5a9140ebmr35323076d6.40.1716649856373; 
 Sat, 25 May 2024 08:10:56 -0700 (PDT)
Received: from postal.iol.unh.edu (postal.iol.unh.edu. [132.177.123.84])
 by smtp-relay.gmail.com with ESMTPS id
 d75a77b69052e-43fb15fb667sm3170811cf.0.2024.05.25.08.10.56
 (version=TLS1_2 cipher=ECDHE-ECDSA-AES128-GCM-SHA256 bits=128/128);
 Sat, 25 May 2024 08:10:56 -0700 (PDT)
X-Relaying-Domain: iol.unh.edu
Date: Sat, 25 May 2024 08:10:56 -0700 (PDT)
Message-ID: <6651ff80.c80a0220.c8e1a.72e0SMTPIN_ADDED_MISSING@mx.google.com>
Received: from [172.21.0.6] (unknown [172.18.0.240])
 by postal.iol.unh.edu (Postfix) with ESMTP id 0914760524C7;
 Sat, 25 May 2024 11:10:56 -0400 (EDT)
Subject: |SUCCESS| pw140312-140314 [PATCH] [v2,3/3] compress/uadk: support bu
From: dpdklab@iol.unh.edu
To: Test Report <test-report@dpdk.org>
Cc: dpdk-test-reports@iol.unh.edu
In-Reply-To: <20240525140753.122-4-zhangfei.gao@linaro.org>
References: <20240525140753.122-4-zhangfei.gao@linaro.org>
Content-Type: text/plain
X-BeenThere: test-report@dpdk.org
X-Mailman-Version: 2.1.29
Precedence: list
List-Id: automatic DPDK test reports <test-report.dpdk.org>
List-Unsubscribe: <https://mails.dpdk.org/options/test-report>,
 <mailto:test-report-request@dpdk.org?subject=unsubscribe>
List-Archive: <http://mails.dpdk.org/archives/test-report/>
List-Post: <mailto:test-report@dpdk.org>
List-Help: <mailto:test-report-request@dpdk.org?subject=help>
List-Subscribe: <https://mails.dpdk.org/listinfo/test-report>,
 <mailto:test-report-request@dpdk.org?subject=subscribe>
Errors-To: test-report-bounces@dpdk.org

Test-Label: iol-compile-amd64-testing
Test-Status: SUCCESS
http://dpdk.org/patch/140314

_Testing PASS_

Submitter: Zhangfei Gao <zhangfei.gao@linaro.org>
Date: Saturday, May 25 2024 14:07:53 
DPDK git baseline: Repo:dpdk
  Branch: master
  CommitID:6f80df8cb0f889203d7cd27766abcc6ebc720e33

140312-140314 --> testing pass

Test environment and result as below:

+---------------------+--------------------+------------------+----------------------+-------------------+
|     Environment     | dpdk_meson_compile | dpdk_compile_ovs | dpdk_mingw64_compile | dpdk_msvc_compile |
+=====================+====================+==================+======================+===================+
| FreeBSD 13.3        | PASS               | SKIPPED          | SKIPPED              | SKIPPED           |
+---------------------+--------------------+------------------+----------------------+-------------------+
| CentOS Stream 8     | PASS               | PASS             | SKIPPED              | SKIPPED           |
+---------------------+--------------------+------------------+----------------------+-------------------+
| Windows Server 2022 | PASS               | SKIPPED          | PASS                 | PASS              |
+---------------------+--------------------+------------------+----------------------+-------------------+
| Windows Server 2019 | PASS               | SKIPPED          | PASS                 | SKIPPED           |
+---------------------+--------------------+------------------+----------------------+-------------------+
| CentOS Stream 9     | PASS               | PASS             | SKIPPED              | SKIPPED           |
+---------------------+--------------------+------------------+----------------------+-------------------+
| FreeBSD 14.0        | PASS               | SKIPPED          | SKIPPED              | SKIPPED           |
+---------------------+--------------------+------------------+----------------------+-------------------+
| Debian Bullseye     | PASS               | PASS             | SKIPPED              | SKIPPED           |
+---------------------+--------------------+------------------+----------------------+-------------------+
| Debian 12           | PASS               | PASS             | SKIPPED              | SKIPPED           |
+---------------------+--------------------+------------------+----------------------+-------------------+
| Fedora 37           | PASS               | PASS             | SKIPPED              | SKIPPED           |
+---------------------+--------------------+------------------+----------------------+-------------------+
| Ubuntu 22.04        | PASS               | PASS             | SKIPPED              | SKIPPED           |
+---------------------+--------------------+------------------+----------------------+-------------------+
| Fedora 39           | PASS               | PASS             | SKIPPED              | SKIPPED           |
+---------------------+--------------------+------------------+----------------------+-------------------+
| Fedora 38           | PASS               | PASS             | SKIPPED              | SKIPPED           |
+---------------------+--------------------+------------------+----------------------+-------------------+
| openSUSE Leap 15    | PASS               | PASS             | SKIPPED              | SKIPPED           |
+---------------------+--------------------+------------------+----------------------+-------------------+
| RHEL8               | PASS               | PASS             | SKIPPED              | SKIPPED           |
+---------------------+--------------------+------------------+----------------------+-------------------+
| Alpine              | PASS               | SKIPPED          | SKIPPED              | SKIPPED           |
+---------------------+--------------------+------------------+----------------------+-------------------+


FreeBSD 13.3
	Kernel: 13.3-RELEASE-p1
	Compiler: clang 17.0.6

CentOS Stream 8
	Kernel: 5.4.0-167-generic
	Compiler: gcc 8.5.0 20210514

Windows Server 2022
	Kernel: 10.0.20348.2031
	Compiler: clang 15.0.7, gcc 8.1.0 (MinGW), and MSVC VS 17.9

Windows Server 2019
	Kernel: 10.0.17763
	Compiler: clang 14.0 and gcc 8.1.0 (MinGW)

CentOS Stream 9
	Kernel: 5.4.0-167-generic
	Compiler: gcc 11.4.1 20230605

FreeBSD 14.0
	Kernel: 14.0
	Compiler: clang 16.0.6

Debian Bullseye
	Kernel: 5.4.0-167-generic
	Compiler: gcc 10.2.1-6

Debian 12
	Kernel: Container Host Kernel
	Compiler: gcc 10.2.1

Fedora 37
	Kernel: Depends on container host system
	Compiler: gcc 12.3.1

Ubuntu 22.04
	Kernel: 5.4.0-167-generic
	Compiler: gcc 11.4.0

Fedora 39
	Kernel: Depends on container host
	Compiler: gcc 13.2.1

Fedora 38
	Kernel: Depends on container host
	Compiler: gcc 13.2.1

openSUSE Leap 15
	Kernel: 5.4.0-167-generic
	Compiler: gcc 7.5.0

RHEL8
	Kernel: 5.4.0-167-generic
	Compiler: gcc 8.5.0 20210514 (Red Hat 8.5.0-20)

Alpine
	Kernel: 5.4.0-167-generic
	Compiler: gcc (Alpine 13.2.1_git20231014) 13.2.1 20231014

To view detailed results, visit:
https://lab.dpdk.org/results/dashboard/patchsets/30011/

UNH-IOL DPDK Community Lab

To manage your email subscriptions, visit: 
https://lab.dpdk.org/results/dashboard/preferences/subscriptions/