From mboxrd@z Thu Jan  1 00:00:00 1970
Return-Path: <test-report-bounces@dpdk.org>
Received: from mails.dpdk.org (mails.dpdk.org [217.70.189.124])
	by inbox.dpdk.org (Postfix) with ESMTP id CDF66440C5
	for <public@inbox.dpdk.org>; Sat, 25 May 2024 17:55:59 +0200 (CEST)
Received: from mails.dpdk.org (localhost [127.0.0.1])
	by mails.dpdk.org (Postfix) with ESMTP id C9A2C402BF;
	Sat, 25 May 2024 17:55:59 +0200 (CEST)
Received: from mail-oa1-f97.google.com (mail-oa1-f97.google.com
 [209.85.160.97]) by mails.dpdk.org (Postfix) with ESMTP id 36EC24027E
 for <test-report@dpdk.org>; Sat, 25 May 2024 17:55:54 +0200 (CEST)
Received: by mail-oa1-f97.google.com with SMTP id
 586e51a60fabf-24fd4f615bfso168216fac.3
 for <test-report@dpdk.org>; Sat, 25 May 2024 08:55:54 -0700 (PDT)
DKIM-Signature: v=1; a=rsa-sha256; c=relaxed/relaxed;
 d=iol.unh.edu; s=unh-iol; t=1716652553; x=1717257353; darn=dpdk.org;
 h=references:in-reply-to:cc:to:from:subject:message-id:date:from:to
 :cc:subject:date:message-id:reply-to;
 bh=BG5YV9zHayDokqia0vqxGu+a08FUUhKiP7wQYMimipA=;
 b=ETbc9Bs5Mb/U9oSxhj0rbyqyzd2vfq8yH0fBhwV9wcEVrs1yMVvWSzx8ZWlPdoqN/L
 Kvubx8p0zuX1D09PY6IO6z8fU632ughwX92Qw/PUDzdVmDk1rC6LQwuyMLOgZc+RKX/R
 yoeIwkMY54GU7M6tsaJozQxWD9eFSai1QUXTM=
X-Google-DKIM-Signature: v=1; a=rsa-sha256; c=relaxed/relaxed;
 d=1e100.net; s=20230601; t=1716652553; x=1717257353;
 h=references:in-reply-to:cc:to:from:subject:message-id:date
 :x-gm-message-state:from:to:cc:subject:date:message-id:reply-to;
 bh=BG5YV9zHayDokqia0vqxGu+a08FUUhKiP7wQYMimipA=;
 b=FnS0aomj9As7x7z1i6lnTpryO06MrWPN3FeBR+8u6Yh0hlRlGdx2r/8TmMjdiNAO+s
 1KgnQzP7fRsyCXBspVt/Og8eOcEGIIrtnaHKT8eZxc1ZVVw6ba8UINket7HxCbG/FFvR
 vFObicW2nvqjG5dBeJNt6BFPYlfP4YIfZacAZbsepXVYLJoJnhSSi/5kwkDN8WJOpEi4
 8wwDo2JEBSe9j4qdifWOStxHTy3pdj1pyYbptf41+QEfev1bfEqIHhFFjjDgWLw8zWMB
 wRiEewqPapom5SSVn9GWPVenFiej9wy+uOgLrdOZFcypiLfUUbZaIbWGEfxxov3lJLsi
 Vv3Q==
X-Gm-Message-State: AOJu0YyJ5ujeL+85CXVckZxUPKBNG8vP8lxnyTnNuiN5vlNwOX4e8fFv
 JUrI2HLV/hJG9t+ZyGpuxcb9o3XoZrlEajSYVnSD8TtDLHaFCG9OZzOSZdVy7dtDlnqdgGUKgJp
 Kbdikp8CwVk/cGegEhUas1S+OiJDma6O2pUEZEEGn
X-Google-Smtp-Source: AGHT+IGqMQmj8GHPRUtaJz7ij3PVwNYKZ7F/x6iiSDO7rV6ieZ7Am1fr3KSFleqQ18uEsLaCl0p1es/RAilE
X-Received: by 2002:a05:6870:9724:b0:23d:9f6b:5d41 with SMTP id
 586e51a60fabf-24ca0df4355mr5660368fac.0.1716652553517; 
 Sat, 25 May 2024 08:55:53 -0700 (PDT)
Received: from postal.iol.unh.edu (postal.iol.unh.edu. [132.177.123.84])
 by smtp-relay.gmail.com with ESMTPS id
 586e51a60fabf-24ca1cf819asm416987fac.6.2024.05.25.08.55.53
 (version=TLS1_2 cipher=ECDHE-ECDSA-AES128-GCM-SHA256 bits=128/128);
 Sat, 25 May 2024 08:55:53 -0700 (PDT)
X-Relaying-Domain: iol.unh.edu
Date: Sat, 25 May 2024 08:55:53 -0700 (PDT)
Message-ID: <66520a09.050a0220.1b33.908bSMTPIN_ADDED_MISSING@mx.google.com>
Received: from [172.21.0.6] (unknown [172.18.0.240])
 by postal.iol.unh.edu (Postfix) with ESMTP id EFF2960524C7;
 Sat, 25 May 2024 11:55:52 -0400 (EDT)
Subject: |SUCCESS| pw140311 [PATCH] event/dsw: support explicit release only 
From: dpdklab@iol.unh.edu
To: Test Report <test-report@dpdk.org>
Cc: dpdk-test-reports@iol.unh.edu
In-Reply-To: <20240524192437.183960-1-mattias.ronnblom@ericsson.com>
References: <20240524192437.183960-1-mattias.ronnblom@ericsson.com>
Content-Type: text/plain
X-BeenThere: test-report@dpdk.org
X-Mailman-Version: 2.1.29
Precedence: list
List-Id: automatic DPDK test reports <test-report.dpdk.org>
List-Unsubscribe: <https://mails.dpdk.org/options/test-report>,
 <mailto:test-report-request@dpdk.org?subject=unsubscribe>
List-Archive: <http://mails.dpdk.org/archives/test-report/>
List-Post: <mailto:test-report@dpdk.org>
List-Help: <mailto:test-report-request@dpdk.org?subject=help>
List-Subscribe: <https://mails.dpdk.org/listinfo/test-report>,
 <mailto:test-report-request@dpdk.org?subject=subscribe>
Errors-To: test-report-bounces@dpdk.org

Test-Label: iol-compile-arm64-testing
Test-Status: SUCCESS
http://dpdk.org/patch/140311

_Testing PASS_

Submitter: Mattias Ronnblom <mattias.ronnblom@ericsson.com>
Date: Friday, May 24 2024 19:24:37 
DPDK git baseline: Repo:dpdk
  Branch: master
  CommitID:6f80df8cb0f889203d7cd27766abcc6ebc720e33

140311 --> testing pass

Test environment and result as below:

+--------------------------+--------------------+
|       Environment        | dpdk_meson_compile |
+==========================+====================+
| Debian 12 with MUSDK     | PASS               |
+--------------------------+--------------------+
| Ubuntu 20.04 (ARM)       | PASS               |
+--------------------------+--------------------+
| Fedora 39 (ARM)          | PASS               |
+--------------------------+--------------------+
| Fedora 37 (ARM)          | PASS               |
+--------------------------+--------------------+
| Debian 12 (arm)          | PASS               |
+--------------------------+--------------------+
| Ubuntu 20.04 ARM SVE     | PASS               |
+--------------------------+--------------------+
| Fedora 38 (ARM)          | PASS               |
+--------------------------+--------------------+
| Debian 11 (Buster) (ARM) | PASS               |
+--------------------------+--------------------+
| CentOS Stream 9 (ARM)    | PASS               |
+--------------------------+--------------------+


Debian 12 with MUSDK
	Kernel: Container Host Kernel
	Compiler: gcc 12.2.0

Ubuntu 20.04 (ARM)
	Kernel: Container Host Kernel
	Compiler: gcc 9.4.0

Fedora 39 (ARM)
	Kernel: Depends on container host
	Compiler: gcc 13.2.1

Fedora 37 (ARM)
	Kernel: Depends on container host
	Compiler: gcc 12.3.1

Debian 12 (arm)
	Kernel: Container Host Kernel
	Compiler: gcc 12.2.0

Ubuntu 20.04 ARM SVE
	Kernel: 5.4.0-167-generic
	Compiler: gcc (Ubuntu 10.5.0-1ubuntu1~20.04) 10.5.0

Fedora 38 (ARM)
	Kernel: Depends on container host
	Compiler: gcc 13.2.1

Debian 11 (Buster) (ARM)
	Kernel: Container Host Kernel
	Compiler: gcc 10.2.1

CentOS Stream 9 (ARM)
	Kernel: Container Host Kernel
	Compiler: gcc 11.4.1

To view detailed results, visit:
https://lab.dpdk.org/results/dashboard/patchsets/30010/

UNH-IOL DPDK Community Lab

To manage your email subscriptions, visit: 
https://lab.dpdk.org/results/dashboard/preferences/subscriptions/