From mboxrd@z Thu Jan  1 00:00:00 1970
Return-Path: <test-report-bounces@dpdk.org>
Received: from mails.dpdk.org (mails.dpdk.org [217.70.189.124])
	by inbox.dpdk.org (Postfix) with ESMTP id D6CF3440C6
	for <public@inbox.dpdk.org>; Sat, 25 May 2024 18:16:33 +0200 (CEST)
Received: from mails.dpdk.org (localhost [127.0.0.1])
	by mails.dpdk.org (Postfix) with ESMTP id D2EA6402BF;
	Sat, 25 May 2024 18:16:33 +0200 (CEST)
Received: from mail-yw1-f228.google.com (mail-yw1-f228.google.com
 [209.85.128.228])
 by mails.dpdk.org (Postfix) with ESMTP id 607974027E
 for <test-report@dpdk.org>; Sat, 25 May 2024 18:16:32 +0200 (CEST)
Received: by mail-yw1-f228.google.com with SMTP id
 00721157ae682-62a08091c2bso20636357b3.0
 for <test-report@dpdk.org>; Sat, 25 May 2024 09:16:32 -0700 (PDT)
DKIM-Signature: v=1; a=rsa-sha256; c=relaxed/relaxed;
 d=iol.unh.edu; s=unh-iol; t=1716653792; x=1717258592; darn=dpdk.org;
 h=references:in-reply-to:cc:to:from:subject:message-id:date:from:to
 :cc:subject:date:message-id:reply-to;
 bh=+6N8FjEuXm0IOXld+eePQK0Xj7mPPU6R/h0uW/wfk2s=;
 b=D5VMNl6JnIF3aKbUMjEAhcyoKHL+0KwP8VJNpdxxBWNn94mYGhqur79EuP0u2+WzP4
 mJVvNy4kttkQDkBFb1/dIqBiOWrFVMUIoNKMSf5lEngGdN7IUpbUgyGs87nXL2PvDHZ6
 bG+8DoKvm6/IQASmD7/P6PQms5Kwf4v5qroDc=
X-Google-DKIM-Signature: v=1; a=rsa-sha256; c=relaxed/relaxed;
 d=1e100.net; s=20230601; t=1716653792; x=1717258592;
 h=references:in-reply-to:cc:to:from:subject:message-id:date
 :x-gm-message-state:from:to:cc:subject:date:message-id:reply-to;
 bh=+6N8FjEuXm0IOXld+eePQK0Xj7mPPU6R/h0uW/wfk2s=;
 b=I6OeUcsozt4cHB/IO3LWEAIywQjLzASlFVqldcnW+qQPN+0VwDdTl/27NVtWWMVuZs
 aCbi1jh+dKnPWXFegmCzHR2THrviNbU88zIVpNrX6NYtNkaG3O2RBpAdAVRJWXCEz+NY
 O+OzEHhUybIjsnUAl1ofdbC5qJb6ifqwB2tuf5+PzW7JaTvfWSIFLwEbAP5RGndTln+g
 01ub1MEIsn3cOORHIaLEXb5IV4gfMeHrzxWcUujhftFUKhtwIp/V0r4nI50epqXjBVz1
 b69gvu6yujiXTpDGx3FVVPRRpRqUtHa2CRniAXobqB0wLqdGIonpcL/w30DyT9SXE1xY
 MU7g==
X-Gm-Message-State: AOJu0YwOLg51S2umeuy2/yCzLzbzDIlnoV6ykKY6F6/Yy29kdZGlEjBb
 JVVl1G8tY7ntnxGckrWNZ8w8ixj1QXiKHJW4HXlDHzD7ood8l+cWHJT3ldd0sLa5CQX65PZdLhr
 Mrpmn3HgwRbTEBvCtr6g0KgX0LLxg5Cj1r/6e12hE4PpYcgMOn2DkAd4v
X-Google-Smtp-Source: AGHT+IEuKAR+8lw+Psmxi5kO7kJiyTskTyNyN32DeWc9WFhQ1+NheDKOhD8wN28hUj+t4zcHXhL4lVaZYNwI
X-Received: by 2002:a0d:eacb:0:b0:615:a86:f77b with SMTP id
 00721157ae682-62a08de0788mr49610257b3.26.1716653791808; 
 Sat, 25 May 2024 09:16:31 -0700 (PDT)
Received: from postal.iol.unh.edu (postal.iol.unh.edu.
 [2606:4100:3880:1234::84]) by smtp-relay.gmail.com with ESMTPS id
 00721157ae682-62a0a50c482sm4353167b3.68.2024.05.25.09.16.31
 (version=TLS1_2 cipher=ECDHE-ECDSA-AES128-GCM-SHA256 bits=128/128);
 Sat, 25 May 2024 09:16:31 -0700 (PDT)
X-Relaying-Domain: iol.unh.edu
Date: Sat, 25 May 2024 09:16:31 -0700 (PDT)
Message-ID: <66520edf.050a0220.f34f9.9068SMTPIN_ADDED_MISSING@mx.google.com>
Received: from [172.21.0.6] (unknown [172.18.0.240])
 by postal.iol.unh.edu (Postfix) with ESMTP id 7167A60524C7;
 Sat, 25 May 2024 12:16:31 -0400 (EDT)
Subject: |SUCCESS| pw140311 [PATCH] event/dsw: support explicit release only 
From: dpdklab@iol.unh.edu
To: Test Report <test-report@dpdk.org>
Cc: dpdk-test-reports@iol.unh.edu
In-Reply-To: <20240524192437.183960-1-mattias.ronnblom@ericsson.com>
References: <20240524192437.183960-1-mattias.ronnblom@ericsson.com>
Content-Type: text/plain
X-BeenThere: test-report@dpdk.org
X-Mailman-Version: 2.1.29
Precedence: list
List-Id: automatic DPDK test reports <test-report.dpdk.org>
List-Unsubscribe: <https://mails.dpdk.org/options/test-report>,
 <mailto:test-report-request@dpdk.org?subject=unsubscribe>
List-Archive: <http://mails.dpdk.org/archives/test-report/>
List-Post: <mailto:test-report@dpdk.org>
List-Help: <mailto:test-report-request@dpdk.org?subject=help>
List-Subscribe: <https://mails.dpdk.org/listinfo/test-report>,
 <mailto:test-report-request@dpdk.org?subject=subscribe>
Errors-To: test-report-bounces@dpdk.org

Test-Label: iol-compile-amd64-testing
Test-Status: SUCCESS
http://dpdk.org/patch/140311

_Testing PASS_

Submitter: Mattias Ronnblom <mattias.ronnblom@ericsson.com>
Date: Friday, May 24 2024 19:24:37 
DPDK git baseline: Repo:dpdk
  Branch: master
  CommitID:6f80df8cb0f889203d7cd27766abcc6ebc720e33

140311 --> testing pass

Test environment and result as below:

+---------------------+--------------------+----------------------+-------------------+------------------+
|     Environment     | dpdk_meson_compile | dpdk_mingw64_compile | dpdk_msvc_compile | dpdk_compile_ovs |
+=====================+====================+======================+===================+==================+
| FreeBSD 13.3        | PASS               | SKIPPED              | SKIPPED           | SKIPPED          |
+---------------------+--------------------+----------------------+-------------------+------------------+
| Windows Server 2019 | PASS               | PASS                 | SKIPPED           | SKIPPED          |
+---------------------+--------------------+----------------------+-------------------+------------------+
| Windows Server 2022 | PASS               | PASS                 | PASS              | SKIPPED          |
+---------------------+--------------------+----------------------+-------------------+------------------+
| FreeBSD 14.0        | PASS               | SKIPPED              | SKIPPED           | SKIPPED          |
+---------------------+--------------------+----------------------+-------------------+------------------+
| CentOS Stream 9     | PASS               | SKIPPED              | SKIPPED           | PASS             |
+---------------------+--------------------+----------------------+-------------------+------------------+
| CentOS Stream 8     | PASS               | SKIPPED              | SKIPPED           | PASS             |
+---------------------+--------------------+----------------------+-------------------+------------------+
| Ubuntu 20.04        | PASS               | SKIPPED              | SKIPPED           | PASS             |
+---------------------+--------------------+----------------------+-------------------+------------------+
| RHEL8               | PASS               | SKIPPED              | SKIPPED           | PASS             |
+---------------------+--------------------+----------------------+-------------------+------------------+
| Fedora 37           | PASS               | SKIPPED              | SKIPPED           | PASS             |
+---------------------+--------------------+----------------------+-------------------+------------------+


FreeBSD 13.3
	Kernel: 13.3-RELEASE-p1
	Compiler: clang 17.0.6

Windows Server 2019
	Kernel: 10.0.17763
	Compiler: clang 14.0 and gcc 8.1.0 (MinGW)

Windows Server 2022
	Kernel: 10.0.20348.2031
	Compiler: clang 15.0.7, gcc 8.1.0 (MinGW), and MSVC VS 17.9

FreeBSD 14.0
	Kernel: 14.0
	Compiler: clang 16.0.6

CentOS Stream 9
	Kernel: 5.4.0-167-generic
	Compiler: gcc 11.4.1 20230605

CentOS Stream 8
	Kernel: 5.4.0-167-generic
	Compiler: gcc 8.5.0 20210514

Ubuntu 20.04
	Kernel: 5.4.0-167-generic
	Compiler: gcc 9.4.0-1ubuntu1~20.04.1

RHEL8
	Kernel: 5.4.0-167-generic
	Compiler: gcc 8.5.0 20210514 (Red Hat 8.5.0-20)

Fedora 37
	Kernel: Depends on container host system
	Compiler: gcc 12.3.1

To view detailed results, visit:
https://lab.dpdk.org/results/dashboard/patchsets/30010/

UNH-IOL DPDK Community Lab

To manage your email subscriptions, visit: 
https://lab.dpdk.org/results/dashboard/preferences/subscriptions/