From mboxrd@z Thu Jan  1 00:00:00 1970
Return-Path: <test-report-bounces@dpdk.org>
Received: from mails.dpdk.org (mails.dpdk.org [217.70.189.124])
	by inbox.dpdk.org (Postfix) with ESMTP id 2AE2E440C6
	for <public@inbox.dpdk.org>; Sat, 25 May 2024 18:18:02 +0200 (CEST)
Received: from mails.dpdk.org (localhost [127.0.0.1])
	by mails.dpdk.org (Postfix) with ESMTP id 25B5B402BF;
	Sat, 25 May 2024 18:18:02 +0200 (CEST)
Received: from mail-pf1-f228.google.com (mail-pf1-f228.google.com
 [209.85.210.228])
 by mails.dpdk.org (Postfix) with ESMTP id 8719B4027E
 for <test-report@dpdk.org>; Sat, 25 May 2024 18:18:01 +0200 (CEST)
Received: by mail-pf1-f228.google.com with SMTP id
 d2e1a72fcca58-6f8eba8f25eso1553291b3a.3
 for <test-report@dpdk.org>; Sat, 25 May 2024 09:18:01 -0700 (PDT)
DKIM-Signature: v=1; a=rsa-sha256; c=relaxed/relaxed;
 d=iol.unh.edu; s=unh-iol; t=1716653881; x=1717258681; darn=dpdk.org;
 h=references:in-reply-to:cc:to:from:subject:message-id:date:from:to
 :cc:subject:date:message-id:reply-to;
 bh=0Hp6nZmfV4VVoP5HIH+/ZBZ0KU3EKbtjB5qgUuXWY+U=;
 b=jJWXToTw3Tnflnf00Y8XjwPjWvxnINcmz8b5T3phbnbz3Eg+Jj9AR16pv+dsYSKN7y
 Mhy+srzEwEbXc2yS3X1WiWVeLCqkyj7Y+yZeemCEIH8ESKYWWyVO+S9+hZ9GIPoSgWNa
 FXDb8R0/kraHpJhXYxYSq2fMcvkJJojsn5JpM=
X-Google-DKIM-Signature: v=1; a=rsa-sha256; c=relaxed/relaxed;
 d=1e100.net; s=20230601; t=1716653881; x=1717258681;
 h=references:in-reply-to:cc:to:from:subject:message-id:date
 :x-gm-message-state:from:to:cc:subject:date:message-id:reply-to;
 bh=0Hp6nZmfV4VVoP5HIH+/ZBZ0KU3EKbtjB5qgUuXWY+U=;
 b=fZj/iRilIWsKmjdtqlsLw6cMNprwNxNgBeO9IAEz6pQzUoCx1G5WdnlT/bFkcU945g
 gboZHZMkXpOBnvYE0rh1U81Rl8Tqw7O4B/YeWb7V8lCvp1cK6fXklx8ofiQntcqERmSw
 1nCVR/3YflrDdOKPeB8yDjuEJ0+Z7LeruUx3dsOB7k/vNH+IexhwDmoGuh5CifXoq7xm
 jK9TzAZjPbYWgKDsu5BPlnRegcPaTCJVdVIHo+0Wyt8cle2wOyLCiXLSh61/82BO/Rag
 wwvhYxPh59p3KnzWQAmaHr4mYxlrebdPerS/mOVV6HqAL7q2s7Zq59gfzYOJF7IzHAS+
 bQPg==
X-Gm-Message-State: AOJu0Yzu7HvZzCNgAFwIzFmGVhC9VWauKoFwrhw2cPy/MKJqAnRoDnLu
 R1nKj/mdw5irwL0eZcF+nsZvgKsCypj/uWnZZ2+91qBGrwTlnxWcWzlQh2pz3i6iZ6Zf2Lw+6Vf
 uHib9fx+SKYJ8Fo1WbDeSBRX/no0cHudryzlP6kCt
X-Google-Smtp-Source: AGHT+IGlcD6LO0SF2xXXjhJBTuBNZOIXb4VnWonnMuiu5Vzukamlo3ytmYOSnDIovOil4qXYs0aUr9XSnWox
X-Received: by 2002:a05:6a20:9143:b0:1af:d44c:cfc4 with SMTP id
 adf61e73a8af0-1b212d5cd2bmr6480456637.17.1716653880789; 
 Sat, 25 May 2024 09:18:00 -0700 (PDT)
Received: from postal.iol.unh.edu (postal.iol.unh.edu. [132.177.123.84])
 by smtp-relay.gmail.com with ESMTPS id
 41be03b00d2f7-6822635da71sm517690a12.23.2024.05.25.09.18.00
 (version=TLS1_2 cipher=ECDHE-ECDSA-AES128-GCM-SHA256 bits=128/128);
 Sat, 25 May 2024 09:18:00 -0700 (PDT)
X-Relaying-Domain: iol.unh.edu
Date: Sat, 25 May 2024 09:18:00 -0700 (PDT)
Message-ID: <66520f38.630a0220.69eb.be1eSMTPIN_ADDED_MISSING@mx.google.com>
Received: from [172.21.0.6] (unknown [172.18.0.240])
 by postal.iol.unh.edu (Postfix) with ESMTP id 0CEE960524C7;
 Sat, 25 May 2024 12:18:00 -0400 (EDT)
Subject: |SUCCESS| pw140311 [PATCH] event/dsw: support explicit release only 
From: dpdklab@iol.unh.edu
To: Test Report <test-report@dpdk.org>
Cc: dpdk-test-reports@iol.unh.edu
In-Reply-To: <20240524192437.183960-1-mattias.ronnblom@ericsson.com>
References: <20240524192437.183960-1-mattias.ronnblom@ericsson.com>
Content-Type: text/plain
X-BeenThere: test-report@dpdk.org
X-Mailman-Version: 2.1.29
Precedence: list
List-Id: automatic DPDK test reports <test-report.dpdk.org>
List-Unsubscribe: <https://mails.dpdk.org/options/test-report>,
 <mailto:test-report-request@dpdk.org?subject=unsubscribe>
List-Archive: <http://mails.dpdk.org/archives/test-report/>
List-Post: <mailto:test-report@dpdk.org>
List-Help: <mailto:test-report-request@dpdk.org?subject=help>
List-Subscribe: <https://mails.dpdk.org/listinfo/test-report>,
 <mailto:test-report-request@dpdk.org?subject=subscribe>
Errors-To: test-report-bounces@dpdk.org

Test-Label: iol-compile-amd64-testing
Test-Status: SUCCESS
http://dpdk.org/patch/140311

_Testing PASS_

Submitter: Mattias Ronnblom <mattias.ronnblom@ericsson.com>
Date: Friday, May 24 2024 19:24:37 
DPDK git baseline: Repo:dpdk
  Branch: master
  CommitID:6f80df8cb0f889203d7cd27766abcc6ebc720e33

140311 --> testing pass

Test environment and result as below:

+---------------------+--------------------+----------------------+-------------------+------------------+
|     Environment     | dpdk_meson_compile | dpdk_mingw64_compile | dpdk_msvc_compile | dpdk_compile_ovs |
+=====================+====================+======================+===================+==================+
| FreeBSD 13.3        | PASS               | SKIPPED              | SKIPPED           | SKIPPED          |
+---------------------+--------------------+----------------------+-------------------+------------------+
| Windows Server 2019 | PASS               | PASS                 | SKIPPED           | SKIPPED          |
+---------------------+--------------------+----------------------+-------------------+------------------+
| Windows Server 2022 | PASS               | PASS                 | PASS              | SKIPPED          |
+---------------------+--------------------+----------------------+-------------------+------------------+
| FreeBSD 14.0        | PASS               | SKIPPED              | SKIPPED           | SKIPPED          |
+---------------------+--------------------+----------------------+-------------------+------------------+
| CentOS Stream 9     | PASS               | SKIPPED              | SKIPPED           | PASS             |
+---------------------+--------------------+----------------------+-------------------+------------------+
| CentOS Stream 8     | PASS               | SKIPPED              | SKIPPED           | PASS             |
+---------------------+--------------------+----------------------+-------------------+------------------+
| Ubuntu 20.04        | PASS               | SKIPPED              | SKIPPED           | PASS             |
+---------------------+--------------------+----------------------+-------------------+------------------+
| RHEL8               | PASS               | SKIPPED              | SKIPPED           | PASS             |
+---------------------+--------------------+----------------------+-------------------+------------------+
| Fedora 37           | PASS               | SKIPPED              | SKIPPED           | PASS             |
+---------------------+--------------------+----------------------+-------------------+------------------+
| Fedora 39           | PASS               | SKIPPED              | SKIPPED           | PASS             |
+---------------------+--------------------+----------------------+-------------------+------------------+
| Ubuntu 22.04        | PASS               | SKIPPED              | SKIPPED           | PASS             |
+---------------------+--------------------+----------------------+-------------------+------------------+


FreeBSD 13.3
	Kernel: 13.3-RELEASE-p1
	Compiler: clang 17.0.6

Windows Server 2019
	Kernel: 10.0.17763
	Compiler: clang 14.0 and gcc 8.1.0 (MinGW)

Windows Server 2022
	Kernel: 10.0.20348.2031
	Compiler: clang 15.0.7, gcc 8.1.0 (MinGW), and MSVC VS 17.9

FreeBSD 14.0
	Kernel: 14.0
	Compiler: clang 16.0.6

CentOS Stream 9
	Kernel: 5.4.0-167-generic
	Compiler: gcc 11.4.1 20230605

CentOS Stream 8
	Kernel: 5.4.0-167-generic
	Compiler: gcc 8.5.0 20210514

Ubuntu 20.04
	Kernel: 5.4.0-167-generic
	Compiler: gcc 9.4.0-1ubuntu1~20.04.1

RHEL8
	Kernel: 5.4.0-167-generic
	Compiler: gcc 8.5.0 20210514 (Red Hat 8.5.0-20)

Fedora 37
	Kernel: Depends on container host system
	Compiler: gcc 12.3.1

Fedora 39
	Kernel: Depends on container host
	Compiler: gcc 13.2.1

Ubuntu 22.04
	Kernel: 5.4.0-167-generic
	Compiler: gcc 11.4.0

To view detailed results, visit:
https://lab.dpdk.org/results/dashboard/patchsets/30010/

UNH-IOL DPDK Community Lab

To manage your email subscriptions, visit: 
https://lab.dpdk.org/results/dashboard/preferences/subscriptions/