From mboxrd@z Thu Jan  1 00:00:00 1970
Return-Path: <test-report-bounces@dpdk.org>
Received: from mails.dpdk.org (mails.dpdk.org [217.70.189.124])
	by inbox.dpdk.org (Postfix) with ESMTP id 4F04B440C6
	for <public@inbox.dpdk.org>; Sat, 25 May 2024 18:48:20 +0200 (CEST)
Received: from mails.dpdk.org (localhost [127.0.0.1])
	by mails.dpdk.org (Postfix) with ESMTP id 3F34A40697;
	Sat, 25 May 2024 18:48:20 +0200 (CEST)
Received: from mail-io1-f99.google.com (mail-io1-f99.google.com
 [209.85.166.99]) by mails.dpdk.org (Postfix) with ESMTP id 2FB7A402BF
 for <test-report@dpdk.org>; Sat, 25 May 2024 18:48:19 +0200 (CEST)
Received: by mail-io1-f99.google.com with SMTP id
 ca18e2360f4ac-7e21dfbc310so447355239f.1
 for <test-report@dpdk.org>; Sat, 25 May 2024 09:48:19 -0700 (PDT)
DKIM-Signature: v=1; a=rsa-sha256; c=relaxed/relaxed;
 d=iol.unh.edu; s=unh-iol; t=1716655698; x=1717260498; darn=dpdk.org;
 h=references:in-reply-to:cc:to:from:subject:message-id:date:from:to
 :cc:subject:date:message-id:reply-to;
 bh=abr9XcX+KjeE3V5iHVsx7TIGJUd9RP7jbkn90qKAPpk=;
 b=iVqTIhNvNC7DmR5jVZVA7KsRGMY8fJzM/8vHseSuBXZb25nlSt3c3SfafPyXvGXxb3
 AjutQXACsBKS5HuLRZbdwo6S2qhTFpiimaKPQDfuRZFvB+MDLUOLTmEUzroHsXBaDmX2
 CRhXBBxNmHpQAVk5pWIcETkdMCHBsa8zKRDBs=
X-Google-DKIM-Signature: v=1; a=rsa-sha256; c=relaxed/relaxed;
 d=1e100.net; s=20230601; t=1716655698; x=1717260498;
 h=references:in-reply-to:cc:to:from:subject:message-id:date
 :x-gm-message-state:from:to:cc:subject:date:message-id:reply-to;
 bh=abr9XcX+KjeE3V5iHVsx7TIGJUd9RP7jbkn90qKAPpk=;
 b=a1qEF/SFuZHbk6xx3ij5ks6wGa41fGrKWMg8e9uJYcNlSljmS9MIZzoZwSsTzApTmm
 fp8orv1XqoNzXaQM82Dokf9SbHEMSmH75RabQlmp0V8T8MRTPRcSQBR+nGFokGcsaXcf
 +FhVLFogRlfnbkcT0Nsv2jUOlDxrsKnG2W4HPjiaLQRMYqtt9mKB+xQJiDnvEJ8xPfGc
 wijQE4k/HZkVIRPRn474znf/kBRvYtLDXxnidoitKqALzfjzXL8LfrtjCa1YVmClk8Rs
 ShXoPtvP4S+myQTiFL4zNVGme0Fe30CycCUsMFWB/y7DMZMrPw7kckjdA72Gzd2YVIfm
 B4jw==
X-Gm-Message-State: AOJu0Yy5IJnkYuZL42IKsQYVMBRN9/BZReE1y1sSV/IcoA4J2zSs77h0
 QlVkja8O+GTIAbC3mfhKCnaqBr3kE3xE4s0eRbPXtoIA9GqLz0RtZhOGhcRFeM5ud3DMdwOAE8j
 QE2rlTYujaqPDN4KXEMccYa3LSqYZA+buwFggbFsz
X-Google-Smtp-Source: AGHT+IEUGQKYnkleSaKEptnQHrgbQ1Zb8B9xdN+/rtD9M2roVmIwqOcj2IoGaNjnWoHaTeJqWnXA9bp1+eQP
X-Received: by 2002:a6b:7211:0:b0:7d6:991a:ef17 with SMTP id
 ca18e2360f4ac-7e8c51de9d5mr710746739f.11.1716655698579; 
 Sat, 25 May 2024 09:48:18 -0700 (PDT)
Received: from postal.iol.unh.edu (postal.iol.unh.edu. [132.177.123.84])
 by smtp-relay.gmail.com with ESMTPS id
 8926c6da1cb9f-4b03ebb556asm494447173.62.2024.05.25.09.48.18
 (version=TLS1_2 cipher=ECDHE-ECDSA-AES128-GCM-SHA256 bits=128/128);
 Sat, 25 May 2024 09:48:18 -0700 (PDT)
X-Relaying-Domain: iol.unh.edu
Date: Sat, 25 May 2024 09:48:18 -0700 (PDT)
Message-ID: <66521652.050a0220.fae8f.b76cSMTPIN_ADDED_MISSING@mx.google.com>
Received: from [172.21.0.7] (unknown [172.18.0.240])
 by postal.iol.unh.edu (Postfix) with ESMTP id 044F460524C7;
 Sat, 25 May 2024 12:48:18 -0400 (EDT)
Subject: |SUCCESS| pw140311 [PATCH] event/dsw: support explicit release only 
From: dpdklab@iol.unh.edu
To: Test Report <test-report@dpdk.org>
Cc: dpdk-test-reports@iol.unh.edu
In-Reply-To: <20240524192437.183960-1-mattias.ronnblom@ericsson.com>
References: <20240524192437.183960-1-mattias.ronnblom@ericsson.com>
Content-Type: text/plain
X-BeenThere: test-report@dpdk.org
X-Mailman-Version: 2.1.29
Precedence: list
List-Id: automatic DPDK test reports <test-report.dpdk.org>
List-Unsubscribe: <https://mails.dpdk.org/options/test-report>,
 <mailto:test-report-request@dpdk.org?subject=unsubscribe>
List-Archive: <http://mails.dpdk.org/archives/test-report/>
List-Post: <mailto:test-report@dpdk.org>
List-Help: <mailto:test-report-request@dpdk.org?subject=help>
List-Subscribe: <https://mails.dpdk.org/listinfo/test-report>,
 <mailto:test-report-request@dpdk.org?subject=subscribe>
Errors-To: test-report-bounces@dpdk.org

Test-Label: iol-unit-amd64-testing
Test-Status: SUCCESS
http://dpdk.org/patch/140311

_Testing PASS_

Submitter: Mattias Ronnblom <mattias.ronnblom@ericsson.com>
Date: Friday, May 24 2024 19:24:37 
DPDK git baseline: Repo:dpdk
  Branch: master
  CommitID:6f80df8cb0f889203d7cd27766abcc6ebc720e33

140311 --> testing pass

Test environment and result as below:

+---------------------+----------------+
|     Environment     | dpdk_unit_test |
+=====================+================+
| Windows Server 2019 | PASS           |
+---------------------+----------------+
| Windows Server 2022 | PASS           |
+---------------------+----------------+
| Debian Bullseye     | PASS           |
+---------------------+----------------+
| CentOS Stream 8     | PASS           |
+---------------------+----------------+
| Debian 12           | PASS           |
+---------------------+----------------+
| Fedora 37           | PASS           |
+---------------------+----------------+
| Fedora 38           | PASS           |
+---------------------+----------------+
| Fedora 39           | PASS           |
+---------------------+----------------+
| Ubuntu 20.04        | PASS           |
+---------------------+----------------+
| openSUSE Leap 15    | PASS           |
+---------------------+----------------+
| Ubuntu 22.04        | PASS           |
+---------------------+----------------+
| CentOS Stream 9     | PASS           |
+---------------------+----------------+
| RHEL8               | PASS           |
+---------------------+----------------+


Windows Server 2019
	Kernel: 10.0.17763
	Compiler: clang 14.0 and gcc 8.1.0 (MinGW)

Windows Server 2022
	Kernel: 10.0.20348.2031
	Compiler: clang 15.0.7, gcc 8.1.0 (MinGW), and MSVC VS 17.9

Debian Bullseye
	Kernel: 5.4.0-167-generic
	Compiler: gcc 10.2.1-6

CentOS Stream 8
	Kernel: 5.4.0-167-generic
	Compiler: gcc 8.5.0 20210514

Debian 12
	Kernel: Container Host Kernel
	Compiler: gcc 10.2.1

Fedora 37
	Kernel: Depends on container host system
	Compiler: gcc 12.3.1

Fedora 38
	Kernel: Depends on container host
	Compiler: gcc 13.2.1

Fedora 39
	Kernel: Depends on container host
	Compiler: gcc 13.2.1

Ubuntu 20.04
	Kernel: 5.4.0-167-generic
	Compiler: gcc 9.4.0-1ubuntu1~20.04.1

openSUSE Leap 15
	Kernel: 5.4.0-167-generic
	Compiler: gcc 7.5.0

Ubuntu 22.04
	Kernel: 5.4.0-167-generic
	Compiler: gcc 11.4.0

CentOS Stream 9
	Kernel: 5.4.0-167-generic
	Compiler: gcc 11.4.1 20230605

RHEL8
	Kernel: 5.4.0-167-generic
	Compiler: gcc 8.5.0 20210514 (Red Hat 8.5.0-20)

To view detailed results, visit:
https://lab.dpdk.org/results/dashboard/patchsets/30010/

UNH-IOL DPDK Community Lab

To manage your email subscriptions, visit: 
https://lab.dpdk.org/results/dashboard/preferences/subscriptions/