From mboxrd@z Thu Jan  1 00:00:00 1970
Return-Path: <test-report-bounces@dpdk.org>
Received: from mails.dpdk.org (mails.dpdk.org [217.70.189.124])
	by inbox.dpdk.org (Postfix) with ESMTP id 5FB2C440DC
	for <public@inbox.dpdk.org>; Mon, 27 May 2024 06:00:50 +0200 (CEST)
Received: from mails.dpdk.org (localhost [127.0.0.1])
	by mails.dpdk.org (Postfix) with ESMTP id 5419C402D4;
	Mon, 27 May 2024 06:00:50 +0200 (CEST)
Received: from mail-oo1-f99.google.com (mail-oo1-f99.google.com
 [209.85.161.99]) by mails.dpdk.org (Postfix) with ESMTP id 5F855402AB
 for <test-report@dpdk.org>; Mon, 27 May 2024 06:00:49 +0200 (CEST)
Received: by mail-oo1-f99.google.com with SMTP id
 006d021491bc7-5b9776123a3so1234622eaf.0
 for <test-report@dpdk.org>; Sun, 26 May 2024 21:00:49 -0700 (PDT)
DKIM-Signature: v=1; a=rsa-sha256; c=relaxed/relaxed;
 d=iol.unh.edu; s=unh-iol; t=1716782448; x=1717387248; darn=dpdk.org;
 h=references:in-reply-to:cc:to:from:subject:message-id:date:from:to
 :cc:subject:date:message-id:reply-to;
 bh=7f8dn0V+Oo0eg5yBDIhhDD47xlp6A/iUQl070j7hdWo=;
 b=GMUovshY9u26idR7mMDTeqG3kTcw4v9cH/y3M08w3Q3VxOhNhOwRnS7DmG5d7shCZ3
 xw+DrRZcdDNSHxTRxTZctF2MdlheRX8jN2UZnHXvOJ75mpWl4mCkvFgT+9mYC/7tspBI
 hmi/+zaRUL/rmJA1kMR2jqkB1If9iAP9Vhjjs=
X-Google-DKIM-Signature: v=1; a=rsa-sha256; c=relaxed/relaxed;
 d=1e100.net; s=20230601; t=1716782448; x=1717387248;
 h=references:in-reply-to:cc:to:from:subject:message-id:date
 :x-gm-message-state:from:to:cc:subject:date:message-id:reply-to;
 bh=7f8dn0V+Oo0eg5yBDIhhDD47xlp6A/iUQl070j7hdWo=;
 b=AWa7yzJ/3Z5es08+4Ks0Udprqm/9mrVCjBDNtisUqe1wPa2DFJ+ZeM7WLqjjkS7J1h
 aSnyRbeSrYZDB+Phh3ktYgXgjSy/45ZAIH/q4p9/dsUxA4qvkRjhhbhS/1yAAf0IxmdN
 +z++1dtQmKjMJXKXUQVxdLAYv3azvmPtYX0pcXitIG3vxudbc/A/efzmzJEVPAV7e/Xy
 RuDCOf7+39I/wUOY45yCX+pe2MwqAqwTmu/3oA7firn32iE82MEwoZTyCXIJppOzNu4Y
 ibY8WWh5iV2tuYirjSuTVVcgeGXL5fFOedvzx0sXTvYVL2UxCp+XsB3emOmMzQmKrwdu
 ytwA==
X-Gm-Message-State: AOJu0YyY6ni4m5jtV4uyYPeLl/VRe17G07FktRwFlekvX+2XKhIw+TRl
 1L2nKwMcZD+N1hwVTJICLRECGxbLIngFXjr6aSe4Vep/3ZYAb6YKhFJ48n1Rs6Hbbkm9NdeOpdt
 Yr9sy+Ud+v680x/f7Dw2dEjryPIEHPATkPD47H8p3
X-Google-Smtp-Source: AGHT+IF3Guxz4u0Ld2fAmvjNipAf4SBsUFgil4KzdpBffnmv05TR/5nKShkKVigbkZuVEKfeQnYsFJmIBW5o
X-Received: by 2002:a4a:dcc4:0:b0:5b9:8dd6:3d62 with SMTP id
 006d021491bc7-5b98dd649e1mr3457065eaf.0.1716782448597; 
 Sun, 26 May 2024 21:00:48 -0700 (PDT)
Received: from postal.iol.unh.edu (postal.iol.unh.edu. [132.177.123.84])
 by smtp-relay.gmail.com with ESMTPS id
 006d021491bc7-5b96c41e202sm667614eaf.6.2024.05.26.21.00.48
 (version=TLS1_2 cipher=ECDHE-ECDSA-AES128-GCM-SHA256 bits=128/128);
 Sun, 26 May 2024 21:00:48 -0700 (PDT)
X-Relaying-Domain: iol.unh.edu
Date: Sun, 26 May 2024 21:00:48 -0700 (PDT)
Message-ID: <66540570.050a0220.4d8e9.f148SMTPIN_ADDED_MISSING@mx.google.com>
Received: from [172.21.0.8] (unknown [172.18.0.240])
 by postal.iol.unh.edu (Postfix) with ESMTP id 343E560524C2;
 Mon, 27 May 2024 00:00:48 -0400 (EDT)
Subject: |SUCCESS| pw140316-140319 [PATCH] [v2,4/4] net/mlx5: implement VXLAN
From: dpdklab@iol.unh.edu
To: Test Report <test-report@dpdk.org>
Cc: dpdk-test-reports@iol.unh.edu
In-Reply-To: <20240527024720.1099161-5-rongweil@nvidia.com>
References: <20240527024720.1099161-5-rongweil@nvidia.com>
Content-Type: text/plain
X-BeenThere: test-report@dpdk.org
X-Mailman-Version: 2.1.29
Precedence: list
List-Id: automatic DPDK test reports <test-report.dpdk.org>
List-Unsubscribe: <https://mails.dpdk.org/options/test-report>,
 <mailto:test-report-request@dpdk.org?subject=unsubscribe>
List-Archive: <http://mails.dpdk.org/archives/test-report/>
List-Post: <mailto:test-report@dpdk.org>
List-Help: <mailto:test-report-request@dpdk.org?subject=help>
List-Subscribe: <https://mails.dpdk.org/listinfo/test-report>,
 <mailto:test-report-request@dpdk.org?subject=subscribe>
Errors-To: test-report-bounces@dpdk.org

Test-Label: iol-abi-testing
Test-Status: SUCCESS
http://dpdk.org/patch/140319

_Testing PASS_

Submitter: rongwei liu <rongweil@nvidia.com>
Date: Monday, May 27 2024 02:47:20 
DPDK git baseline: Repo:dpdk
  Branch: master
  CommitID:2dbb63594a9a985e2c8639b57f9fcd1468b9de97

140316-140319 --> testing pass

Test environment and result as below:

+------------------+----------+
|   Environment    | abi_test |
+==================+==========+
| CentOS Stream 8  | PASS     |
+------------------+----------+
| Ubuntu 22.04     | PASS     |
+------------------+----------+
| Fedora 39        | PASS     |
+------------------+----------+
| RHEL8            | PASS     |
+------------------+----------+
| Debian 12        | PASS     |
+------------------+----------+
| CentOS Stream 9  | PASS     |
+------------------+----------+
| Fedora 38        | PASS     |
+------------------+----------+
| openSUSE Leap 15 | PASS     |
+------------------+----------+
| Debian Bullseye  | PASS     |
+------------------+----------+
| Fedora 37        | PASS     |
+------------------+----------+


CentOS Stream 8
	Kernel: 5.4.0-167-generic
	Compiler: gcc 8.5.0 20210514

Ubuntu 22.04
	Kernel: 5.4.0-167-generic
	Compiler: gcc 11.4.0

Fedora 39
	Kernel: Depends on container host
	Compiler: clang 17.0.6

RHEL8
	Kernel: 5.4.0-167-generic
	Compiler: gcc 8.5.0 20210514 (Red Hat 8.5.0-20)

Debian 12
	Kernel: Container Host Kernel
	Compiler: gcc 10.2.1

CentOS Stream 9
	Kernel: 5.4.0-167-generic
	Compiler: gcc 11.4.1 20230605

Fedora 38
	Kernel: Depends on container host
	Compiler: clang 16.0.6

openSUSE Leap 15
	Kernel: 5.4.0-167-generic
	Compiler: gcc 7.5.0

Debian Bullseye
	Kernel: 5.4.0-167-generic
	Compiler: gcc 10.2.1-6

Fedora 37
	Kernel: Depends on container host system
	Compiler: gcc 12.3.1

To view detailed results, visit:
https://lab.dpdk.org/results/dashboard/patchsets/30013/

UNH-IOL DPDK Community Lab

To manage your email subscriptions, visit: 
https://lab.dpdk.org/results/dashboard/preferences/subscriptions/