From mboxrd@z Thu Jan  1 00:00:00 1970
Return-Path: <test-report-bounces@dpdk.org>
Received: from mails.dpdk.org (mails.dpdk.org [217.70.189.124])
	by inbox.dpdk.org (Postfix) with ESMTP id AB11C440DC
	for <public@inbox.dpdk.org>; Mon, 27 May 2024 07:04:06 +0200 (CEST)
Received: from mails.dpdk.org (localhost [127.0.0.1])
	by mails.dpdk.org (Postfix) with ESMTP id 3D9B14067E;
	Mon, 27 May 2024 07:04:06 +0200 (CEST)
Received: from mail-oi1-f228.google.com (mail-oi1-f228.google.com
 [209.85.167.228])
 by mails.dpdk.org (Postfix) with ESMTP id 81471402D4
 for <test-report@dpdk.org>; Mon, 27 May 2024 07:02:20 +0200 (CEST)
Received: by mail-oi1-f228.google.com with SMTP id
 5614622812f47-3d1b806acb8so1165693b6e.2
 for <test-report@dpdk.org>; Sun, 26 May 2024 22:02:20 -0700 (PDT)
DKIM-Signature: v=1; a=rsa-sha256; c=relaxed/relaxed;
 d=iol.unh.edu; s=unh-iol; t=1716786140; x=1717390940; darn=dpdk.org;
 h=references:in-reply-to:cc:to:from:subject:message-id:date:from:to
 :cc:subject:date:message-id:reply-to;
 bh=XRNB6M6rwA7vCiInz8LN1Nz9ko6m4EUQISkBDEwLwEM=;
 b=WxTY7K8lUGvDdTXY+aeOQRqANjraKb2uYfqNBH9dR/K9tNTkqS54bMiUzJuVHR/mQL
 vVIOsCCHLHSs/NZgZTxQQkAH0n7tCjG8mPMOQjtQdhRaBBSuVd/v4famU12Kn+bGxlZu
 Vvr92y+bQbnvM+bFxLZJkS6LFNcAMyoeyfz7o=
X-Google-DKIM-Signature: v=1; a=rsa-sha256; c=relaxed/relaxed;
 d=1e100.net; s=20230601; t=1716786140; x=1717390940;
 h=references:in-reply-to:cc:to:from:subject:message-id:date
 :x-gm-message-state:from:to:cc:subject:date:message-id:reply-to;
 bh=XRNB6M6rwA7vCiInz8LN1Nz9ko6m4EUQISkBDEwLwEM=;
 b=cdlCQVIGTqAnJguH0e7nNeAPxL7KaKvMKuf4u1GvOggwNpheNWs/iC1ndz5BfJHne8
 TJgBk6dHUZ8zd4c25FzAIaR3rSwTldyFtH1pQe9sspDRLCn/rFGFg6U2eAFAY3oQnEPZ
 pRO/wxriqChyTsCOqCYwXj55O7/w2K66Jof24g2K6Gk8izifKRt8khSkbr9QQx2Q0I7l
 sJQardqDNI2jBovXJN0TckDdMVfAkS7HUfSfd+zlWndPu5gdZ4SBsNBDqE+EYEThZbpb
 Vp2GzwiDQMMvVaPTkOlot4e4zaOVHFPYBjmu/ZmG2M98ZYzTIOEfpxUpk1LhT1GUjufK
 Vpew==
X-Gm-Message-State: AOJu0YwLodNHUhdnnKpYeJSH1VAQCiwSSqCjDod6VcgEWBn0L75HD5FI
 ILEDD+2Q0ojOCrQc4rZP1WDUhBPRd3mx4/nFFvxvWyi5sAe2wE0/kfWXtm8OEk2Hd1FzVjOQxBz
 IsczGtv/CU21N+2LpIOKoBVAkwe1ixgLmUZByx8Oh
X-Google-Smtp-Source: AGHT+IFdMu3YxkyRF3iHfhpXtTIw5OXfhXOhygbKIhib86KAt5Dk95AtS+1vL8ePPL90Ycp5UcVws1m0r1/W
X-Received: by 2002:a05:6808:f8b:b0:3c9:6ee4:1f10 with SMTP id
 5614622812f47-3d1a7647280mr10584733b6e.41.1716786139841; 
 Sun, 26 May 2024 22:02:19 -0700 (PDT)
Received: from postal.iol.unh.edu (postal.iol.unh.edu. [132.177.123.84])
 by smtp-relay.gmail.com with ESMTPS id
 6a1803df08f44-6ac06f6aca0sm9034756d6.2.2024.05.26.22.02.19
 (version=TLS1_2 cipher=ECDHE-ECDSA-AES128-GCM-SHA256 bits=128/128);
 Sun, 26 May 2024 22:02:19 -0700 (PDT)
X-Relaying-Domain: iol.unh.edu
Date: Sun, 26 May 2024 22:02:19 -0700 (PDT)
Message-ID: <665413db.050a0220.3edb5.d0e0SMTPIN_ADDED_MISSING@mx.google.com>
Received: from [172.21.0.6] (unknown [172.18.0.240])
 by postal.iol.unh.edu (Postfix) with ESMTP id 8609F60524C2;
 Mon, 27 May 2024 01:02:19 -0400 (EDT)
Subject: |SUCCESS| pw140316-140319 [PATCH] [v2,4/4] net/mlx5: implement VXLAN
From: dpdklab@iol.unh.edu
To: Test Report <test-report@dpdk.org>
Cc: dpdk-test-reports@iol.unh.edu
In-Reply-To: <20240527024720.1099161-5-rongweil@nvidia.com>
References: <20240527024720.1099161-5-rongweil@nvidia.com>
Content-Type: text/plain
X-BeenThere: test-report@dpdk.org
X-Mailman-Version: 2.1.29
Precedence: list
List-Id: automatic DPDK test reports <test-report.dpdk.org>
List-Unsubscribe: <https://mails.dpdk.org/options/test-report>,
 <mailto:test-report-request@dpdk.org?subject=unsubscribe>
List-Archive: <http://mails.dpdk.org/archives/test-report/>
List-Post: <mailto:test-report@dpdk.org>
List-Help: <mailto:test-report-request@dpdk.org?subject=help>
List-Subscribe: <https://mails.dpdk.org/listinfo/test-report>,
 <mailto:test-report-request@dpdk.org?subject=subscribe>
Errors-To: test-report-bounces@dpdk.org

Test-Label: iol-compile-arm64-testing
Test-Status: SUCCESS
http://dpdk.org/patch/140319

_Testing PASS_

Submitter: rongwei liu <rongweil@nvidia.com>
Date: Monday, May 27 2024 02:47:20 
DPDK git baseline: Repo:dpdk
  Branch: master
  CommitID:2dbb63594a9a985e2c8639b57f9fcd1468b9de97

140316-140319 --> testing pass

Test environment and result as below:

+----------------------------------------+--------------------+
|              Environment               | dpdk_meson_compile |
+========================================+====================+
| Debian 12 with MUSDK                   | PASS               |
+----------------------------------------+--------------------+
| Ubuntu 20.04 ARM SVE                   | PASS               |
+----------------------------------------+--------------------+
| Fedora 37 (ARM)                        | PASS               |
+----------------------------------------+--------------------+
| Ubuntu 20.04 (ARM)                     | PASS               |
+----------------------------------------+--------------------+
| CentOS Stream 9 (ARM)                  | PASS               |
+----------------------------------------+--------------------+
| Ubuntu 20.04 aarch32 GCC Cross Compile | PASS               |
+----------------------------------------+--------------------+
| Ubuntu 20.04 ARM Clang Cross Compile   | PASS               |
+----------------------------------------+--------------------+
| Debian 12 (arm)                        | PASS               |
+----------------------------------------+--------------------+
| Ubuntu 20.04 ARM GCC Cross Compile     | PASS               |
+----------------------------------------+--------------------+
| Fedora 39 (ARM Clang)                  | PASS               |
+----------------------------------------+--------------------+
| Fedora 38 (ARM Clang)                  | PASS               |
+----------------------------------------+--------------------+


Debian 12 with MUSDK
	Kernel: Container Host Kernel
	Compiler: gcc 12.2.0

Ubuntu 20.04 ARM SVE
	Kernel: 5.4.0-167-generic
	Compiler: gcc (Ubuntu 10.5.0-1ubuntu1~20.04) 10.5.0

Fedora 37 (ARM)
	Kernel: Depends on container host
	Compiler: gcc 12.3.1

Ubuntu 20.04 (ARM)
	Kernel: Container Host Kernel
	Compiler: gcc 9.4.0

CentOS Stream 9 (ARM)
	Kernel: Container Host Kernel
	Compiler: gcc 11.4.1

Ubuntu 20.04 aarch32 GCC Cross Compile
	Kernel: 5.4.0-167-generic
	Compiler: gcc 9.4.0

Ubuntu 20.04 ARM Clang Cross Compile
	Kernel: 5.4.0-72-generic
	Compiler: clang 10.0.0-4ubuntu1

Debian 12 (arm)
	Kernel: Container Host Kernel
	Compiler: gcc 12.2.0

Ubuntu 20.04 ARM GCC Cross Compile
	Kernel: 5.4.0-167-generic
	Compiler: aarch64-linux-gnu-gcc (Ubuntu 9.4.0-1ubuntu1~20.04.2) 9.4.0

Fedora 39 (ARM Clang)
	Kernel: Depends on container host
	Compiler: clang 17.0.6

Fedora 38 (ARM Clang)
	Kernel: Depends on container host
	Compiler: clang 16.0.6

To view detailed results, visit:
https://lab.dpdk.org/results/dashboard/patchsets/30013/

UNH-IOL DPDK Community Lab

To manage your email subscriptions, visit: 
https://lab.dpdk.org/results/dashboard/preferences/subscriptions/