From mboxrd@z Thu Jan  1 00:00:00 1970
Return-Path: <test-report-bounces@dpdk.org>
Received: from mails.dpdk.org (mails.dpdk.org [217.70.189.124])
	by inbox.dpdk.org (Postfix) with ESMTP id 47650440DE
	for <public@inbox.dpdk.org>; Mon, 27 May 2024 09:46:44 +0200 (CEST)
Received: from mails.dpdk.org (localhost [127.0.0.1])
	by mails.dpdk.org (Postfix) with ESMTP id 3C26D402BD;
	Mon, 27 May 2024 09:46:44 +0200 (CEST)
Received: from mail-pg1-f227.google.com (mail-pg1-f227.google.com
 [209.85.215.227])
 by mails.dpdk.org (Postfix) with ESMTP id 0064A402BC
 for <test-report@dpdk.org>; Mon, 27 May 2024 09:46:42 +0200 (CEST)
Received: by mail-pg1-f227.google.com with SMTP id
 41be03b00d2f7-66629f45359so4383302a12.3
 for <test-report@dpdk.org>; Mon, 27 May 2024 00:46:42 -0700 (PDT)
DKIM-Signature: v=1; a=rsa-sha256; c=relaxed/relaxed;
 d=iol.unh.edu; s=unh-iol; t=1716796002; x=1717400802; darn=dpdk.org;
 h=references:in-reply-to:cc:to:from:subject:message-id:date:from:to
 :cc:subject:date:message-id:reply-to;
 bh=MxBB5x/bt4MOBv/ovO5RPvKy1Fn/P9JUv2IJGwvfx+A=;
 b=Qx8cXGCD5HKSzRYhLAh+uE38qdwh3ghQQt8vFOfl5KvamkSp6ctMWKebjcGCBbIjZK
 thNYavem2eZSRo4du5k/qUDDH3yonQ7taaZMgsbcpT8zwJnWxTZDVzN6SxHEVd5FoKjr
 Y/vTzFP5O17US9kR74pDUn6DSM8uxdaLQy9Sw=
X-Google-DKIM-Signature: v=1; a=rsa-sha256; c=relaxed/relaxed;
 d=1e100.net; s=20230601; t=1716796002; x=1717400802;
 h=references:in-reply-to:cc:to:from:subject:message-id:date
 :x-gm-message-state:from:to:cc:subject:date:message-id:reply-to;
 bh=MxBB5x/bt4MOBv/ovO5RPvKy1Fn/P9JUv2IJGwvfx+A=;
 b=FjrW4Sw3xQfasLMJi/v/ZC8TJ6L0UH4ES7cf4taBjLlm65sNvWF5uQdunisefOlLSV
 0k3fBro3H1rGo8gsHpqJN8KsQJkybcd4bY2sloXPn885CAIizP2wVm+pxwYFK+UV7ZZX
 unqS5hVx+uCLiBol0RRpkgPzZD44/nNsGM1jpV5th+ijzIrizJcuMjeKl+wJdHpdkilX
 fmWm7RsZJGczrglU/eOEHUYMZD3PovEhXKgj+CcYJkAkASRke+f/86Yr0afRm1553oiZ
 CVqnR0noL9tRDHymYyiPeHzsVm6XH7jZb0krBdCcsn1EykuojxOaYJsta5lw8tmFjUpi
 BI/w==
X-Gm-Message-State: AOJu0Yypa2Rv/cOjBoA3tBTgrntynpd4OySIzp5x16SqTT1wSCIw9aOs
 EV2L1SA3qS6Hj+GpZWCeqkZQL71a4DvT16ywf5t4sNZYa9N0JqCtkScHL+/xDruGi8CLK6a3+ej
 7Fuyr6WkoxA4Wa0DHZgNteuqtiQNtpI3QqX5i/dE8
X-Google-Smtp-Source: AGHT+IEu7HaK6mc7VLrhMfTZhIoYvtfw59pi93iGs/t3CpQ4JoWN0Z5PUqoUkmqr5q61kdP3DfcaILYAOj/L
X-Received: by 2002:a05:6a20:2d26:b0:1af:bd03:3222 with SMTP id
 adf61e73a8af0-1b212f34294mr11235629637.45.1716796002176; 
 Mon, 27 May 2024 00:46:42 -0700 (PDT)
Received: from postal.iol.unh.edu (postal.iol.unh.edu. [132.177.123.84])
 by smtp-relay.gmail.com with ESMTPS id
 d9443c01a7336-1f44c95696dsm3845845ad.77.2024.05.27.00.46.42
 (version=TLS1_2 cipher=ECDHE-ECDSA-AES128-GCM-SHA256 bits=128/128);
 Mon, 27 May 2024 00:46:42 -0700 (PDT)
X-Relaying-Domain: iol.unh.edu
Date: Mon, 27 May 2024 00:46:42 -0700 (PDT)
Message-ID: <66543a62.170a0220.30541.8d53SMTPIN_ADDED_MISSING@mx.google.com>
Received: from [172.21.0.6] (unknown [172.18.0.240])
 by postal.iol.unh.edu (Postfix) with ESMTP id 5EE0E6052538;
 Mon, 27 May 2024 03:46:41 -0400 (EDT)
Subject: |SUCCESS| pw140321 [PATCH] r8125: add r8125 ethernet poll mode drive
From: dpdklab@iol.unh.edu
To: Test Report <test-report@dpdk.org>
Cc: dpdk-test-reports@iol.unh.edu
In-Reply-To: <20240527061528.10072-1-howard_wang@realsil.com.cn>
References: <20240527061528.10072-1-howard_wang@realsil.com.cn>
Content-Type: text/plain
X-BeenThere: test-report@dpdk.org
X-Mailman-Version: 2.1.29
Precedence: list
List-Id: automatic DPDK test reports <test-report.dpdk.org>
List-Unsubscribe: <https://mails.dpdk.org/options/test-report>,
 <mailto:test-report-request@dpdk.org?subject=unsubscribe>
List-Archive: <http://mails.dpdk.org/archives/test-report/>
List-Post: <mailto:test-report@dpdk.org>
List-Help: <mailto:test-report-request@dpdk.org?subject=help>
List-Subscribe: <https://mails.dpdk.org/listinfo/test-report>,
 <mailto:test-report-request@dpdk.org?subject=subscribe>
Errors-To: test-report-bounces@dpdk.org

Test-Label: iol-compile-amd64-testing
Test-Status: SUCCESS
http://dpdk.org/patch/140321

_Testing PASS_

Submitter: Howard Wang <howard_wang@realsil.com.cn>
Date: Monday, May 27 2024 06:15:28 
DPDK git baseline: Repo:dpdk
  Branch: master
  CommitID:2dbb63594a9a985e2c8639b57f9fcd1468b9de97

140321 --> testing pass

Test environment and result as below:

+---------------------+--------------------+------------------+----------------------+-------------------+
|     Environment     | dpdk_meson_compile | dpdk_compile_ovs | dpdk_mingw64_compile | dpdk_msvc_compile |
+=====================+====================+==================+======================+===================+
| FreeBSD 13.3        | PASS               | SKIPPED          | SKIPPED              | SKIPPED           |
+---------------------+--------------------+------------------+----------------------+-------------------+
| Windows Server 2019 | PASS               | SKIPPED          | PASS                 | SKIPPED           |
+---------------------+--------------------+------------------+----------------------+-------------------+
| Windows Server 2022 | PASS               | SKIPPED          | PASS                 | PASS              |
+---------------------+--------------------+------------------+----------------------+-------------------+
| CentOS Stream 8     | PASS               | PASS             | SKIPPED              | SKIPPED           |
+---------------------+--------------------+------------------+----------------------+-------------------+
| FreeBSD 14.0        | PASS               | SKIPPED          | SKIPPED              | SKIPPED           |
+---------------------+--------------------+------------------+----------------------+-------------------+
| CentOS Stream 9     | PASS               | PASS             | SKIPPED              | SKIPPED           |
+---------------------+--------------------+------------------+----------------------+-------------------+
| Debian Bullseye     | PASS               | PASS             | SKIPPED              | SKIPPED           |
+---------------------+--------------------+------------------+----------------------+-------------------+
| Fedora 37           | PASS               | PASS             | SKIPPED              | SKIPPED           |
+---------------------+--------------------+------------------+----------------------+-------------------+


FreeBSD 13.3
	Kernel: 13.3-RELEASE-p1
	Compiler: clang 17.0.6

Windows Server 2019
	Kernel: 10.0.17763
	Compiler: clang 14.0 and gcc 8.1.0 (MinGW)

Windows Server 2022
	Kernel: 10.0.20348.2031
	Compiler: clang 15.0.7, gcc 8.1.0 (MinGW), and MSVC VS 17.9

CentOS Stream 8
	Kernel: 5.4.0-167-generic
	Compiler: gcc 8.5.0 20210514

FreeBSD 14.0
	Kernel: 14.0
	Compiler: clang 16.0.6

CentOS Stream 9
	Kernel: 5.4.0-167-generic
	Compiler: gcc 11.4.1 20230605

Debian Bullseye
	Kernel: 5.4.0-167-generic
	Compiler: gcc 10.2.1-6

Fedora 37
	Kernel: Depends on container host system
	Compiler: gcc 12.3.1

To view detailed results, visit:
https://lab.dpdk.org/results/dashboard/patchsets/30015/

UNH-IOL DPDK Community Lab

To manage your email subscriptions, visit: 
https://lab.dpdk.org/results/dashboard/preferences/subscriptions/