From mboxrd@z Thu Jan  1 00:00:00 1970
Return-Path: <test-report-bounces@dpdk.org>
Received: from mails.dpdk.org (mails.dpdk.org [217.70.189.124])
	by inbox.dpdk.org (Postfix) with ESMTP id E3A1C440E0
	for <public@inbox.dpdk.org>; Mon, 27 May 2024 11:00:47 +0200 (CEST)
Received: from mails.dpdk.org (localhost [127.0.0.1])
	by mails.dpdk.org (Postfix) with ESMTP id B8A41402BD;
	Mon, 27 May 2024 11:00:47 +0200 (CEST)
Received: from mail-il1-f225.google.com (mail-il1-f225.google.com
 [209.85.166.225])
 by mails.dpdk.org (Postfix) with ESMTP id 8F1CC402BC
 for <test-report@dpdk.org>; Mon, 27 May 2024 11:00:45 +0200 (CEST)
Received: by mail-il1-f225.google.com with SMTP id
 e9e14a558f8ab-3737b75daf6so8155055ab.1
 for <test-report@dpdk.org>; Mon, 27 May 2024 02:00:45 -0700 (PDT)
DKIM-Signature: v=1; a=rsa-sha256; c=relaxed/relaxed;
 d=iol.unh.edu; s=unh-iol; t=1716800445; x=1717405245; darn=dpdk.org;
 h=references:in-reply-to:cc:to:from:subject:message-id:date:from:to
 :cc:subject:date:message-id:reply-to;
 bh=CDSmJEixaHI1JAMq5694aL1HFnNyve92kpcVnvDvKYI=;
 b=WxHmoRLVbm5mXHVZBou0ZdEjddDpriDmYFiGow+GtIzNh9/dC8en3Nu5OAYOOgmp1A
 9A8WmxpT1E9gzaKaiHsSSmXtUjo4a8a/q/fjsMBNcZO2iy3vAxtAA9q4aPAKP7gCJ5E9
 5LRRKAOuQBjgMSMjGqpfjDtV/cyZ/EJswTyds=
X-Google-DKIM-Signature: v=1; a=rsa-sha256; c=relaxed/relaxed;
 d=1e100.net; s=20230601; t=1716800445; x=1717405245;
 h=references:in-reply-to:cc:to:from:subject:message-id:date
 :x-gm-message-state:from:to:cc:subject:date:message-id:reply-to;
 bh=CDSmJEixaHI1JAMq5694aL1HFnNyve92kpcVnvDvKYI=;
 b=shAIhpolm8WQJbJ+zioqLVNSMtwBhWsuM7PhQ3FCXjub2QxsU+d6Qk4CO0UCV0OqrD
 7E3c8Ia+x/s4tzPRHBHBLOI9j3fdhdx/Tn9svOwQr1uEjEMa8TuF4SqtW+181ViC+IvN
 gMpg3Wgamg2gRK8xfPd9xVnsAMru2McLMYrCdgY2mvBgHBtKDm6BzNrrSHKGvRfQduA6
 Jvyq82syRan8rr8X9zVlOKomYNwi837cuy68GZs/M1R+RW/ztAxP/cFb6D4shiZEgVsn
 Okf44FU6kH4TYO2rTJsn66HRYkGUh14P+C6vQFGp9D73jWdMvXYFPbmhNod+xHFjy8e6
 CWSw==
X-Gm-Message-State: AOJu0Yzq49L63le2XlTLBaUGD1HKisvX8F1Bf0/dmR5fwgicch4BMEBp
 NfyHAQq+nEpgSH9f2t3EO0ETaD+ew9fieW3dMGG9j7G5ue34xdyi0ztemcEfb9JneYckeHKnmPk
 OaPVeyOyrDkLF2PHOjL6b/jJOTQCtnMNwJDrsnEDMp+Dk5DETQlAnwpq9
X-Google-Smtp-Source: AGHT+IHBFVbqB3WttobntuJKpLh9L+5FNvaVVMnNeQbqPtpwgw1pFHZzmhxMxqfGT5k2jLyYqo25dab/oJGp
X-Received: by 2002:a05:6e02:198c:b0:36d:b6dc:98 with SMTP id
 e9e14a558f8ab-3737ad423ffmr80689295ab.14.1716800444945; 
 Mon, 27 May 2024 02:00:44 -0700 (PDT)
Received: from postal.iol.unh.edu (postal.iol.unh.edu.
 [2606:4100:3880:1234::84]) by smtp-relay.gmail.com with ESMTPS id
 e9e14a558f8ab-3737c2dfea0sm7025625ab.43.2024.05.27.02.00.44
 (version=TLS1_2 cipher=ECDHE-ECDSA-AES128-GCM-SHA256 bits=128/128);
 Mon, 27 May 2024 02:00:44 -0700 (PDT)
X-Relaying-Domain: iol.unh.edu
Date: Mon, 27 May 2024 02:00:44 -0700 (PDT)
Message-ID: <66544bbc.050a0220.627c6.580fSMTPIN_ADDED_MISSING@mx.google.com>
Received: from [172.21.0.6] (unknown [172.18.0.240])
 by postal.iol.unh.edu (Postfix) with ESMTP id 692466052538;
 Mon, 27 May 2024 05:00:44 -0400 (EDT)
Subject: |SUCCESS| pw140320 [PATCH] r8126: add r8126 ethernet poll mode drive
From: dpdklab@iol.unh.edu
To: Test Report <test-report@dpdk.org>
Cc: dpdk-test-reports@iol.unh.edu
In-Reply-To: <20240527061347.10013-1-howard_wang@realsil.com.cn>
References: <20240527061347.10013-1-howard_wang@realsil.com.cn>
Content-Type: text/plain
X-BeenThere: test-report@dpdk.org
X-Mailman-Version: 2.1.29
Precedence: list
List-Id: automatic DPDK test reports <test-report.dpdk.org>
List-Unsubscribe: <https://mails.dpdk.org/options/test-report>,
 <mailto:test-report-request@dpdk.org?subject=unsubscribe>
List-Archive: <http://mails.dpdk.org/archives/test-report/>
List-Post: <mailto:test-report@dpdk.org>
List-Help: <mailto:test-report-request@dpdk.org?subject=help>
List-Subscribe: <https://mails.dpdk.org/listinfo/test-report>,
 <mailto:test-report-request@dpdk.org?subject=subscribe>
Errors-To: test-report-bounces@dpdk.org

Test-Label: iol-abi-testing
Test-Status: SUCCESS
http://dpdk.org/patch/140320

_Testing PASS_

Submitter: Howard Wang <howard_wang@realsil.com.cn>
Date: Monday, May 27 2024 06:13:47 
DPDK git baseline: Repo:dpdk
  Branch: master
  CommitID:2dbb63594a9a985e2c8639b57f9fcd1468b9de97

140320 --> testing pass

Test environment and result as below:

+------------------+----------+
|   Environment    | abi_test |
+==================+==========+
| CentOS Stream 8  | PASS     |
+------------------+----------+
| CentOS Stream 9  | PASS     |
+------------------+----------+
| Fedora 37        | PASS     |
+------------------+----------+
| Fedora 39        | PASS     |
+------------------+----------+
| Debian 12        | PASS     |
+------------------+----------+
| Fedora 38        | PASS     |
+------------------+----------+
| openSUSE Leap 15 | PASS     |
+------------------+----------+
| Debian Bullseye  | PASS     |
+------------------+----------+
| Ubuntu 22.04     | PASS     |
+------------------+----------+


CentOS Stream 8
	Kernel: 5.4.0-167-generic
	Compiler: gcc 8.5.0 20210514

CentOS Stream 9
	Kernel: 5.4.0-167-generic
	Compiler: gcc 11.4.1 20230605

Fedora 37
	Kernel: Depends on container host system
	Compiler: gcc 12.3.1

Fedora 39
	Kernel: Depends on container host
	Compiler: gcc 13.2.1

Debian 12
	Kernel: Container Host Kernel
	Compiler: gcc 10.2.1

Fedora 38
	Kernel: Depends on container host
	Compiler: clang 16.0.6

openSUSE Leap 15
	Kernel: 5.4.0-167-generic
	Compiler: gcc 7.5.0

Debian Bullseye
	Kernel: 5.4.0-167-generic
	Compiler: gcc 10.2.1-6

Ubuntu 22.04
	Kernel: 5.4.0-167-generic
	Compiler: gcc 11.4.0

To view detailed results, visit:
https://lab.dpdk.org/results/dashboard/patchsets/30014/

UNH-IOL DPDK Community Lab

To manage your email subscriptions, visit: 
https://lab.dpdk.org/results/dashboard/preferences/subscriptions/