From mboxrd@z Thu Jan  1 00:00:00 1970
Return-Path: <test-report-bounces@dpdk.org>
Received: from mails.dpdk.org (mails.dpdk.org [217.70.189.124])
	by inbox.dpdk.org (Postfix) with ESMTP id 9240A440E0
	for <public@inbox.dpdk.org>; Mon, 27 May 2024 11:23:35 +0200 (CEST)
Received: from mails.dpdk.org (localhost [127.0.0.1])
	by mails.dpdk.org (Postfix) with ESMTP id 87D1C402BD;
	Mon, 27 May 2024 11:23:35 +0200 (CEST)
Received: from mail-vk1-f228.google.com (mail-vk1-f228.google.com
 [209.85.221.228])
 by mails.dpdk.org (Postfix) with ESMTP id 2169C402BC
 for <test-report@dpdk.org>; Mon, 27 May 2024 11:23:32 +0200 (CEST)
Received: by mail-vk1-f228.google.com with SMTP id
 71dfb90a1353d-4e1459a13fdso2069274e0c.3
 for <test-report@dpdk.org>; Mon, 27 May 2024 02:23:32 -0700 (PDT)
DKIM-Signature: v=1; a=rsa-sha256; c=relaxed/relaxed;
 d=iol.unh.edu; s=unh-iol; t=1716801811; x=1717406611; darn=dpdk.org;
 h=references:in-reply-to:cc:to:from:subject:message-id:date:from:to
 :cc:subject:date:message-id:reply-to;
 bh=/pAqBfceZQ0kozCP3KTigbnkWW0I8Ng3UsG7zTAPfwY=;
 b=FqfUrxylV4FrI6s1VlWxJLsQF0SDtBKhjUmmmjhzV9edb+zbqcV7ZyGaYMTP5n1UiJ
 QsUAJ+GDItMl+4FYdMf9T4Rscla58mFFPTceta4lj9xPFF6PQkfoxh6562SKbUbCkKj+
 hOwhLupp/czAjc1LIBltfAzHNDaEhA1IXGPSw=
X-Google-DKIM-Signature: v=1; a=rsa-sha256; c=relaxed/relaxed;
 d=1e100.net; s=20230601; t=1716801811; x=1717406611;
 h=references:in-reply-to:cc:to:from:subject:message-id:date
 :x-gm-message-state:from:to:cc:subject:date:message-id:reply-to;
 bh=/pAqBfceZQ0kozCP3KTigbnkWW0I8Ng3UsG7zTAPfwY=;
 b=pz0p0QmdsTzxnaouZlct/LDiGuW2yOapXmPJjcPAllnErmkkyAqWyNHlePwrDITkqv
 ovjqZmlL57Szyu7AFBAVSTZeWisWgZPaSehBIlgrzHRDetqMxyDcSg/JPRzQ1xvRl/n+
 JfAwlafphFBXd9EafWp8ZzvneYB9uM8yjHCqXGl8WAoLFsVIgeTUYipsHKjResMJdy73
 dC6WJBk442DjrNeeR242U2KiS71CGYDYhZ3nfvzba9TlmAiQIExRjUjWtILx6/vi+PJf
 l0hpQICi0evYl2c/UtG53/8X52sGrV2dbBLuS991RCbvuDzPmN6zipMLO49q0FzcP4U8
 d8tg==
X-Gm-Message-State: AOJu0Yyy30/5fYTgAvT/rsjM/vDbW/VwAyuAuK2A+iXCRaOLxqyfc8Nn
 FP8ox8nVgWcgbdoEQUOqJAZSXZVm5CnmKjdGcdgKnCYp0K4qDdrPV6AKEge98uzL9z+Zh+Yn67o
 YVsYj1tC50yoMdSipKtJuPgisxRVa5eHxmjGQntmdw1Vh4a0z9/CSaXM2
X-Google-Smtp-Source: AGHT+IGvcBE87GGA8qtxpeHMvBp2UN+WtaFrsR24RGXOiId7IhkPffE9Nwfvh4KEJnpGlYr7uHlyABruV8NN
X-Received: by 2002:a05:6122:311b:b0:4e1:6acc:d30b with SMTP id
 71dfb90a1353d-4e4f0230df3mr8634264e0c.5.1716801811455; 
 Mon, 27 May 2024 02:23:31 -0700 (PDT)
Received: from postal.iol.unh.edu (postal.iol.unh.edu.
 [2606:4100:3880:1234::84]) by smtp-relay.gmail.com with ESMTPS id
 71dfb90a1353d-4e4f07bc1efsm687098e0c.11.2024.05.27.02.23.31
 (version=TLS1_2 cipher=ECDHE-ECDSA-AES128-GCM-SHA256 bits=128/128);
 Mon, 27 May 2024 02:23:31 -0700 (PDT)
X-Relaying-Domain: iol.unh.edu
Date: Mon, 27 May 2024 02:23:31 -0700 (PDT)
Message-ID: <66545113.050a0220.ffc68.6519SMTPIN_ADDED_MISSING@mx.google.com>
Received: from [172.17.0.4] (unknown [172.18.0.217])
 by postal.iol.unh.edu (Postfix) with ESMTP id 2017B6052538;
 Mon, 27 May 2024 05:23:31 -0400 (EDT)
Subject: |SUCCESS| pw140320 [PATCH] r8126: add r8126 ethernet poll mode drive
From: dpdklab@iol.unh.edu
To: Test Report <test-report@dpdk.org>
Cc: dpdk-test-reports@iol.unh.edu
In-Reply-To: <20240527061347.10013-1-howard_wang@realsil.com.cn>
References: <20240527061347.10013-1-howard_wang@realsil.com.cn>
Content-Type: text/plain
X-BeenThere: test-report@dpdk.org
X-Mailman-Version: 2.1.29
Precedence: list
List-Id: automatic DPDK test reports <test-report.dpdk.org>
List-Unsubscribe: <https://mails.dpdk.org/options/test-report>,
 <mailto:test-report-request@dpdk.org?subject=unsubscribe>
List-Archive: <http://mails.dpdk.org/archives/test-report/>
List-Post: <mailto:test-report@dpdk.org>
List-Help: <mailto:test-report-request@dpdk.org?subject=help>
List-Subscribe: <https://mails.dpdk.org/listinfo/test-report>,
 <mailto:test-report-request@dpdk.org?subject=subscribe>
Errors-To: test-report-bounces@dpdk.org

Test-Label: iol-compile-arm64-testing
Test-Status: SUCCESS
http://dpdk.org/patch/140320

_Testing PASS_

Submitter: Howard Wang <howard_wang@realsil.com.cn>
Date: Monday, May 27 2024 06:13:47 
DPDK git baseline: Repo:dpdk
  Branch: master
  CommitID:2dbb63594a9a985e2c8639b57f9fcd1468b9de97

140320 --> testing pass

Test environment and result as below:

+----------------------------------------+--------------------+
|              Environment               | dpdk_meson_compile |
+========================================+====================+
| Ubuntu 20.04 ARM SVE                   | PASS               |
+----------------------------------------+--------------------+
| Debian 12 with MUSDK                   | PASS               |
+----------------------------------------+--------------------+
| Ubuntu 20.04 aarch32 GCC Cross Compile | PASS               |
+----------------------------------------+--------------------+
| Fedora 38 (ARM)                        | PASS               |
+----------------------------------------+--------------------+
| Fedora 39 (ARM)                        | PASS               |
+----------------------------------------+--------------------+
| Fedora 37 (ARM)                        | PASS               |
+----------------------------------------+--------------------+
| Ubuntu 20.04 (ARM)                     | PASS               |
+----------------------------------------+--------------------+
| CentOS Stream 9 (ARM)                  | PASS               |
+----------------------------------------+--------------------+


Ubuntu 20.04 ARM SVE
	Kernel: 5.4.0-167-generic
	Compiler: gcc (Ubuntu 10.5.0-1ubuntu1~20.04) 10.5.0

Debian 12 with MUSDK
	Kernel: Container Host Kernel
	Compiler: gcc 12.2.0

Ubuntu 20.04 aarch32 GCC Cross Compile
	Kernel: 5.4.0-167-generic
	Compiler: gcc 9.4.0

Fedora 38 (ARM)
	Kernel: Depends on container host
	Compiler: gcc 13.2.1

Fedora 39 (ARM)
	Kernel: Depends on container host
	Compiler: gcc 13.2.1

Fedora 37 (ARM)
	Kernel: Depends on container host
	Compiler: gcc 12.3.1

Ubuntu 20.04 (ARM)
	Kernel: Container Host Kernel
	Compiler: gcc 9.4.0

CentOS Stream 9 (ARM)
	Kernel: Container Host Kernel
	Compiler: gcc 11.4.1

To view detailed results, visit:
https://lab.dpdk.org/results/dashboard/patchsets/30014/

UNH-IOL DPDK Community Lab

To manage your email subscriptions, visit: 
https://lab.dpdk.org/results/dashboard/preferences/subscriptions/