From mboxrd@z Thu Jan  1 00:00:00 1970
Return-Path: <test-report-bounces@dpdk.org>
Received: from mails.dpdk.org (mails.dpdk.org [217.70.189.124])
	by inbox.dpdk.org (Postfix) with ESMTP id E4E3D440E0
	for <public@inbox.dpdk.org>; Mon, 27 May 2024 11:24:14 +0200 (CEST)
Received: from mails.dpdk.org (localhost [127.0.0.1])
	by mails.dpdk.org (Postfix) with ESMTP id E0A97402BD;
	Mon, 27 May 2024 11:24:14 +0200 (CEST)
Received: from mail-il1-f228.google.com (mail-il1-f228.google.com
 [209.85.166.228])
 by mails.dpdk.org (Postfix) with ESMTP id 8A5F8402BC
 for <test-report@dpdk.org>; Mon, 27 May 2024 11:24:13 +0200 (CEST)
Received: by mail-il1-f228.google.com with SMTP id
 e9e14a558f8ab-3738e997f0bso6402165ab.1
 for <test-report@dpdk.org>; Mon, 27 May 2024 02:24:13 -0700 (PDT)
DKIM-Signature: v=1; a=rsa-sha256; c=relaxed/relaxed;
 d=iol.unh.edu; s=unh-iol; t=1716801853; x=1717406653; darn=dpdk.org;
 h=references:in-reply-to:cc:to:from:subject:message-id:date:from:to
 :cc:subject:date:message-id:reply-to;
 bh=wzxcBeRY1vsGg8tYxlsGEjQ1tX+M73TpeAIpZCluXdM=;
 b=cAfmCF645G/rSwexgkjuj2ptBwSVAze7vqh2Wf//2gYR6AarDVN8fVLniELRC6MOxZ
 JHzNAzZNWH/+3clyNiuya0uZdBqx2x5nguNValR35Y8U9YxueiXyFa/ElP4fVoFGH2TP
 akCzVX76QyFUkYxj4uA0KzTyhkH8EOUjbXvUA=
X-Google-DKIM-Signature: v=1; a=rsa-sha256; c=relaxed/relaxed;
 d=1e100.net; s=20230601; t=1716801853; x=1717406653;
 h=references:in-reply-to:cc:to:from:subject:message-id:date
 :x-gm-message-state:from:to:cc:subject:date:message-id:reply-to;
 bh=wzxcBeRY1vsGg8tYxlsGEjQ1tX+M73TpeAIpZCluXdM=;
 b=izbsf0NY1oYT8DxwihX5xl8NOaqMuXRETPHxfQh+J2cjuKD1QbGDMpTVclqsErBO5I
 qcqr+7+l+xXLNwm83Z5Loc0XUiV8n4ai0+bPMjSeqWgS/brGf+5e6V4xqVMzdXVqgUWq
 3HXWaVGggveH09KyuDAjfZ2Cq+l//UFOAAk+9AI0igFVaaZ45tTBaA80HJsB5d7FXRuq
 lML+iNHZJbhWooXZ6CZmv3FXR0CosecCzk1OdoqtL6rTPS7HXUhUHsAchlnAiZmITkd+
 5wIzhoHkrRi7+7rAO2t6lDn1+MddQFuwFv00LX7IvM/3V0W5bAsJJHdB9ei4HZK+ipij
 52Ww==
X-Gm-Message-State: AOJu0Yytm4WHdDx/KUECeqanYbq7FnGvZI6jjrParf9vdWTSL/TZLSdG
 L3eK46SwDjWM7TwU6aAQzC0RbVoV2oFSqskoUMLCYMCXQewL8qEgPuMdiZAL7KRlNBDzYeXfaAa
 /RyZulQ+MfJo/ZMr1/DEnHoiwj1w+XfaiZwBmlPOl
X-Google-Smtp-Source: AGHT+IHDe6Laev1HDZyEG6UiPphlaF0/G3a8qE2BeSSmFydBoYO/0UrSBl4R2+FC1fXV/xLF+WBpIsRkn5BJ
X-Received: by 2002:a05:6e02:1527:b0:36d:a8ac:5e25 with SMTP id
 e9e14a558f8ab-3737b2d6bd6mr102439975ab.24.1716801852987; 
 Mon, 27 May 2024 02:24:12 -0700 (PDT)
Received: from postal.iol.unh.edu (postal.iol.unh.edu. [132.177.123.84])
 by smtp-relay.gmail.com with ESMTPS id
 e9e14a558f8ab-3737c10210dsm7053625ab.0.2024.05.27.02.24.12
 (version=TLS1_2 cipher=ECDHE-ECDSA-AES128-GCM-SHA256 bits=128/128);
 Mon, 27 May 2024 02:24:12 -0700 (PDT)
X-Relaying-Domain: iol.unh.edu
Date: Mon, 27 May 2024 02:24:12 -0700 (PDT)
Message-ID: <6654513c.050a0220.3260d.70bbSMTPIN_ADDED_MISSING@mx.google.com>
Received: from [172.17.0.4] (unknown [172.18.0.217])
 by postal.iol.unh.edu (Postfix) with ESMTP id 74B326052538;
 Mon, 27 May 2024 05:24:12 -0400 (EDT)
Subject: |SUCCESS| pw140320 [PATCH] r8126: add r8126 ethernet poll mode drive
From: dpdklab@iol.unh.edu
To: Test Report <test-report@dpdk.org>
Cc: dpdk-test-reports@iol.unh.edu
In-Reply-To: <20240527061347.10013-1-howard_wang@realsil.com.cn>
References: <20240527061347.10013-1-howard_wang@realsil.com.cn>
Content-Type: text/plain
X-BeenThere: test-report@dpdk.org
X-Mailman-Version: 2.1.29
Precedence: list
List-Id: automatic DPDK test reports <test-report.dpdk.org>
List-Unsubscribe: <https://mails.dpdk.org/options/test-report>,
 <mailto:test-report-request@dpdk.org?subject=unsubscribe>
List-Archive: <http://mails.dpdk.org/archives/test-report/>
List-Post: <mailto:test-report@dpdk.org>
List-Help: <mailto:test-report-request@dpdk.org?subject=help>
List-Subscribe: <https://mails.dpdk.org/listinfo/test-report>,
 <mailto:test-report-request@dpdk.org?subject=subscribe>
Errors-To: test-report-bounces@dpdk.org

Test-Label: iol-unit-amd64-testing
Test-Status: SUCCESS
http://dpdk.org/patch/140320

_Testing PASS_

Submitter: Howard Wang <howard_wang@realsil.com.cn>
Date: Monday, May 27 2024 06:13:47 
DPDK git baseline: Repo:dpdk
  Branch: master
  CommitID:2dbb63594a9a985e2c8639b57f9fcd1468b9de97

140320 --> testing pass

Test environment and result as below:

+---------------------+----------------+
|     Environment     | dpdk_unit_test |
+=====================+================+
| CentOS Stream 8     | PASS           |
+---------------------+----------------+
| CentOS Stream 9     | PASS           |
+---------------------+----------------+
| Debian Bullseye     | PASS           |
+---------------------+----------------+
| Windows Server 2019 | PASS           |
+---------------------+----------------+
| Fedora 37           | PASS           |
+---------------------+----------------+
| Debian 12           | PASS           |
+---------------------+----------------+


CentOS Stream 8
	Kernel: 5.4.0-167-generic
	Compiler: gcc 8.5.0 20210514

CentOS Stream 9
	Kernel: 5.4.0-167-generic
	Compiler: gcc 11.4.1 20230605

Debian Bullseye
	Kernel: 5.4.0-167-generic
	Compiler: gcc 10.2.1-6

Windows Server 2019
	Kernel: 10.0.17763
	Compiler: clang 14.0 and gcc 8.1.0 (MinGW)

Fedora 37
	Kernel: Depends on container host system
	Compiler: gcc 12.3.1

Debian 12
	Kernel: Container Host Kernel
	Compiler: gcc 10.2.1

To view detailed results, visit:
https://lab.dpdk.org/results/dashboard/patchsets/30014/

UNH-IOL DPDK Community Lab

To manage your email subscriptions, visit: 
https://lab.dpdk.org/results/dashboard/preferences/subscriptions/