From mboxrd@z Thu Jan  1 00:00:00 1970
Return-Path: <test-report-bounces@dpdk.org>
Received: from mails.dpdk.org (mails.dpdk.org [217.70.189.124])
	by inbox.dpdk.org (Postfix) with ESMTP id C5809440E0
	for <public@inbox.dpdk.org>; Mon, 27 May 2024 11:30:23 +0200 (CEST)
Received: from mails.dpdk.org (localhost [127.0.0.1])
	by mails.dpdk.org (Postfix) with ESMTP id BCE27402BD;
	Mon, 27 May 2024 11:30:23 +0200 (CEST)
Received: from mail-qv1-f100.google.com (mail-qv1-f100.google.com
 [209.85.219.100])
 by mails.dpdk.org (Postfix) with ESMTP id CFAAB402BC
 for <test-report@dpdk.org>; Mon, 27 May 2024 11:30:22 +0200 (CEST)
Received: by mail-qv1-f100.google.com with SMTP id
 6a1803df08f44-6ab9d01c479so14997236d6.1
 for <test-report@dpdk.org>; Mon, 27 May 2024 02:30:22 -0700 (PDT)
DKIM-Signature: v=1; a=rsa-sha256; c=relaxed/relaxed;
 d=iol.unh.edu; s=unh-iol; t=1716802222; x=1717407022; darn=dpdk.org;
 h=references:in-reply-to:cc:to:from:subject:message-id:date:from:to
 :cc:subject:date:message-id:reply-to;
 bh=GG2+vbxuVbCj/sUxticRCVxTC4iIqFYAEWQ09FDSrmw=;
 b=J7ZIWm7zU6qcGWz7z9aVxU3Cnl9oanqWrHR3bhBi3f9Ml75Tl0USJ9H1oMsLYuEh4Q
 s4BCwTGvFVrDonEK7PzwLdLCWXv9xJDDZyH2iCcyyWV9lFlBXO9c0ux3MUk4puhdbsEV
 ffv1KwDWjixISqvWU+WoD7jYO9T52fnihxFIQ=
X-Google-DKIM-Signature: v=1; a=rsa-sha256; c=relaxed/relaxed;
 d=1e100.net; s=20230601; t=1716802222; x=1717407022;
 h=references:in-reply-to:cc:to:from:subject:message-id:date
 :x-gm-message-state:from:to:cc:subject:date:message-id:reply-to;
 bh=GG2+vbxuVbCj/sUxticRCVxTC4iIqFYAEWQ09FDSrmw=;
 b=Zp5GBP7kAnkKr8cXP6IisFv8OaUreNmnDQmNx1lrYtCtGjuVflnZw+cFM4p3td1XnR
 ncjO1E1HxKwlGINHRCq14jcmc+rohRp+1Fj4EjMAFQThCed7Jctq4zGkCOD6emSnQG7Y
 bnBAKADEGHCZ2J6Dj/4XVaXkVRBNar65+kO+s4A1YtIFJ5O0dChNl2BAFItuug/fhpU0
 AGS6pkbFYPXB32AWX8q0W/4INSi620GL+RNKi9G9uFq6CupktZA/2KAEtXrWMWsjCyli
 QNKki8vNm/u1MVTMh6dU59yH+jFIGtStkdzIOsugFxO19XR1fVTr7TviAZl7fUHDdngz
 H4qQ==
X-Gm-Message-State: AOJu0YzylA5mFJRYAaXQ3Bj0M1li9k8yTqUMPQh5Bqsyj6KU5R610L3y
 y5O5uEP36bAMSJrCIVaDWRHwG3ob21WZVAPug3xHvS2Fr6WhsvJhNJxUZMCJKEzIQpGIHhwOTyY
 7qqJguRiuTFP+xpbSdTA1PVO87YQPeU0rf2Z8QlWii+yDqjuLP5pVvMop
X-Google-Smtp-Source: AGHT+IEYZYo1VHVtw4nJCc//+MIiRaFNQTnlFA9obPAZVepQZUqznmtDAe7u+rYyJA4QDzDJEEpefI6+uOEj
X-Received: by 2002:a05:6214:5681:b0:6ad:77ad:7a9d with SMTP id
 6a1803df08f44-6ad77ad7bc2mr40707416d6.39.1716802222262; 
 Mon, 27 May 2024 02:30:22 -0700 (PDT)
Received: from postal.iol.unh.edu (postal.iol.unh.edu.
 [2606:4100:3880:1234::84]) by smtp-relay.gmail.com with ESMTPS id
 6a1803df08f44-6ac16286b7dsm9123916d6.63.2024.05.27.02.30.22
 (version=TLS1_2 cipher=ECDHE-ECDSA-AES128-GCM-SHA256 bits=128/128);
 Mon, 27 May 2024 02:30:22 -0700 (PDT)
X-Relaying-Domain: iol.unh.edu
Date: Mon, 27 May 2024 02:30:22 -0700 (PDT)
Message-ID: <665452ae.d40a0220.d5d69.caf3SMTPIN_ADDED_MISSING@mx.google.com>
Received: from [172.17.0.4] (unknown [172.18.0.217])
 by postal.iol.unh.edu (Postfix) with ESMTP id F09C86052538;
 Mon, 27 May 2024 05:30:21 -0400 (EDT)
Subject: |SUCCESS| pw140320 [PATCH] r8126: add r8126 ethernet poll mode drive
From: dpdklab@iol.unh.edu
To: Test Report <test-report@dpdk.org>
Cc: dpdk-test-reports@iol.unh.edu
In-Reply-To: <20240527061347.10013-1-howard_wang@realsil.com.cn>
References: <20240527061347.10013-1-howard_wang@realsil.com.cn>
Content-Type: text/plain
X-BeenThere: test-report@dpdk.org
X-Mailman-Version: 2.1.29
Precedence: list
List-Id: automatic DPDK test reports <test-report.dpdk.org>
List-Unsubscribe: <https://mails.dpdk.org/options/test-report>,
 <mailto:test-report-request@dpdk.org?subject=unsubscribe>
List-Archive: <http://mails.dpdk.org/archives/test-report/>
List-Post: <mailto:test-report@dpdk.org>
List-Help: <mailto:test-report-request@dpdk.org?subject=help>
List-Subscribe: <https://mails.dpdk.org/listinfo/test-report>,
 <mailto:test-report-request@dpdk.org?subject=subscribe>
Errors-To: test-report-bounces@dpdk.org

Test-Label: iol-unit-amd64-testing
Test-Status: SUCCESS
http://dpdk.org/patch/140320

_Testing PASS_

Submitter: Howard Wang <howard_wang@realsil.com.cn>
Date: Monday, May 27 2024 06:13:47 
DPDK git baseline: Repo:dpdk
  Branch: master
  CommitID:2dbb63594a9a985e2c8639b57f9fcd1468b9de97

140320 --> testing pass

Test environment and result as below:

+---------------------+----------------+
|     Environment     | dpdk_unit_test |
+=====================+================+
| CentOS Stream 8     | PASS           |
+---------------------+----------------+
| CentOS Stream 9     | PASS           |
+---------------------+----------------+
| Debian Bullseye     | PASS           |
+---------------------+----------------+
| Windows Server 2019 | PASS           |
+---------------------+----------------+
| Fedora 37           | PASS           |
+---------------------+----------------+
| Debian 12           | PASS           |
+---------------------+----------------+
| Fedora 38           | PASS           |
+---------------------+----------------+
| Fedora 39           | PASS           |
+---------------------+----------------+


CentOS Stream 8
	Kernel: 5.4.0-167-generic
	Compiler: gcc 8.5.0 20210514

CentOS Stream 9
	Kernel: 5.4.0-167-generic
	Compiler: gcc 11.4.1 20230605

Debian Bullseye
	Kernel: 5.4.0-167-generic
	Compiler: gcc 10.2.1-6

Windows Server 2019
	Kernel: 10.0.17763
	Compiler: clang 14.0 and gcc 8.1.0 (MinGW)

Fedora 37
	Kernel: Depends on container host system
	Compiler: gcc 12.3.1

Debian 12
	Kernel: Container Host Kernel
	Compiler: gcc 10.2.1

Fedora 38
	Kernel: Depends on container host
	Compiler: gcc 13.2.1

Fedora 39
	Kernel: Depends on container host
	Compiler: gcc 13.2.1

To view detailed results, visit:
https://lab.dpdk.org/results/dashboard/patchsets/30014/

UNH-IOL DPDK Community Lab

To manage your email subscriptions, visit: 
https://lab.dpdk.org/results/dashboard/preferences/subscriptions/