From mboxrd@z Thu Jan  1 00:00:00 1970
Return-Path: <test-report-bounces@dpdk.org>
Received: from mails.dpdk.org (mails.dpdk.org [217.70.189.124])
	by inbox.dpdk.org (Postfix) with ESMTP id 0EE90440EB
	for <public@inbox.dpdk.org>; Tue, 28 May 2024 04:14:26 +0200 (CEST)
Received: from mails.dpdk.org (localhost [127.0.0.1])
	by mails.dpdk.org (Postfix) with ESMTP id 097F5402E4;
	Tue, 28 May 2024 04:14:26 +0200 (CEST)
Received: from mail-io1-f100.google.com (mail-io1-f100.google.com
 [209.85.166.100])
 by mails.dpdk.org (Postfix) with ESMTP id 24ECB402D2
 for <test-report@dpdk.org>; Tue, 28 May 2024 04:14:24 +0200 (CEST)
Received: by mail-io1-f100.google.com with SMTP id
 ca18e2360f4ac-7e2274fb335so16146839f.1
 for <test-report@dpdk.org>; Mon, 27 May 2024 19:14:24 -0700 (PDT)
DKIM-Signature: v=1; a=rsa-sha256; c=relaxed/relaxed;
 d=iol.unh.edu; s=unh-iol; t=1716862463; x=1717467263; darn=dpdk.org;
 h=references:in-reply-to:cc:to:from:subject:message-id:date:from:to
 :cc:subject:date:message-id:reply-to;
 bh=Km6dbBsqmkLJJ4ZdVgzZ912fprTWlXZhB9Q9QHuPyf8=;
 b=WUVnQ+HuOOENLDfpjjt7MeAhuEDTl0S0zkndrJBpEIordw3e/p0I/kRlC/dMR4QlRM
 RkJJnXD2fMqAAXGMuackElQsvWL6CeU7qckZ+u7UaUEoSRXAJ02SpAykq5jpX+LSS1i0
 LfwGdhQ0z9q6o6/kqrOfeifTc/QEodCW9fDnU=
X-Google-DKIM-Signature: v=1; a=rsa-sha256; c=relaxed/relaxed;
 d=1e100.net; s=20230601; t=1716862463; x=1717467263;
 h=references:in-reply-to:cc:to:from:subject:message-id:date
 :x-gm-message-state:from:to:cc:subject:date:message-id:reply-to;
 bh=Km6dbBsqmkLJJ4ZdVgzZ912fprTWlXZhB9Q9QHuPyf8=;
 b=VO95V2mjC6VOfJ4gy1S0Hww4AkgRlilozS5sFFuzDky1FVIC475+aeSm/tI4Rhgi9N
 rdJ57sl9Iqlg3lJ2h6lnJhwAIlj+KkbLXB6u8BZcEwzoz8H++GrrkViGLFiciyYQ+uOG
 F9e1usb3wLa6SNzKDJHE672n9SWtHS8zIn8wbe+Hi1MBfWO392Pamhk1WRzOIln17FzY
 tSVcCwGWXq+WI30JaONxFVKnZ73hqzCxUxdtutqeVB09rUEq84z+BR+McYYddYMDB49W
 sPNcmza1c42CtfCx8QkfWf6m0Mgjh2bK0VCFKlX8MgC13Yed71rmjkvui6CIwdToOhV4
 vnJg==
X-Gm-Message-State: AOJu0Yy23PJO+HBJn4SEOzwiV615ZOax9BvTMHXAz1HoiPH2jax578+8
 e8s/TdX2ilH7wVX+zf/zry3cs88qJC/YM5IalEHUenF+IYMbnCg5hask6fP2D/5UH0XzMDYNniy
 wpbZ3qciTu4WoyzPtPb6WlhD91NS5gDX3EqLRafO5
X-Google-Smtp-Source: AGHT+IEWqdPB8sYSjq5+jonsCOL+4JW19v/AG5SjxytwEhCLAJK4DFIICRZtDdE4PdsBapWpeFl1/uotmA2z
X-Received: by 2002:a6b:4907:0:b0:7de:da47:5ea with SMTP id
 ca18e2360f4ac-7e8c480b2acmr1284723839f.4.1716862463555; 
 Mon, 27 May 2024 19:14:23 -0700 (PDT)
Received: from postal.iol.unh.edu (postal.iol.unh.edu. [132.177.123.84])
 by smtp-relay.gmail.com with ESMTPS id
 8926c6da1cb9f-4b03ecc66cfsm863529173.85.2024.05.27.19.14.23
 (version=TLS1_2 cipher=ECDHE-ECDSA-AES128-GCM-SHA256 bits=128/128);
 Mon, 27 May 2024 19:14:23 -0700 (PDT)
X-Relaying-Domain: iol.unh.edu
Date: Mon, 27 May 2024 19:14:23 -0700 (PDT)
Message-ID: <66553dff.020a0220.5d96e.8db6SMTPIN_ADDED_MISSING@mx.google.com>
Received: from [172.21.0.6] (unknown [172.18.0.240])
 by postal.iol.unh.edu (Postfix) with ESMTP id F329D60524CC;
 Mon, 27 May 2024 22:14:22 -0400 (EDT)
Subject: |SUCCESS| pw140336-140337 [PATCH] [2/2] net/nfp: support new firmwar
From: dpdklab@iol.unh.edu
To: Test Report <test-report@dpdk.org>
Cc: dpdk-test-reports@iol.unh.edu
In-Reply-To: <20240528012933.2345436-3-chaoyong.he@corigine.com>
References: <20240528012933.2345436-3-chaoyong.he@corigine.com>
Content-Type: text/plain
X-BeenThere: test-report@dpdk.org
X-Mailman-Version: 2.1.29
Precedence: list
List-Id: automatic DPDK test reports <test-report.dpdk.org>
List-Unsubscribe: <https://mails.dpdk.org/options/test-report>,
 <mailto:test-report-request@dpdk.org?subject=unsubscribe>
List-Archive: <http://mails.dpdk.org/archives/test-report/>
List-Post: <mailto:test-report@dpdk.org>
List-Help: <mailto:test-report-request@dpdk.org?subject=help>
List-Subscribe: <https://mails.dpdk.org/listinfo/test-report>,
 <mailto:test-report-request@dpdk.org?subject=subscribe>
Errors-To: test-report-bounces@dpdk.org

Test-Label: iol-compile-arm64-testing
Test-Status: SUCCESS
http://dpdk.org/patch/140337

_Testing PASS_

Submitter: Chaoyong He <chaoyong.he@corigine.com>
Date: Tuesday, May 28 2024 01:29:33 
DPDK git baseline: Repo:dpdk
  Branch: master
  CommitID:2dbb63594a9a985e2c8639b57f9fcd1468b9de97

140336-140337 --> testing pass

Test environment and result as below:

+----------------------+--------------------+
|     Environment      | dpdk_meson_compile |
+======================+====================+
| Ubuntu 20.04 ARM SVE | PASS               |
+----------------------+--------------------+
| Debian 12 with MUSDK | PASS               |
+----------------------+--------------------+
| Ubuntu 20.04 (ARM)   | PASS               |
+----------------------+--------------------+
| Fedora 39 (ARM)      | PASS               |
+----------------------+--------------------+
| Fedora 37 (ARM)      | PASS               |
+----------------------+--------------------+
| Debian 12 (arm)      | PASS               |
+----------------------+--------------------+
| Fedora 38 (ARM)      | PASS               |
+----------------------+--------------------+


Ubuntu 20.04 ARM SVE
	Kernel: 5.4.0-167-generic
	Compiler: gcc (Ubuntu 10.5.0-1ubuntu1~20.04) 10.5.0

Debian 12 with MUSDK
	Kernel: Container Host Kernel
	Compiler: gcc 12.2.0

Ubuntu 20.04 (ARM)
	Kernel: Container Host Kernel
	Compiler: gcc 9.4.0

Fedora 39 (ARM)
	Kernel: Depends on container host
	Compiler: gcc 13.2.1

Fedora 37 (ARM)
	Kernel: Depends on container host
	Compiler: gcc 12.3.1

Debian 12 (arm)
	Kernel: Container Host Kernel
	Compiler: gcc 12.2.0

Fedora 38 (ARM)
	Kernel: Depends on container host
	Compiler: gcc 13.2.1

To view detailed results, visit:
https://lab.dpdk.org/results/dashboard/patchsets/30024/

UNH-IOL DPDK Community Lab

To manage your email subscriptions, visit: 
https://lab.dpdk.org/results/dashboard/preferences/subscriptions/