From mboxrd@z Thu Jan  1 00:00:00 1970
Return-Path: <test-report-bounces@dpdk.org>
Received: from mails.dpdk.org (mails.dpdk.org [217.70.189.124])
	by inbox.dpdk.org (Postfix) with ESMTP id 521E8440EB
	for <public@inbox.dpdk.org>; Tue, 28 May 2024 04:33:34 +0200 (CEST)
Received: from mails.dpdk.org (localhost [127.0.0.1])
	by mails.dpdk.org (Postfix) with ESMTP id 4DAAA402E4;
	Tue, 28 May 2024 04:33:34 +0200 (CEST)
Received: from mail-qk1-f226.google.com (mail-qk1-f226.google.com
 [209.85.222.226])
 by mails.dpdk.org (Postfix) with ESMTP id 79B10402D2
 for <test-report@dpdk.org>; Tue, 28 May 2024 04:33:32 +0200 (CEST)
Received: by mail-qk1-f226.google.com with SMTP id
 af79cd13be357-794ab0eb68cso277342785a.0
 for <test-report@dpdk.org>; Mon, 27 May 2024 19:33:32 -0700 (PDT)
DKIM-Signature: v=1; a=rsa-sha256; c=relaxed/relaxed;
 d=iol.unh.edu; s=unh-iol; t=1716863612; x=1717468412; darn=dpdk.org;
 h=references:in-reply-to:cc:to:from:subject:message-id:date:from:to
 :cc:subject:date:message-id:reply-to;
 bh=aUGNb1sRY1UASNljGvAOvJBmcoO9V7ImqDqE4Ny1glw=;
 b=QWYVmbCdMrL1Bx0oDmGsG4wzutQ2Aw0Totm8Ee/+eV1nNV2hYv++e2BIMAki9DGPEe
 Xe1TI0hZc+6L5Fye0YrfUMBQVGfGZx6MoeM40dXIs0vtV8Xu7yZGx8vhq3HN6BZh1Xg7
 5bPNXrLgqxp3h6+26KnmWj2i8jagIWEj4m13U=
X-Google-DKIM-Signature: v=1; a=rsa-sha256; c=relaxed/relaxed;
 d=1e100.net; s=20230601; t=1716863612; x=1717468412;
 h=references:in-reply-to:cc:to:from:subject:message-id:date
 :x-gm-message-state:from:to:cc:subject:date:message-id:reply-to;
 bh=aUGNb1sRY1UASNljGvAOvJBmcoO9V7ImqDqE4Ny1glw=;
 b=cIReDCT/g6s3yLFclo8+J4Nm/A9Iw245I9XqUSw7VmHuQGk2OmrYqAGaa6ZnlRtT3I
 dJ3pXVqmmowGFYM4H0+vO0DIuG0njpNKSzzTpP6v0zG5EbS2Y9sAk2M9kuZPr3jhCmNv
 o6B3P3eIa8ifa22uR15moa2/K++TpNuZxgY1p1vBRYqvbDh0xY4USibqVNoMebvAjjsA
 3QmmQUR51nv1/LUXwks+7HpFxgWiRsP0csL+y5xVM+CwiOaS1fAEWNcsV9ZpjO3AgMdk
 123ELjy2k8ZeZDIqkar4sQ7kkO55cJ+M8uNpCHIR+1X0FhGroafFU6tfJ0hE8dE64KEr
 vx0g==
X-Gm-Message-State: AOJu0YxGv1hRa1tGA1y7ZITibaxvRNpB33tO3NxOv9UTwiis2SbvcsuU
 iacoOy342xHV1KJJSx3e9Y/sGl002XN9tktbx+35/4rtboY+ADRog5IJ3RkLxP5RQiB24ZLd/L0
 FqpmAeL7kQ3zTlbfkuoLp6hFuOJtJsZcOKgp/J93kVcgrYmup0mzwIKRe
X-Google-Smtp-Source: AGHT+IHqZS1Rjqt6p+EpfOWlWk/LlmVjw1hm3TMLn0BLBUiSZ+V2HHzIF8T1OxIrwetu71TJ5GpqOBVsCRFW
X-Received: by 2002:a05:620a:2995:b0:790:a960:28f4 with SMTP id
 af79cd13be357-794a09fd628mr2473083985a.25.1716863611937; 
 Mon, 27 May 2024 19:33:31 -0700 (PDT)
Received: from postal.iol.unh.edu (postal.iol.unh.edu.
 [2606:4100:3880:1234::84]) by smtp-relay.gmail.com with ESMTPS id
 af79cd13be357-794d2a2fc28sm3706385a.3.2024.05.27.19.33.31
 (version=TLS1_2 cipher=ECDHE-ECDSA-AES128-GCM-SHA256 bits=128/128);
 Mon, 27 May 2024 19:33:31 -0700 (PDT)
X-Relaying-Domain: iol.unh.edu
Date: Mon, 27 May 2024 19:33:31 -0700 (PDT)
Message-ID: <6655427b.050a0220.a7c1f.07e0SMTPIN_ADDED_MISSING@mx.google.com>
Received: from [172.21.0.6] (unknown [172.18.0.240])
 by postal.iol.unh.edu (Postfix) with ESMTP id 62D6F60524CC;
 Mon, 27 May 2024 22:33:31 -0400 (EDT)
Subject: |SUCCESS| pw140336-140337 [PATCH] [2/2] net/nfp: support new firmwar
From: dpdklab@iol.unh.edu
To: Test Report <test-report@dpdk.org>
Cc: dpdk-test-reports@iol.unh.edu
In-Reply-To: <20240528012933.2345436-3-chaoyong.he@corigine.com>
References: <20240528012933.2345436-3-chaoyong.he@corigine.com>
Content-Type: text/plain
X-BeenThere: test-report@dpdk.org
X-Mailman-Version: 2.1.29
Precedence: list
List-Id: automatic DPDK test reports <test-report.dpdk.org>
List-Unsubscribe: <https://mails.dpdk.org/options/test-report>,
 <mailto:test-report-request@dpdk.org?subject=unsubscribe>
List-Archive: <http://mails.dpdk.org/archives/test-report/>
List-Post: <mailto:test-report@dpdk.org>
List-Help: <mailto:test-report-request@dpdk.org?subject=help>
List-Subscribe: <https://mails.dpdk.org/listinfo/test-report>,
 <mailto:test-report-request@dpdk.org?subject=subscribe>
Errors-To: test-report-bounces@dpdk.org

Test-Label: iol-unit-arm64-testing
Test-Status: SUCCESS
http://dpdk.org/patch/140337

_Testing PASS_

Submitter: Chaoyong He <chaoyong.he@corigine.com>
Date: Tuesday, May 28 2024 01:29:33 
DPDK git baseline: Repo:dpdk
  Branch: master
  CommitID:2dbb63594a9a985e2c8639b57f9fcd1468b9de97

140336-140337 --> testing pass

Test environment and result as below:

+-----------------------------+------------------------------+---------------------------+----------------+
|         Environment         | cryptodev_sw_snow3g_autotest | cryptodev_sw_zuc_autotest | dpdk_unit_test |
+=============================+==============================+===========================+================+
| Debian 12 (arm)             | PASS                         | PASS                      | PASS           |
+-----------------------------+------------------------------+---------------------------+----------------+
| Debian 11 (Buster) (ARM)    | SKIPPED                      | SKIPPED                   | PASS           |
+-----------------------------+------------------------------+---------------------------+----------------+
| CentOS Stream 9 (ARM)       | SKIPPED                      | SKIPPED                   | PASS           |
+-----------------------------+------------------------------+---------------------------+----------------+
| Fedora 38 (ARM)             | SKIPPED                      | SKIPPED                   | PASS           |
+-----------------------------+------------------------------+---------------------------+----------------+
| Fedora 37 (ARM)             | SKIPPED                      | SKIPPED                   | PASS           |
+-----------------------------+------------------------------+---------------------------+----------------+
| Fedora 39 (ARM)             | SKIPPED                      | SKIPPED                   | PASS           |
+-----------------------------+------------------------------+---------------------------+----------------+
| 32-bit Ubuntu 20.04.4 (ARM) | SKIPPED                      | SKIPPED                   | PASS           |
+-----------------------------+------------------------------+---------------------------+----------------+
| Ubuntu 20.04 (ARM)          | SKIPPED                      | SKIPPED                   | PASS           |
+-----------------------------+------------------------------+---------------------------+----------------+


Debian 12 (arm)
	Kernel: Container Host Kernel
	Compiler: gcc 12.2.0

Debian 11 (Buster) (ARM)
	Kernel: Container Host Kernel
	Compiler: gcc 10.2.1

CentOS Stream 9 (ARM)
	Kernel: Container Host Kernel
	Compiler: gcc 11.4.1

Fedora 38 (ARM)
	Kernel: Depends on container host
	Compiler: gcc 13.2.1

Fedora 37 (ARM)
	Kernel: Depends on container host
	Compiler: gcc 12.3.1

Fedora 39 (ARM)
	Kernel: Depends on container host
	Compiler: gcc 13.2.1

32-bit Ubuntu 20.04.4 (ARM)
	Kernel: 5.4.0-155-generic aarch64
	Compiler: gcc 9.4

Ubuntu 20.04 (ARM)
	Kernel: Container Host Kernel
	Compiler: gcc 9.4.0

To view detailed results, visit:
https://lab.dpdk.org/results/dashboard/patchsets/30024/

UNH-IOL DPDK Community Lab

To manage your email subscriptions, visit: 
https://lab.dpdk.org/results/dashboard/preferences/subscriptions/