* |SUCCESS| pw140334 [PATCH v5] cnxk: disable building template files
[not found] <20240527153431.6663-1-pbhagavatula@marvell.com>
@ 2024-05-27 15:08 ` qemudev
2024-05-27 15:13 ` qemudev
` (14 subsequent siblings)
15 siblings, 0 replies; 16+ messages in thread
From: qemudev @ 2024-05-27 15:08 UTC (permalink / raw)
To: test-report
Test-Label: loongarch-compilation
Test-Status: SUCCESS
http://dpdk.org/patch/140334
_Compilation OK_
Submitter: Pavan Nikhilesh Bhagavatula <pbhagavatula@marvell.com>
Date: Mon, 27 May 2024 21:04:29 +0530
DPDK git baseline: Repo:dpdk
Branch: main
CommitID: 77e63757d2a0106a0cc519f5a82e2d749d16475a
140334 --> meson & ninja build successfully
Test environment and result as below:
+---------------------+----------------+
| Environment | compilation |
+---------------------+----------------+
| Loongnix-Server 8.3 | PASS |
+---------------------+----------------+
Loongnix-Server 8.3
Kernel: 4.19.190+
Compiler: gcc 8.3
^ permalink raw reply [flat|nested] 16+ messages in thread
* |SUCCESS| pw140334 [PATCH v5] cnxk: disable building template files
[not found] <20240527153431.6663-1-pbhagavatula@marvell.com>
2024-05-27 15:08 ` |SUCCESS| pw140334 [PATCH v5] cnxk: disable building template files qemudev
@ 2024-05-27 15:13 ` qemudev
2024-05-27 15:35 ` checkpatch
` (13 subsequent siblings)
15 siblings, 0 replies; 16+ messages in thread
From: qemudev @ 2024-05-27 15:13 UTC (permalink / raw)
To: test-report
Test-Label: loongarch-unit-testing
Test-Status: SUCCESS
http://dpdk.org/patch/140334
_Unit Testing PASS_
Submitter: Pavan Nikhilesh Bhagavatula <pbhagavatula@marvell.com>
Date: Mon, 27 May 2024 21:04:29 +0530
DPDK git baseline: Repo:dpdk
Branch: main
CommitID: 77e63757d2a0106a0cc519f5a82e2d749d16475a
140334 --> testing pass
Test environment and result as below:
+---------------------+----------------+
| Environment | dpdk_unit_test |
+---------------------+----------------+
| Loongnix-Server 8.3 | PASS |
+---------------------+----------------+
Loongnix-Server 8.3
Kernel: 4.19.190+
Compiler: gcc 8.3
Test result details:
1/112 DPDK:fast-tests / acl_autotest OK 3.33s
2/112 DPDK:fast-tests / argparse_autotest OK 0.57s
3/112 DPDK:fast-tests / atomic_autotest OK 8.83s
4/112 DPDK:fast-tests / bitcount_autotest OK 0.47s
5/112 DPDK:fast-tests / bitmap_autotest OK 0.47s
6/112 DPDK:fast-tests / bitops_autotest OK 0.47s
7/112 DPDK:fast-tests / bitratestats_autotest OK 0.47s
8/112 DPDK:fast-tests / bpf_autotest OK 0.47s
9/112 DPDK:fast-tests / bpf_convert_autotest OK 0.47s
10/112 DPDK:fast-tests / byteorder_autotest OK 0.47s
11/112 DPDK:fast-tests / cksum_autotest OK 0.47s
12/112 DPDK:fast-tests / cmdline_autotest OK 0.47s
13/112 DPDK:fast-tests / common_autotest OK 1.32s
14/112 DPDK:fast-tests / compressdev_autotest SKIP 0.12s exit status 77
15/112 DPDK:fast-tests / cpuflags_autotest OK 0.47s
16/112 DPDK:fast-tests / crc_autotest OK 0.47s
17/112 DPDK:fast-tests / user_delay_us OK 0.47s
18/112 DPDK:fast-tests / debug_autotest OK 15.11s
19/112 DPDK:fast-tests / devargs_autotest OK 0.47s
20/112 DPDK:fast-tests / dispatcher_autotest OK 2.47s
21/112 DPDK:fast-tests / distributor_autotest OK 1.27s
22/112 DPDK:fast-tests / eal_flags_c_opt_autotest OK 1.22s
23/112 DPDK:fast-tests / eal_flags_main_opt_autotest OK 0.32s
24/112 DPDK:fast-tests / eal_flags_n_opt_autotest OK 0.27s
25/112 DPDK:fast-tests / eal_flags_hpet_autotest OK 0.17s
26/112 DPDK:fast-tests / eal_flags_no_huge_autotest OK 0.32s
27/112 DPDK:fast-tests / eal_flags_a_opt_autotest OK 0.47s
28/112 DPDK:fast-tests / eal_flags_b_opt_autotest OK 0.37s
29/112 DPDK:fast-tests / eal_flags_vdev_opt_autotest OK 0.27s
30/112 DPDK:fast-tests / eal_flags_r_opt_autotest OK 0.27s
31/112 DPDK:fast-tests / eal_flags_mem_autotest OK 0.77s
32/112 DPDK:fast-tests / eal_flags_file_prefix_autotest OK 22.41s
33/112 DPDK:fast-tests / eal_flags_misc_autotest OK 1.17s
34/112 DPDK:fast-tests / eal_fs_autotest OK 0.47s
35/112 DPDK:fast-tests / errno_autotest OK 0.47s
36/112 DPDK:fast-tests / ethdev_link_status OK 0.47s
37/112 DPDK:fast-tests / event_eth_tx_adapter_autotest OK 1.72s
38/112 DPDK:fast-tests / event_ring_autotest OK 0.47s
39/112 DPDK:fast-tests / eventdev_common_autotest OK 0.47s
40/112 DPDK:fast-tests / eventdev_selftest_sw OK 7.53s
41/112 DPDK:fast-tests / fbarray_autotest OK 0.47s
42/112 DPDK:fast-tests / fib_autotest OK 1.17s
43/112 DPDK:fast-tests / fib6_autotest OK 1.22s
44/112 DPDK:fast-tests / func_reentrancy_autotest OK 2.18s
45/112 DPDK:fast-tests / graph_autotest OK 0.47s
46/112 DPDK:fast-tests / node_list_dump OK 0.47s
47/112 DPDK:fast-tests / hash_autotest OK 1.42s
48/112 DPDK:fast-tests / hash_readwrite_func_autotest OK 6.54s
49/112 DPDK:fast-tests / interrupt_autotest OK 1.77s
50/112 DPDK:fast-tests / ipfrag_autotest OK 0.12s
51/112 DPDK:fast-tests / ipsec_autotest SKIP 0.47s exit status 77
52/112 DPDK:fast-tests / kvargs_autotest OK 0.47s
53/112 DPDK:fast-tests / latencystats_autotest OK 0.47s
54/112 DPDK:fast-tests / lcores_autotest OK 5.28s
55/112 DPDK:fast-tests / logs_autotest OK 0.47s
56/112 DPDK:fast-tests / lpm_autotest OK 2.48s
57/112 DPDK:fast-tests / lpm6_autotest OK 5.69s
58/112 DPDK:fast-tests / malloc_autotest OK 62.72s
59/112 DPDK:fast-tests / mbuf_autotest OK 4.92s
60/112 DPDK:fast-tests / mcslock_autotest OK 3.32s
61/112 DPDK:fast-tests / member_autotest OK 1.72s
62/112 DPDK:fast-tests / memcpy_autotest OK 7.08s
63/112 DPDK:fast-tests / memory_autotest OK 0.12s
64/112 DPDK:fast-tests / mempool_autotest OK 0.47s
65/112 DPDK:fast-tests / memzone_autotest OK 0.17s
66/112 DPDK:fast-tests / meter_autotest OK 0.47s
67/112 DPDK:fast-tests / metrics_autotest OK 0.47s
68/112 DPDK:fast-tests / multiprocess_autotest OK 0.27s
69/112 DPDK:fast-tests / net_ether_autotest OK 1.12s
70/112 DPDK:fast-tests / pcapng_autotest OK 7.08s
71/112 DPDK:fast-tests / pdcp_autotest SKIP 0.12s exit status 77
72/112 DPDK:fast-tests / pdump_autotest OK 0.62s
73/112 DPDK:fast-tests / per_lcore_autotest OK 0.57s
74/112 DPDK:fast-tests / pflock_autotest OK 1.27s
75/112 DPDK:fast-tests / pie_autotest OK 0.47s
76/112 DPDK:fast-tests / ring_pmd_autotest OK 0.47s
77/112 DPDK:fast-tests / power_autotest OK 0.47s
78/112 DPDK:fast-tests / power_cpufreq_autotest SKIP 0.12s exit status 77
79/112 DPDK:fast-tests / power_intel_uncore_autotest SKIP 0.47s exit status 77
80/112 DPDK:fast-tests / power_kvm_vm_autotest SKIP 0.12s exit status 77
81/112 DPDK:fast-tests / prefetch_autotest OK 0.47s
82/112 DPDK:fast-tests / rawdev_autotest OK 0.47s
83/112 DPDK:fast-tests / rcu_qsbr_autotest OK 0.97s
84/112 DPDK:fast-tests / reorder_autotest OK 0.62s
85/112 DPDK:fast-tests / rib_autotest OK 9.19s
86/112 DPDK:fast-tests / rib6_autotest OK 9.34s
87/112 DPDK:fast-tests / ring_autotest OK 0.72s
88/112 DPDK:fast-tests / rwlock_test1_autotest OK 1.42s
89/112 DPDK:fast-tests / rwlock_rda_autotest OK 5.68s
90/112 DPDK:fast-tests / rwlock_rds_wrm_autotest OK 5.68s
91/112 DPDK:fast-tests / rwlock_rde_wro_autotest OK 5.68s
92/112 DPDK:fast-tests / sched_autotest OK 0.67s
93/112 DPDK:fast-tests / security_autotest OK 0.12s
94/112 DPDK:fast-tests / seqlock_autotest OK 2.32s
95/112 DPDK:fast-tests / service_autotest OK 3.07s
96/112 DPDK:fast-tests / spinlock_autotest OK 0.42s
97/112 DPDK:fast-tests / stack_autotest OK 0.87s
98/112 DPDK:fast-tests / stack_lf_autotest SKIP 0.07s exit status 77
99/112 DPDK:fast-tests / string_autotest OK 0.32s
100/112 DPDK:fast-tests / table_autotest OK 7.83s
101/112 DPDK:fast-tests / tailq_autotest OK 0.32s
102/112 DPDK:fast-tests / telemetry_data_autotest OK 0.32s
103/112 DPDK:fast-tests / telemetry_json_autotest OK 0.32s
104/112 DPDK:fast-tests / thash_autotest OK 0.37s
105/112 DPDK:fast-tests / threads_autotest OK 0.52s
106/112 DPDK:fast-tests / ticketlock_autotest OK 0.47s
107/112 DPDK:fast-tests / timer_autotest OK 3.92s
108/112 DPDK:fast-tests / trace_autotest OK 0.32s
109/112 DPDK:fast-tests / trace_autotest_with_traces OK 0.37s
110/112 DPDK:fast-tests / vdev_autotest OK 0.57s
111/112 DPDK:fast-tests / version_autotest OK 0.42s
112/112 DPDK:fast-tests / telemetry_all OK 1.27s
Ok: 105
Expected Fail: 0
Fail: 0
Unexpected Pass: 0
Skipped: 7
Timeout: 0
^ permalink raw reply [flat|nested] 16+ messages in thread
* |SUCCESS| pw140334 [PATCH v5] cnxk: disable building template files
[not found] <20240527153431.6663-1-pbhagavatula@marvell.com>
2024-05-27 15:08 ` |SUCCESS| pw140334 [PATCH v5] cnxk: disable building template files qemudev
2024-05-27 15:13 ` qemudev
@ 2024-05-27 15:35 ` checkpatch
2024-05-27 16:23 ` 0-day Robot
` (12 subsequent siblings)
15 siblings, 0 replies; 16+ messages in thread
From: checkpatch @ 2024-05-27 15:35 UTC (permalink / raw)
To: test-report
Test-Label: checkpatch
Test-Status: SUCCESS
http://dpdk.org/patch/140334
_coding style OK_
^ permalink raw reply [flat|nested] 16+ messages in thread
* |SUCCESS| pw140334 [PATCH v5] cnxk: disable building template files
[not found] <20240527153431.6663-1-pbhagavatula@marvell.com>
` (2 preceding siblings ...)
2024-05-27 15:35 ` checkpatch
@ 2024-05-27 16:23 ` 0-day Robot
2024-05-28 3:17 ` |SUCCESS| pw140334 [PATCH] [v5] cnxk: disable building template file dpdklab
` (11 subsequent siblings)
15 siblings, 0 replies; 16+ messages in thread
From: 0-day Robot @ 2024-05-27 16:23 UTC (permalink / raw)
To: test-report; +Cc: robot
From: robot@bytheb.org
Test-Label: github-robot: build
Test-Status: SUCCESS
http://patchwork.dpdk.org/patch/140334/
_github build: passed_
Build URL: https://github.com/ovsrobot/dpdk/actions/runs/9257451951
^ permalink raw reply [flat|nested] 16+ messages in thread
* |SUCCESS| pw140334 [PATCH] [v5] cnxk: disable building template file
[not found] <20240527153431.6663-1-pbhagavatula@marvell.com>
` (3 preceding siblings ...)
2024-05-27 16:23 ` 0-day Robot
@ 2024-05-28 3:17 ` dpdklab
2024-05-28 3:21 ` dpdklab
` (10 subsequent siblings)
15 siblings, 0 replies; 16+ messages in thread
From: dpdklab @ 2024-05-28 3:17 UTC (permalink / raw)
To: Test Report; +Cc: dpdk-test-reports
Test-Label: iol-intel-Functional
Test-Status: SUCCESS
http://dpdk.org/patch/140334
_Functional Testing PASS_
Submitter: Pavan Nikhilesh Bhagavatula <pbhagavatula@marvell.com>
Date: Monday, May 27 2024 15:34:29
DPDK git baseline: Repo:dpdk
Branch: master
CommitID:77e63757d2a0106a0cc519f5a82e2d749d16475a
140334 --> functional testing pass
Test environment and result as below:
Ubuntu 20.04
Kernel: 5.4.0-122-generic
Compiler: gcc 9.4.0
NIC: Intel Corporation Ethernet Converged Network Adapter XL710-QDA2 40000 Mbps
Target: x86_64-native-linuxapp-gcc
Fail/Total: 0/4
Ubuntu 20.04
Kernel: 5.4.0-122-generic
Compiler: gcc 9.4.0
NIC: Intel Corporation Ethernet Converged Network Adapter 82599ES 10000 Mbps
Target: x86_64-native-linuxapp-gcc
Fail/Total: 0/1
To view detailed results, visit:
https://lab.dpdk.org/results/dashboard/patchsets/30022/
UNH-IOL DPDK Community Lab
To manage your email subscriptions, visit:
https://lab.dpdk.org/results/dashboard/preferences/subscriptions/
^ permalink raw reply [flat|nested] 16+ messages in thread
* |SUCCESS| pw140334 [PATCH] [v5] cnxk: disable building template file
[not found] <20240527153431.6663-1-pbhagavatula@marvell.com>
` (4 preceding siblings ...)
2024-05-28 3:17 ` |SUCCESS| pw140334 [PATCH] [v5] cnxk: disable building template file dpdklab
@ 2024-05-28 3:21 ` dpdklab
2024-05-28 3:28 ` dpdklab
` (9 subsequent siblings)
15 siblings, 0 replies; 16+ messages in thread
From: dpdklab @ 2024-05-28 3:21 UTC (permalink / raw)
To: Test Report; +Cc: dpdk-test-reports
Test-Label: iol-intel-Performance
Test-Status: SUCCESS
http://dpdk.org/patch/140334
_Performance Testing PASS_
Submitter: Pavan Nikhilesh Bhagavatula <pbhagavatula@marvell.com>
Date: Monday, May 27 2024 15:34:29
DPDK git baseline: Repo:dpdk
Branch: master
CommitID:77e63757d2a0106a0cc519f5a82e2d749d16475a
140334 --> performance testing pass
Test environment and result as below:
Ubuntu 20.04
Kernel: 5.4.0-122-generic
Compiler: gcc 9.4.0
NIC: Intel Corporation Ethernet Converged Network Adapter XL710-QDA2 40000 Mbps
Target: x86_64-native-linuxapp-gcc
Fail/Total: 0/4
Detail performance results:
+----------+-------------+---------+------------+------------------------------+
| num_cpus | num_threads | txd/rxd | frame_size | throughput difference from |
| | | | | expected |
+==========+=============+=========+============+==============================+
| 1 | 2 | 512 | 64 | -0.1% |
+----------+-------------+---------+------------+------------------------------+
| 1 | 2 | 2048 | 64 | 2.1% |
+----------+-------------+---------+------------+------------------------------+
| 1 | 1 | 512 | 64 | -1.2% |
+----------+-------------+---------+------------+------------------------------+
| 1 | 1 | 2048 | 64 | 3.2% |
+----------+-------------+---------+------------+------------------------------+
Ubuntu 20.04
Kernel: 5.4.0-122-generic
Compiler: gcc 9.4.0
NIC: Intel Corporation Ethernet Converged Network Adapter 82599ES 10000 Mbps
Target: x86_64-native-linuxapp-gcc
Fail/Total: 0/6
Detail performance results:
+----------+-------------+---------+------------+------------------------------+
| num_cpus | num_threads | txd/rxd | frame_size | throughput difference from |
| | | | | expected |
+==========+=============+=========+============+==============================+
| 1 | 2 | 128 | 64 | -0.2% |
+----------+-------------+---------+------------+------------------------------+
| 1 | 2 | 512 | 64 | 0.0% |
+----------+-------------+---------+------------+------------------------------+
| 1 | 2 | 2048 | 64 | 0.1% |
+----------+-------------+---------+------------+------------------------------+
| 1 | 1 | 128 | 64 | -0.0% |
+----------+-------------+---------+------------+------------------------------+
| 1 | 1 | 512 | 64 | 0.0% |
+----------+-------------+---------+------------+------------------------------+
| 1 | 1 | 2048 | 64 | 0.4% |
+----------+-------------+---------+------------+------------------------------+
Ubuntu 20.04 ARM
Kernel: 5.15.0-97-generic
Compiler: gcc 11.4.0
NIC: Arm Intel Corporation Ethernet Converged Network Adapter XL710-QDA2 40000 Mbps
Target: x86_64-native-linuxapp-gcc
Fail/Total: 0/2
Detail performance results:
+------------+---------+----------+-------------+------------------------------+
| frame_size | txd/rxd | num_cpus | num_threads | throughput difference from |
| | | | | expected |
+============+=========+==========+=============+==============================+
| 64 | 512 | 1 | 1 | -0.2% |
+------------+---------+----------+-------------+------------------------------+
| 64 | 2048 | 1 | 1 | -0.3% |
+------------+---------+----------+-------------+------------------------------+
To view detailed results, visit:
https://lab.dpdk.org/results/dashboard/patchsets/30022/
UNH-IOL DPDK Community Lab
To manage your email subscriptions, visit:
https://lab.dpdk.org/results/dashboard/preferences/subscriptions/
^ permalink raw reply [flat|nested] 16+ messages in thread
* |SUCCESS| pw140334 [PATCH] [v5] cnxk: disable building template file
[not found] <20240527153431.6663-1-pbhagavatula@marvell.com>
` (5 preceding siblings ...)
2024-05-28 3:21 ` dpdklab
@ 2024-05-28 3:28 ` dpdklab
2024-05-28 3:40 ` dpdklab
` (8 subsequent siblings)
15 siblings, 0 replies; 16+ messages in thread
From: dpdklab @ 2024-05-28 3:28 UTC (permalink / raw)
To: Test Report; +Cc: dpdk-test-reports
Test-Label: iol-intel-Functional
Test-Status: SUCCESS
http://dpdk.org/patch/140334
_Functional Testing PASS_
Submitter: Pavan Nikhilesh Bhagavatula <pbhagavatula@marvell.com>
Date: Monday, May 27 2024 15:34:29
DPDK git baseline: Repo:dpdk
Branch: master
CommitID:77e63757d2a0106a0cc519f5a82e2d749d16475a
140334 --> functional testing pass
Test environment and result as below:
Ubuntu 20.04
Kernel: 5.4.0-122-generic
Compiler: gcc 9.4.0
NIC: Intel Corporation Ethernet Converged Network Adapter XL710-QDA2 40000 Mbps
Target: x86_64-native-linuxapp-gcc
Fail/Total: 0/4
Ubuntu 20.04
Kernel: 5.4.0-122-generic
Compiler: gcc 9.4.0
NIC: Intel Corporation Ethernet Converged Network Adapter 82599ES 10000 Mbps
Target: x86_64-native-linuxapp-gcc
Fail/Total: 0/4
Ubuntu 20.04 ARM
Kernel: 5.15.0-97-generic
Compiler: gcc 11.4.0
NIC: Arm Intel Corporation Ethernet Converged Network Adapter XL710-QDA2 40000 Mbps
Target: x86_64-native-linuxapp-gcc
Fail/Total: 0/2
To view detailed results, visit:
https://lab.dpdk.org/results/dashboard/patchsets/30022/
UNH-IOL DPDK Community Lab
To manage your email subscriptions, visit:
https://lab.dpdk.org/results/dashboard/preferences/subscriptions/
^ permalink raw reply [flat|nested] 16+ messages in thread
* |SUCCESS| pw140334 [PATCH] [v5] cnxk: disable building template file
[not found] <20240527153431.6663-1-pbhagavatula@marvell.com>
` (6 preceding siblings ...)
2024-05-28 3:28 ` dpdklab
@ 2024-05-28 3:40 ` dpdklab
2024-05-28 3:56 ` dpdklab
` (7 subsequent siblings)
15 siblings, 0 replies; 16+ messages in thread
From: dpdklab @ 2024-05-28 3:40 UTC (permalink / raw)
To: Test Report; +Cc: dpdk-test-reports
Test-Label: iol-abi-testing
Test-Status: SUCCESS
http://dpdk.org/patch/140334
_Testing PASS_
Submitter: Pavan Nikhilesh Bhagavatula <pbhagavatula@marvell.com>
Date: Monday, May 27 2024 15:34:29
DPDK git baseline: Repo:dpdk
Branch: master
CommitID:77e63757d2a0106a0cc519f5a82e2d749d16475a
140334 --> testing pass
Test environment and result as below:
+-----------------+----------+
| Environment | abi_test |
+=================+==========+
| Debian Bullseye | PASS |
+-----------------+----------+
| Debian 12 | PASS |
+-----------------+----------+
Debian Bullseye
Kernel: 5.4.0-167-generic
Compiler: gcc 10.2.1-6
Debian 12
Kernel: Container Host Kernel
Compiler: gcc 10.2.1
To view detailed results, visit:
https://lab.dpdk.org/results/dashboard/patchsets/30022/
UNH-IOL DPDK Community Lab
To manage your email subscriptions, visit:
https://lab.dpdk.org/results/dashboard/preferences/subscriptions/
^ permalink raw reply [flat|nested] 16+ messages in thread
* |SUCCESS| pw140334 [PATCH] [v5] cnxk: disable building template file
[not found] <20240527153431.6663-1-pbhagavatula@marvell.com>
` (7 preceding siblings ...)
2024-05-28 3:40 ` dpdklab
@ 2024-05-28 3:56 ` dpdklab
2024-05-28 4:00 ` dpdklab
` (6 subsequent siblings)
15 siblings, 0 replies; 16+ messages in thread
From: dpdklab @ 2024-05-28 3:56 UTC (permalink / raw)
To: Test Report; +Cc: dpdk-test-reports
Test-Label: iol-broadcom-Performance
Test-Status: SUCCESS
http://dpdk.org/patch/140334
_Performance Testing PASS_
Submitter: Pavan Nikhilesh Bhagavatula <pbhagavatula@marvell.com>
Date: Monday, May 27 2024 15:34:29
DPDK git baseline: Repo:dpdk
Branch: master
CommitID:77e63757d2a0106a0cc519f5a82e2d749d16475a
140334 --> performance testing pass
Test environment and result as below:
Ubuntu 22.04 ARM
Kernel: 5.15.83+
Compiler: gcc 11.4.0
NIC: Arm Broadcom Inc. brcm_57414 25000 Mbps
Target: x86_64-native-linuxapp-gcc
Fail/Total: 0/2
Detail performance results:
+------------+---------+----------+-------------+------------------------------+
| frame_size | txd/rxd | num_cpus | num_threads | throughput difference from |
| | | | | expected |
+============+=========+==========+=============+==============================+
| 64 | 512 | 1 | 1 | 0.1% |
+------------+---------+----------+-------------+------------------------------+
| 64 | 2048 | 1 | 1 | -0.3% |
+------------+---------+----------+-------------+------------------------------+
To view detailed results, visit:
https://lab.dpdk.org/results/dashboard/patchsets/30022/
UNH-IOL DPDK Community Lab
To manage your email subscriptions, visit:
https://lab.dpdk.org/results/dashboard/preferences/subscriptions/
^ permalink raw reply [flat|nested] 16+ messages in thread
* |SUCCESS| pw140334 [PATCH] [v5] cnxk: disable building template file
[not found] <20240527153431.6663-1-pbhagavatula@marvell.com>
` (8 preceding siblings ...)
2024-05-28 3:56 ` dpdklab
@ 2024-05-28 4:00 ` dpdklab
2024-05-28 4:09 ` dpdklab
` (5 subsequent siblings)
15 siblings, 0 replies; 16+ messages in thread
From: dpdklab @ 2024-05-28 4:00 UTC (permalink / raw)
To: Test Report; +Cc: dpdk-test-reports
Test-Label: iol-broadcom-Functional
Test-Status: SUCCESS
http://dpdk.org/patch/140334
_Functional Testing PASS_
Submitter: Pavan Nikhilesh Bhagavatula <pbhagavatula@marvell.com>
Date: Monday, May 27 2024 15:34:29
DPDK git baseline: Repo:dpdk
Branch: master
CommitID:77e63757d2a0106a0cc519f5a82e2d749d16475a
140334 --> functional testing pass
Test environment and result as below:
Arm Ampere Altra - Ubuntu 22.04.3
Kernel: 5.15.83+
Compiler: gcc 11.4.0
NIC: Broadcom Inc. and subsidiaries BCM957508-P2100G Dual-Port 100 Gb/s QSFP56 100 Mbps
Target: x86_64-native-linuxapp-gcc
Fail/Total: 0/1
To view detailed results, visit:
https://lab.dpdk.org/results/dashboard/patchsets/30022/
UNH-IOL DPDK Community Lab
To manage your email subscriptions, visit:
https://lab.dpdk.org/results/dashboard/preferences/subscriptions/
^ permalink raw reply [flat|nested] 16+ messages in thread
* |SUCCESS| pw140334 [PATCH] [v5] cnxk: disable building template file
[not found] <20240527153431.6663-1-pbhagavatula@marvell.com>
` (9 preceding siblings ...)
2024-05-28 4:00 ` dpdklab
@ 2024-05-28 4:09 ` dpdklab
2024-05-28 4:10 ` dpdklab
` (4 subsequent siblings)
15 siblings, 0 replies; 16+ messages in thread
From: dpdklab @ 2024-05-28 4:09 UTC (permalink / raw)
To: Test Report; +Cc: dpdk-test-reports
Test-Label: iol-broadcom-Functional
Test-Status: SUCCESS
http://dpdk.org/patch/140334
_Functional Testing PASS_
Submitter: Pavan Nikhilesh Bhagavatula <pbhagavatula@marvell.com>
Date: Monday, May 27 2024 15:34:29
DPDK git baseline: Repo:dpdk
Branch: master
CommitID:77e63757d2a0106a0cc519f5a82e2d749d16475a
140334 --> functional testing pass
Test environment and result as below:
Arm Ampere Altra - Ubuntu 22.04.3
Kernel: 5.15.83+
Compiler: gcc 11.4.0
NIC: Broadcom Inc. and subsidiaries BCM957508-P2100G Dual-Port 100 Gb/s QSFP56 100 Mbps
Target: x86_64-native-linuxapp-gcc
Fail/Total: 0/1
Ubuntu 22.04 ARM
Kernel: 5.15.83+
Compiler: gcc 11.4.0
NIC: Arm Broadcom Inc. brcm_57414 25000 Mbps
Target: x86_64-native-linuxapp-gcc
Fail/Total: 0/1
To view detailed results, visit:
https://lab.dpdk.org/results/dashboard/patchsets/30022/
UNH-IOL DPDK Community Lab
To manage your email subscriptions, visit:
https://lab.dpdk.org/results/dashboard/preferences/subscriptions/
^ permalink raw reply [flat|nested] 16+ messages in thread
* |SUCCESS| pw140334 [PATCH] [v5] cnxk: disable building template file
[not found] <20240527153431.6663-1-pbhagavatula@marvell.com>
` (10 preceding siblings ...)
2024-05-28 4:09 ` dpdklab
@ 2024-05-28 4:10 ` dpdklab
2024-05-28 4:43 ` dpdklab
` (3 subsequent siblings)
15 siblings, 0 replies; 16+ messages in thread
From: dpdklab @ 2024-05-28 4:10 UTC (permalink / raw)
To: Test Report; +Cc: dpdk-test-reports
Test-Label: iol-intel-Functional
Test-Status: SUCCESS
http://dpdk.org/patch/140334
_Functional Testing PASS_
Submitter: Pavan Nikhilesh Bhagavatula <pbhagavatula@marvell.com>
Date: Monday, May 27 2024 15:34:29
DPDK git baseline: Repo:dpdk
Branch: master
CommitID:77e63757d2a0106a0cc519f5a82e2d749d16475a
140334 --> functional testing pass
Test environment and result as below:
Ubuntu 20.04
Kernel: 5.4.0-122-generic
Compiler: gcc 9.4.0
NIC: Intel Corporation Ethernet Converged Network Adapter XL710-QDA2 40000 Mbps
Target: x86_64-native-linuxapp-gcc
Fail/Total: 0/4
Ubuntu 20.04
Kernel: 5.4.0-122-generic
Compiler: gcc 9.4.0
NIC: Intel Corporation Ethernet Converged Network Adapter 82599ES 10000 Mbps
Target: x86_64-native-linuxapp-gcc
Fail/Total: 0/4
Arm Ampere Altra - Ubuntu 22.04.3
Kernel: 5.15.0-83-generic aarch64
Compiler: gcc 11.4.0
NIC: Intel Corporation Ethernet Converged Network Adapter XL710-QDA2 40000 Mbps
Target: x86_64-native-linuxapp-gcc
Fail/Total: 0/1
Ubuntu 20.04 ARM
Kernel: 5.15.0-97-generic
Compiler: gcc 11.4.0
NIC: Arm Intel Corporation Ethernet Converged Network Adapter XL710-QDA2 40000 Mbps
Target: x86_64-native-linuxapp-gcc
Fail/Total: 0/2
To view detailed results, visit:
https://lab.dpdk.org/results/dashboard/patchsets/30022/
UNH-IOL DPDK Community Lab
To manage your email subscriptions, visit:
https://lab.dpdk.org/results/dashboard/preferences/subscriptions/
^ permalink raw reply [flat|nested] 16+ messages in thread
* |SUCCESS| pw140334 [PATCH] [v5] cnxk: disable building template file
[not found] <20240527153431.6663-1-pbhagavatula@marvell.com>
` (11 preceding siblings ...)
2024-05-28 4:10 ` dpdklab
@ 2024-05-28 4:43 ` dpdklab
2024-05-29 23:34 ` dpdklab
` (2 subsequent siblings)
15 siblings, 0 replies; 16+ messages in thread
From: dpdklab @ 2024-05-28 4:43 UTC (permalink / raw)
To: Test Report; +Cc: dpdk-test-reports
Test-Label: iol-intel-Functional
Test-Status: SUCCESS
http://dpdk.org/patch/140334
_Functional Testing PASS_
Submitter: Pavan Nikhilesh Bhagavatula <pbhagavatula@marvell.com>
Date: Monday, May 27 2024 15:34:29
DPDK git baseline: Repo:dpdk
Branch: master
CommitID:77e63757d2a0106a0cc519f5a82e2d749d16475a
140334 --> functional testing pass
Test environment and result as below:
Ubuntu 20.04
Kernel: 5.4.0-122-generic
Compiler: gcc 9.4.0
NIC: Intel Corporation Ethernet Converged Network Adapter XL710-QDA2 40000 Mbps
Target: x86_64-native-linuxapp-gcc
Fail/Total: 0/4
Ubuntu 20.04
Kernel: 5.4.0-122-generic
Compiler: gcc 9.4.0
NIC: Intel Corporation Ethernet Converged Network Adapter 82599ES 10000 Mbps
Target: x86_64-native-linuxapp-gcc
Fail/Total: 0/4
Arm Ampere Altra - Ubuntu 22.04.3
Kernel: 5.15.0-83-generic aarch64
Compiler: gcc 11.4.0
NIC: Intel Corporation Ethernet Converged Network Adapter XL710-QDA2 40000 Mbps
Target: x86_64-native-linuxapp-gcc
Fail/Total: 0/1
Ubuntu 20.04 ARM
Kernel: 5.15.0-97-generic
Compiler: gcc 11.4.0
NIC: Arm Intel Corporation Ethernet Converged Network Adapter XL710-QDA2 40000 Mbps
Target: x86_64-native-linuxapp-gcc
Fail/Total: 0/2
Arm Ampere Altra - Ubuntu 22.04
Kernel: 5.15.83+
Compiler: gcc 11.4
NIC: Intel Corporation QAT 8970 0 Mbps
Target: x86_64-native-linuxapp-gcc
Fail/Total: 0/1
To view detailed results, visit:
https://lab.dpdk.org/results/dashboard/patchsets/30022/
UNH-IOL DPDK Community Lab
To manage your email subscriptions, visit:
https://lab.dpdk.org/results/dashboard/preferences/subscriptions/
^ permalink raw reply [flat|nested] 16+ messages in thread
* |SUCCESS| pw140334 [PATCH] [v5] cnxk: disable building template file
[not found] <20240527153431.6663-1-pbhagavatula@marvell.com>
` (13 preceding siblings ...)
2024-05-29 23:34 ` dpdklab
@ 2024-05-29 23:34 ` dpdklab
2024-05-29 23:36 ` dpdklab
15 siblings, 0 replies; 16+ messages in thread
From: dpdklab @ 2024-05-29 23:34 UTC (permalink / raw)
To: Test Report; +Cc: dpdk-test-reports
Test-Label: iol-mellanox-Performance
Test-Status: SUCCESS
http://dpdk.org/patch/140334
_Performance Testing PASS_
Submitter: Pavan Nikhilesh Bhagavatula <pbhagavatula@marvell.com>
Date: Monday, May 27 2024 15:34:29
DPDK git baseline: Repo:dpdk
Branch: master
CommitID:77e63757d2a0106a0cc519f5a82e2d749d16475a
140334 --> performance testing pass
Test environment and result as below:
Ubuntu 22.04
Kernel: 5.15.0-94-generic
Compiler: gcc 11.4.0
NIC: Mellanox ConnectX-6 Lx 25000 Mbps
Target: Unknown
Fail/Total: 0/6
Detail performance results:
+------------+---------+----------+-------------+------------------------------+
| frame_size | txd/rxd | num_cpus | num_threads | throughput difference from |
| | | | | expected |
+============+=========+==========+=============+==============================+
| 64 | 256 | 1 | 1 | -0.4% |
+------------+---------+----------+-------------+------------------------------+
| 128 | 256 | 1 | 1 | 0.2% |
+------------+---------+----------+-------------+------------------------------+
| 1024 | 256 | 1 | 1 | 0.1% |
+------------+---------+----------+-------------+------------------------------+
| 256 | 256 | 1 | 1 | -0.1% |
+------------+---------+----------+-------------+------------------------------+
| 1518 | 256 | 1 | 1 | 0.2% |
+------------+---------+----------+-------------+------------------------------+
| 512 | 256 | 1 | 1 | -0.2% |
+------------+---------+----------+-------------+------------------------------+
To view detailed results, visit:
https://lab.dpdk.org/results/dashboard/patchsets/30022/
UNH-IOL DPDK Community Lab
To manage your email subscriptions, visit:
https://lab.dpdk.org/results/dashboard/preferences/subscriptions/
^ permalink raw reply [flat|nested] 16+ messages in thread
* |SUCCESS| pw140334 [PATCH] [v5] cnxk: disable building template file
[not found] <20240527153431.6663-1-pbhagavatula@marvell.com>
` (12 preceding siblings ...)
2024-05-28 4:43 ` dpdklab
@ 2024-05-29 23:34 ` dpdklab
2024-05-29 23:34 ` dpdklab
2024-05-29 23:36 ` dpdklab
15 siblings, 0 replies; 16+ messages in thread
From: dpdklab @ 2024-05-29 23:34 UTC (permalink / raw)
To: Test Report; +Cc: dpdk-test-reports
Test-Label: iol-intel-Performance
Test-Status: SUCCESS
http://dpdk.org/patch/140334
_Performance Testing PASS_
Submitter: Pavan Nikhilesh Bhagavatula <pbhagavatula@marvell.com>
Date: Monday, May 27 2024 15:34:29
DPDK git baseline: Repo:dpdk
Branch: master
CommitID:77e63757d2a0106a0cc519f5a82e2d749d16475a
140334 --> performance testing pass
Test environment and result as below:
Ubuntu 20.04
Kernel: 5.4.0-122-generic
Compiler: gcc 9.4.0
NIC: Intel Corporation Ethernet Converged Network Adapter XL710-QDA2 40000 Mbps
Target: Unknown
Fail/Total: 0/4
Detail performance results:
+----------+-------------+---------+------------+------------------------------+
| num_cpus | num_threads | txd/rxd | frame_size | throughput difference from |
| | | | | expected |
+==========+=============+=========+============+==============================+
| 1 | 2 | 512 | 64 | -0.1% |
+----------+-------------+---------+------------+------------------------------+
| 1 | 2 | 2048 | 64 | 2.1% |
+----------+-------------+---------+------------+------------------------------+
| 1 | 1 | 512 | 64 | -1.2% |
+----------+-------------+---------+------------+------------------------------+
| 1 | 1 | 2048 | 64 | 3.2% |
+----------+-------------+---------+------------+------------------------------+
Ubuntu 20.04
Kernel: 5.4.0-122-generic
Compiler: gcc 9.4.0
NIC: Intel Corporation Ethernet Converged Network Adapter 82599ES 10000 Mbps
Target: Unknown
Fail/Total: 0/6
Detail performance results:
+----------+-------------+---------+------------+------------------------------+
| num_cpus | num_threads | txd/rxd | frame_size | throughput difference from |
| | | | | expected |
+==========+=============+=========+============+==============================+
| 1 | 2 | 128 | 64 | -0.2% |
+----------+-------------+---------+------------+------------------------------+
| 1 | 2 | 512 | 64 | 0.0% |
+----------+-------------+---------+------------+------------------------------+
| 1 | 2 | 2048 | 64 | 0.1% |
+----------+-------------+---------+------------+------------------------------+
| 1 | 1 | 128 | 64 | -0.0% |
+----------+-------------+---------+------------+------------------------------+
| 1 | 1 | 512 | 64 | 0.0% |
+----------+-------------+---------+------------+------------------------------+
| 1 | 1 | 2048 | 64 | 0.4% |
+----------+-------------+---------+------------+------------------------------+
Ubuntu 20.04 ARM
Kernel: 5.15.0-97-generic
Compiler: gcc 11.4.0
NIC: Arm Intel Corporation Ethernet Converged Network Adapter XL710-QDA2 40000 Mbps
Target: Unknown
Fail/Total: 0/2
Detail performance results:
+------------+---------+----------+-------------+------------------------------+
| frame_size | txd/rxd | num_cpus | num_threads | throughput difference from |
| | | | | expected |
+============+=========+==========+=============+==============================+
| 64 | 512 | 1 | 1 | -0.2% |
+------------+---------+----------+-------------+------------------------------+
| 64 | 2048 | 1 | 1 | -0.3% |
+------------+---------+----------+-------------+------------------------------+
22.04
Kernel: 5.15.0-94-generic
Compiler: gcc 11.4.0
NIC: Intel E810 100000 Mbps
Target: Unknown
Fail/Total: 0/4
Detail performance results:
+------------+---------+----------+-------------+------------------------------+
| frame_size | txd/rxd | num_cpus | num_threads | throughput difference from |
| | | | | expected |
+============+=========+==========+=============+==============================+
| 64 | 512 | 1 | 2 | -1.4% |
+------------+---------+----------+-------------+------------------------------+
| 64 | 2048 | 1 | 2 | -0.2% |
+------------+---------+----------+-------------+------------------------------+
| 64 | 512 | 1 | 1 | -0.3% |
+------------+---------+----------+-------------+------------------------------+
| 64 | 2048 | 1 | 1 | 1.0% |
+------------+---------+----------+-------------+------------------------------+
To view detailed results, visit:
https://lab.dpdk.org/results/dashboard/patchsets/30022/
UNH-IOL DPDK Community Lab
To manage your email subscriptions, visit:
https://lab.dpdk.org/results/dashboard/preferences/subscriptions/
^ permalink raw reply [flat|nested] 16+ messages in thread
* |SUCCESS| pw140334 [PATCH] [v5] cnxk: disable building template file
[not found] <20240527153431.6663-1-pbhagavatula@marvell.com>
` (14 preceding siblings ...)
2024-05-29 23:34 ` dpdklab
@ 2024-05-29 23:36 ` dpdklab
15 siblings, 0 replies; 16+ messages in thread
From: dpdklab @ 2024-05-29 23:36 UTC (permalink / raw)
To: Test Report; +Cc: dpdk-test-reports
Test-Label: iol-intel-Functional
Test-Status: SUCCESS
http://dpdk.org/patch/140334
_Functional Testing PASS_
Submitter: Pavan Nikhilesh Bhagavatula <pbhagavatula@marvell.com>
Date: Monday, May 27 2024 15:34:29
DPDK git baseline: Repo:dpdk
Branch: master
CommitID:77e63757d2a0106a0cc519f5a82e2d749d16475a
140334 --> functional testing pass
Test environment and result as below:
Ubuntu 20.04
Kernel: 5.4.0-122-generic
Compiler: gcc 9.4.0
NIC: Intel Corporation Ethernet Converged Network Adapter XL710-QDA2 40000 Mbps
Target: Unknown
Aggregate Results by Test Suite
+-----------------------------+--------+
| Test Suite | Result |
+=============================+========+
| scatter | PASS |
+-----------------------------+--------+
| unit_tests_mbuf | PASS |
+-----------------------------+--------+
| vhost_virtio_user_interrupt | PASS |
+-----------------------------+--------+
| virtio_smoke | PASS |
+-----------------------------+--------+
Ubuntu 20.04
Kernel: 5.4.0-122-generic
Compiler: gcc 9.4.0
NIC: Intel Corporation Ethernet Converged Network Adapter 82599ES 10000 Mbps
Target: Unknown
Aggregate Results by Test Suite
+-----------------------------+--------+
| Test Suite | Result |
+=============================+========+
| scatter | PASS |
+-----------------------------+--------+
| unit_tests_mbuf | PASS |
+-----------------------------+--------+
| vhost_virtio_user_interrupt | PASS |
+-----------------------------+--------+
| virtio_smoke | PASS |
+-----------------------------+--------+
Arm Ampere Altra - Ubuntu 22.04.3
Kernel: 5.15.0-83-generic aarch64
Compiler: gcc 11.4.0
NIC: Intel Corporation Ethernet Converged Network Adapter XL710-QDA2 40000 Mbps
Target: Unknown
Aggregate Results by Test Suite
+------------+--------+
| Test Suite | Result |
+============+========+
| scatter | PASS |
+------------+--------+
Ubuntu 20.04 ARM
Kernel: 5.15.0-97-generic
Compiler: gcc 11.4.0
NIC: Arm Intel Corporation Ethernet Converged Network Adapter XL710-QDA2 40000 Mbps
Target: Unknown
Aggregate Results by Test Suite
+-----------------+--------+
| Test Suite | Result |
+=================+========+
| unit_tests_mbuf | PASS |
+-----------------+--------+
| mtu_update | PASS |
+-----------------+--------+
Arm Ampere Altra - Ubuntu 22.04
Kernel: 5.15.83+
Compiler: gcc 11.4
NIC: Intel Corporation QAT 8970 0 Mbps
Target: Unknown
Aggregate Results by Test Suite
+----------------------------+--------+
| Test Suite | Result |
+============================+========+
| crypto_perf_cryptodev_perf | PASS |
+----------------------------+--------+
To view detailed results, visit:
https://lab.dpdk.org/results/dashboard/patchsets/30022/
UNH-IOL DPDK Community Lab
To manage your email subscriptions, visit:
https://lab.dpdk.org/results/dashboard/preferences/subscriptions/
^ permalink raw reply [flat|nested] 16+ messages in thread
end of thread, other threads:[~2024-05-29 23:36 UTC | newest]
Thread overview: 16+ messages (download: mbox.gz / follow: Atom feed)
-- links below jump to the message on this page --
[not found] <20240527153431.6663-1-pbhagavatula@marvell.com>
2024-05-27 15:08 ` |SUCCESS| pw140334 [PATCH v5] cnxk: disable building template files qemudev
2024-05-27 15:13 ` qemudev
2024-05-27 15:35 ` checkpatch
2024-05-27 16:23 ` 0-day Robot
2024-05-28 3:17 ` |SUCCESS| pw140334 [PATCH] [v5] cnxk: disable building template file dpdklab
2024-05-28 3:21 ` dpdklab
2024-05-28 3:28 ` dpdklab
2024-05-28 3:40 ` dpdklab
2024-05-28 3:56 ` dpdklab
2024-05-28 4:00 ` dpdklab
2024-05-28 4:09 ` dpdklab
2024-05-28 4:10 ` dpdklab
2024-05-28 4:43 ` dpdklab
2024-05-29 23:34 ` dpdklab
2024-05-29 23:34 ` dpdklab
2024-05-29 23:36 ` dpdklab
This is a public inbox, see mirroring instructions
for how to clone and mirror all data and code used for this inbox;
as well as URLs for NNTP newsgroup(s).