From mboxrd@z Thu Jan  1 00:00:00 1970
Return-Path: <test-report-bounces@dpdk.org>
Received: from mails.dpdk.org (mails.dpdk.org [217.70.189.124])
	by inbox.dpdk.org (Postfix) with ESMTP id D7E07440F0
	for <public@inbox.dpdk.org>; Tue, 28 May 2024 09:43:02 +0200 (CEST)
Received: from mails.dpdk.org (localhost [127.0.0.1])
	by mails.dpdk.org (Postfix) with ESMTP id D007040687;
	Tue, 28 May 2024 09:43:02 +0200 (CEST)
Received: from mail-yb1-f226.google.com (mail-yb1-f226.google.com
 [209.85.219.226])
 by mails.dpdk.org (Postfix) with ESMTP id 13CC340150
 for <test-report@dpdk.org>; Tue, 28 May 2024 09:42:35 +0200 (CEST)
Received: by mail-yb1-f226.google.com with SMTP id
 3f1490d57ef6-df7607785e9so472724276.2
 for <test-report@dpdk.org>; Tue, 28 May 2024 00:42:35 -0700 (PDT)
DKIM-Signature: v=1; a=rsa-sha256; c=relaxed/relaxed;
 d=iol.unh.edu; s=unh-iol; t=1716882154; x=1717486954; darn=dpdk.org;
 h=references:in-reply-to:cc:to:from:subject:message-id:date:from:to
 :cc:subject:date:message-id:reply-to;
 bh=tFUq7il88Pp5mvcjQhkmCyH78oFo4uCc3BFeXA4wHIo=;
 b=c8dmJw2w9cMzfXrF2Q5m2te8hVZuzrhkQkS/4GX90R9jiRSNnSD3DNAFvfwGPW4PIb
 0s3D8g+wHixAEW8V9gYl+EtHQ5srzRSJgy3uUOc8OumS571RAlT7qPwUXlsudgiBitQ4
 wjL9H3ppzbgIvySN5w2gRxfE5ddHtWnqcDWvA=
X-Google-DKIM-Signature: v=1; a=rsa-sha256; c=relaxed/relaxed;
 d=1e100.net; s=20230601; t=1716882154; x=1717486954;
 h=references:in-reply-to:cc:to:from:subject:message-id:date
 :x-gm-message-state:from:to:cc:subject:date:message-id:reply-to;
 bh=tFUq7il88Pp5mvcjQhkmCyH78oFo4uCc3BFeXA4wHIo=;
 b=sTseaNzXsmRu579sWQELkZtjFbNHOSE/XaRnje+PRqWr6yX1DwpiBjFAPgmEA5Eihv
 Vi6mlb/fKAe4A8kdfEYFWNzsb/cOmtP5t1iJBvDEte/MBI6yElMCEpt/NvaCvU9SN+fx
 YuyPSf4nYy/6215uiS47S5OibET1Bjbaa5IGmUzoyDtugv0PHoCjZRJcaKzuYV1PwRJY
 u8LTuVpqczur75UWS44La9xdbShYr2lMG0ZcJckP9EnVk6ldn/L+Bra4+tROt4IncPAP
 k7NeiJrvIFGYKOGE2v32oVEksUqs75y5Lu2/N6IxRuMk6LHleyPDXMKsWfsXODikQaRo
 ZwfQ==
X-Gm-Message-State: AOJu0YzGtko4g0LQjsmsWGdH2hVORPaTiAlUo3hVJ7hdlFAIeoaEIzWz
 bSaXoOLt6kHbZ6y4fRjEu/RTRvdqXHGvKDzpAHVXs3660xQGVoqCXkGHxv0aWLuMDkuFd9w9n7s
 WPkVT/14JmEP3HxtUtLg2iyxOKlLoc4gasH1tWzog
X-Google-Smtp-Source: AGHT+IGJtqPIMSI5xozgaV/jNTWY+iDbIROE35BcX3ZtH9Kp5Y5sh4yvKgxOwuflE7nKwwcA4W9JSgk5u1UB
X-Received: by 2002:a25:add0:0:b0:df4:da4b:1f11 with SMTP id
 3f1490d57ef6-df7721a71fcmr11179483276.33.1716882154502; 
 Tue, 28 May 2024 00:42:34 -0700 (PDT)
Received: from postal.iol.unh.edu (postal.iol.unh.edu. [132.177.123.84])
 by smtp-relay.gmail.com with ESMTPS id
 6a1803df08f44-6ac06f6accdsm13086906d6.14.2024.05.28.00.42.34
 (version=TLS1_2 cipher=ECDHE-ECDSA-AES128-GCM-SHA256 bits=128/128);
 Tue, 28 May 2024 00:42:34 -0700 (PDT)
X-Relaying-Domain: iol.unh.edu
Date: Tue, 28 May 2024 00:42:34 -0700 (PDT)
Message-ID: <66558aea.d40a0220.2eda0.6399SMTPIN_ADDED_MISSING@mx.google.com>
Received: from [172.21.0.6] (unknown [172.18.0.240])
 by postal.iol.unh.edu (Postfix) with ESMTP id 35D1660524CC;
 Tue, 28 May 2024 03:42:34 -0400 (EDT)
Subject: |SUCCESS| pw140342 [PATCH] eal: speed up dpdk init time
From: dpdklab@iol.unh.edu
To: Test Report <test-report@dpdk.org>
Cc: dpdk-test-reports@iol.unh.edu
In-Reply-To: <20240528061259.29528-1-changfengnan@bytedance.com>
References: <20240528061259.29528-1-changfengnan@bytedance.com>
Content-Type: text/plain
X-BeenThere: test-report@dpdk.org
X-Mailman-Version: 2.1.29
Precedence: list
List-Id: automatic DPDK test reports <test-report.dpdk.org>
List-Unsubscribe: <https://mails.dpdk.org/options/test-report>,
 <mailto:test-report-request@dpdk.org?subject=unsubscribe>
List-Archive: <http://mails.dpdk.org/archives/test-report/>
List-Post: <mailto:test-report@dpdk.org>
List-Help: <mailto:test-report-request@dpdk.org?subject=help>
List-Subscribe: <https://mails.dpdk.org/listinfo/test-report>,
 <mailto:test-report-request@dpdk.org?subject=subscribe>
Errors-To: test-report-bounces@dpdk.org

Test-Label: iol-compile-amd64-testing
Test-Status: SUCCESS
http://dpdk.org/patch/140342

_Testing PASS_

Submitter: Fengnan Chang <changfengnan@bytedance.com>
Date: Tuesday, May 28 2024 06:12:59 
DPDK git baseline: Repo:dpdk
  Branch: master
  CommitID:77e63757d2a0106a0cc519f5a82e2d749d16475a

140342 --> testing pass

Test environment and result as below:

+---------------------+--------------------+------------------+----------------------+-------------------+
|     Environment     | dpdk_meson_compile | dpdk_compile_ovs | dpdk_mingw64_compile | dpdk_msvc_compile |
+=====================+====================+==================+======================+===================+
| CentOS Stream 8     | PASS               | PASS             | SKIPPED              | SKIPPED           |
+---------------------+--------------------+------------------+----------------------+-------------------+
| FreeBSD 13.3        | PASS               | SKIPPED          | SKIPPED              | SKIPPED           |
+---------------------+--------------------+------------------+----------------------+-------------------+
| Windows Server 2019 | PASS               | SKIPPED          | PASS                 | SKIPPED           |
+---------------------+--------------------+------------------+----------------------+-------------------+
| CentOS Stream 9     | PASS               | PASS             | SKIPPED              | SKIPPED           |
+---------------------+--------------------+------------------+----------------------+-------------------+
| Debian Bullseye     | PASS               | PASS             | SKIPPED              | SKIPPED           |
+---------------------+--------------------+------------------+----------------------+-------------------+
| Windows Server 2022 | PASS               | SKIPPED          | PASS                 | PASS              |
+---------------------+--------------------+------------------+----------------------+-------------------+
| Debian 12           | PASS               | PASS             | SKIPPED              | SKIPPED           |
+---------------------+--------------------+------------------+----------------------+-------------------+
| Fedora 37           | PASS               | PASS             | SKIPPED              | SKIPPED           |
+---------------------+--------------------+------------------+----------------------+-------------------+
| FreeBSD 14.0        | PASS               | SKIPPED          | SKIPPED              | SKIPPED           |
+---------------------+--------------------+------------------+----------------------+-------------------+
| Fedora 38           | PASS               | PASS             | SKIPPED              | SKIPPED           |
+---------------------+--------------------+------------------+----------------------+-------------------+
| Fedora 39           | PASS               | PASS             | SKIPPED              | SKIPPED           |
+---------------------+--------------------+------------------+----------------------+-------------------+
| Ubuntu 20.04        | PASS               | PASS             | SKIPPED              | SKIPPED           |
+---------------------+--------------------+------------------+----------------------+-------------------+
| Ubuntu 22.04        | PASS               | PASS             | SKIPPED              | SKIPPED           |
+---------------------+--------------------+------------------+----------------------+-------------------+
| openSUSE Leap 15    | PASS               | PASS             | SKIPPED              | SKIPPED           |
+---------------------+--------------------+------------------+----------------------+-------------------+
| RHEL8               | PASS               | PASS             | SKIPPED              | SKIPPED           |
+---------------------+--------------------+------------------+----------------------+-------------------+


CentOS Stream 8
	Kernel: 5.4.0-167-generic
	Compiler: gcc 8.5.0 20210514

FreeBSD 13.3
	Kernel: 13.3-RELEASE-p1
	Compiler: clang 17.0.6

Windows Server 2019
	Kernel: 10.0.17763
	Compiler: clang 14.0 and gcc 8.1.0 (MinGW)

CentOS Stream 9
	Kernel: 5.4.0-167-generic
	Compiler: gcc 11.4.1 20230605

Debian Bullseye
	Kernel: 5.4.0-167-generic
	Compiler: gcc 10.2.1-6

Windows Server 2022
	Kernel: 10.0.20348.2031
	Compiler: clang 15.0.7, gcc 8.1.0 (MinGW), and MSVC VS 17.9

Debian 12
	Kernel: Container Host Kernel
	Compiler: gcc 10.2.1

Fedora 37
	Kernel: Depends on container host system
	Compiler: gcc 12.3.1

FreeBSD 14.0
	Kernel: 14.0
	Compiler: clang 16.0.6

Fedora 38
	Kernel: Depends on container host
	Compiler: gcc 13.2.1

Fedora 39
	Kernel: Depends on container host
	Compiler: gcc 13.2.1

Ubuntu 20.04
	Kernel: 5.4.0-167-generic
	Compiler: gcc 9.4.0-1ubuntu1~20.04.1

Ubuntu 22.04
	Kernel: 5.4.0-167-generic
	Compiler: gcc 11.4.0

openSUSE Leap 15
	Kernel: 5.4.0-167-generic
	Compiler: gcc 7.5.0

RHEL8
	Kernel: 5.4.0-167-generic
	Compiler: gcc 8.5.0 20210514 (Red Hat 8.5.0-20)

To view detailed results, visit:
https://lab.dpdk.org/results/dashboard/patchsets/30026/

UNH-IOL DPDK Community Lab

To manage your email subscriptions, visit: 
https://lab.dpdk.org/results/dashboard/preferences/subscriptions/