From mboxrd@z Thu Jan  1 00:00:00 1970
Return-Path: <test-report-bounces@dpdk.org>
Received: from mails.dpdk.org (mails.dpdk.org [217.70.189.124])
	by inbox.dpdk.org (Postfix) with ESMTP id 82E41440F0
	for <public@inbox.dpdk.org>; Tue, 28 May 2024 09:43:58 +0200 (CEST)
Received: from mails.dpdk.org (localhost [127.0.0.1])
	by mails.dpdk.org (Postfix) with ESMTP id 7A2DA40693;
	Tue, 28 May 2024 09:43:58 +0200 (CEST)
Received: from mail-io1-f98.google.com (mail-io1-f98.google.com
 [209.85.166.98]) by mails.dpdk.org (Postfix) with ESMTP id D17E3402D2
 for <test-report@dpdk.org>; Tue, 28 May 2024 09:43:38 +0200 (CEST)
Received: by mail-io1-f98.google.com with SMTP id
 ca18e2360f4ac-7e1ec659c40so24052739f.2
 for <test-report@dpdk.org>; Tue, 28 May 2024 00:43:38 -0700 (PDT)
DKIM-Signature: v=1; a=rsa-sha256; c=relaxed/relaxed;
 d=iol.unh.edu; s=unh-iol; t=1716882218; x=1717487018; darn=dpdk.org;
 h=references:in-reply-to:cc:to:from:subject:message-id:date:from:to
 :cc:subject:date:message-id:reply-to;
 bh=2QqddSx+bfqM5lRFTA+ueg5Y7UI2V6dKbbB10E8TMYE=;
 b=VtD6Vwf9MzblBXdrWJTu3r9CXofHS+tSTKr5QObcmUsqh0EMUxb6gpLgWRakgOF5bo
 B4wkZEfrkK3goYdCQ+7qrGrQb43llcXXugzbz4Xkxux+3k96Uz8Bw6S/lx+KxjQc+I9s
 TFH5/K6a+RxqaFbL+M7oByFZn9x3gdQbn++IM=
X-Google-DKIM-Signature: v=1; a=rsa-sha256; c=relaxed/relaxed;
 d=1e100.net; s=20230601; t=1716882218; x=1717487018;
 h=references:in-reply-to:cc:to:from:subject:message-id:date
 :x-gm-message-state:from:to:cc:subject:date:message-id:reply-to;
 bh=2QqddSx+bfqM5lRFTA+ueg5Y7UI2V6dKbbB10E8TMYE=;
 b=N4saNtltSk+cAPV3+LODtEzh50W/oaKRQvC1vVF/7s0MnkhzZsPriRpsvEyB0UWCN0
 5NkCvBz8JXitw7TwHmNCTX7Pqyia1tmDVoQEP9Q/5YJDDqSq6Zan1ZFDET4YU+IQDCI0
 Zx1IgeHUmPUuL8PrtQvZmnV1cfeU5YiRIZTiU1GMLYaV3xvM1Hx6mq1D/G46jOe5fckf
 KApVgM4GenAFj3BktFi25pR1enyOuo59W53vJUbfMkgPtwfn36GL5yqkpucIehFVRU5h
 9TiFQaPn5JwUM4tqUq7rnrwvVoStjLk665WRDJW0OEb4y+MP1Nfp830XuqGp6B4WEeHY
 yR8w==
X-Gm-Message-State: AOJu0YxCTcQsmcVIb4v80tAXY6BD6E5W9rwBnjess54I/KiHMFBeabTM
 Ub4fOoZ9L45CkJUFEBFuEAwqz04Jg08K7XG5v3wEzT172aBjCwdWW/02SfLHLq4og6fytUiiwiT
 7gguNwrypEsdueH4hTJ32Rq1HMrvV1mrUPBLsF/024r8xz4j/nfrnF1nV
X-Google-Smtp-Source: AGHT+IFzH5ThVO4mLflkwZR/HrcwAOIVET+NHTiKlpnPUJakR/g2i4S9deLL3rhqR0wgC6Ez6mN/dOyuNHZo
X-Received: by 2002:a05:6602:281d:b0:7de:d71a:73a with SMTP id
 ca18e2360f4ac-7e8c6c1a8demr1103137239f.20.1716882218201; 
 Tue, 28 May 2024 00:43:38 -0700 (PDT)
Received: from postal.iol.unh.edu (postal.iol.unh.edu.
 [2606:4100:3880:1234::84]) by smtp-relay.gmail.com with ESMTPS id
 8926c6da1cb9f-4b08ff8c1desm501318173.40.2024.05.28.00.43.38
 (version=TLS1_2 cipher=ECDHE-ECDSA-AES128-GCM-SHA256 bits=128/128);
 Tue, 28 May 2024 00:43:38 -0700 (PDT)
X-Relaying-Domain: iol.unh.edu
Date: Tue, 28 May 2024 00:43:38 -0700 (PDT)
Message-ID: <66558b2a.050a0220.a74af.05beSMTPIN_ADDED_MISSING@mx.google.com>
Received: from [172.17.0.4] (unknown [172.18.0.217])
 by postal.iol.unh.edu (Postfix) with ESMTP id B876260524CC;
 Tue, 28 May 2024 03:43:37 -0400 (EDT)
Subject: |SUCCESS| pw140342 [PATCH] eal: speed up dpdk init time
From: dpdklab@iol.unh.edu
To: Test Report <test-report@dpdk.org>
Cc: dpdk-test-reports@iol.unh.edu
In-Reply-To: <20240528061259.29528-1-changfengnan@bytedance.com>
References: <20240528061259.29528-1-changfengnan@bytedance.com>
Content-Type: text/plain
X-BeenThere: test-report@dpdk.org
X-Mailman-Version: 2.1.29
Precedence: list
List-Id: automatic DPDK test reports <test-report.dpdk.org>
List-Unsubscribe: <https://mails.dpdk.org/options/test-report>,
 <mailto:test-report-request@dpdk.org?subject=unsubscribe>
List-Archive: <http://mails.dpdk.org/archives/test-report/>
List-Post: <mailto:test-report@dpdk.org>
List-Help: <mailto:test-report-request@dpdk.org?subject=help>
List-Subscribe: <https://mails.dpdk.org/listinfo/test-report>,
 <mailto:test-report-request@dpdk.org?subject=subscribe>
Errors-To: test-report-bounces@dpdk.org

Test-Label: iol-unit-amd64-testing
Test-Status: SUCCESS
http://dpdk.org/patch/140342

_Testing PASS_

Submitter: Fengnan Chang <changfengnan@bytedance.com>
Date: Tuesday, May 28 2024 06:12:59 
DPDK git baseline: Repo:dpdk
  Branch: master
  CommitID:77e63757d2a0106a0cc519f5a82e2d749d16475a

140342 --> testing pass

Test environment and result as below:

+---------------------+----------------+
|     Environment     | dpdk_unit_test |
+=====================+================+
| Debian Bullseye     | PASS           |
+---------------------+----------------+
| Windows Server 2019 | PASS           |
+---------------------+----------------+
| Fedora 38           | PASS           |
+---------------------+----------------+
| CentOS Stream 8     | PASS           |
+---------------------+----------------+
| Fedora 37           | PASS           |
+---------------------+----------------+
| Debian 12           | PASS           |
+---------------------+----------------+
| openSUSE Leap 15    | PASS           |
+---------------------+----------------+
| Ubuntu 20.04        | PASS           |
+---------------------+----------------+


Debian Bullseye
	Kernel: 5.4.0-167-generic
	Compiler: gcc 10.2.1-6

Windows Server 2019
	Kernel: 10.0.17763
	Compiler: clang 14.0 and gcc 8.1.0 (MinGW)

Fedora 38
	Kernel: Depends on container host
	Compiler: gcc 13.2.1

CentOS Stream 8
	Kernel: 5.4.0-167-generic
	Compiler: gcc 8.5.0 20210514

Fedora 37
	Kernel: Depends on container host system
	Compiler: gcc 12.3.1

Debian 12
	Kernel: Container Host Kernel
	Compiler: gcc 10.2.1

openSUSE Leap 15
	Kernel: 5.4.0-167-generic
	Compiler: gcc 7.5.0

Ubuntu 20.04
	Kernel: 5.4.0-167-generic
	Compiler: gcc 9.4.0-1ubuntu1~20.04.1

To view detailed results, visit:
https://lab.dpdk.org/results/dashboard/patchsets/30026/

UNH-IOL DPDK Community Lab

To manage your email subscriptions, visit: 
https://lab.dpdk.org/results/dashboard/preferences/subscriptions/