From mboxrd@z Thu Jan  1 00:00:00 1970
Return-Path: <test-report-bounces@dpdk.org>
Received: from mails.dpdk.org (mails.dpdk.org [217.70.189.124])
	by inbox.dpdk.org (Postfix) with ESMTP id 80C69440F0
	for <public@inbox.dpdk.org>; Tue, 28 May 2024 09:49:54 +0200 (CEST)
Received: from mails.dpdk.org (localhost [127.0.0.1])
	by mails.dpdk.org (Postfix) with ESMTP id 7BB45402D2;
	Tue, 28 May 2024 09:49:54 +0200 (CEST)
Received: from mail-qk1-f226.google.com (mail-qk1-f226.google.com
 [209.85.222.226])
 by mails.dpdk.org (Postfix) with ESMTP id 99E5540150
 for <test-report@dpdk.org>; Tue, 28 May 2024 09:49:53 +0200 (CEST)
Received: by mail-qk1-f226.google.com with SMTP id
 af79cd13be357-794b10641b9so33688985a.3
 for <test-report@dpdk.org>; Tue, 28 May 2024 00:49:53 -0700 (PDT)
DKIM-Signature: v=1; a=rsa-sha256; c=relaxed/relaxed;
 d=iol.unh.edu; s=unh-iol; t=1716882593; x=1717487393; darn=dpdk.org;
 h=references:in-reply-to:cc:to:from:subject:message-id:date:from:to
 :cc:subject:date:message-id:reply-to;
 bh=Z9EytPamDExDXCVMwqsJoy+9ZjDqJPWJ5i65r/QC+Ps=;
 b=AUb9Wrwd/RrMVr0Fz16VqDh3Jxsgaujal5p/3M46wxvj59blj6SKkLoHAUYAPOEjEz
 vEotESVlq5drqILsEC9PWUOfpqAM1TOVwxYq+tbfrrPvqZnc1v3RplA/W1S8rtDodXxg
 Z55RUcm2sS+jSfXJghk2kdaUDKi5EgRYjsI8I=
X-Google-DKIM-Signature: v=1; a=rsa-sha256; c=relaxed/relaxed;
 d=1e100.net; s=20230601; t=1716882593; x=1717487393;
 h=references:in-reply-to:cc:to:from:subject:message-id:date
 :x-gm-message-state:from:to:cc:subject:date:message-id:reply-to;
 bh=Z9EytPamDExDXCVMwqsJoy+9ZjDqJPWJ5i65r/QC+Ps=;
 b=XNxQkRyUHGq5aZ7fIAlDZ+Ccy6K8ZemcV5UwqZfFv/RM03r0ZHTtc3/DukwH2wK/5k
 LY3e/Jy8y9E/NTNsBM27nn3tATZwfJvmIvXitWiDGs0cmC8vsMTk4XIo6HJM3yShNBVj
 G3A7jGqhtKGgQeQN/e10agS9U7g69VqkqhSvcVMalZiQhIalxe7KVWNrlIpKpF1TUMtX
 nlCB68AhIvL9++ZgFp++eNwBtopkvXor3teIbDiNKJKtYInc5rNNf6Br7ZF4azi7gM+C
 7jfAZy0ofnQPh8nL8Z1YBy7LRtisAu5eGxbM2XYCUwuFFebsm7tn6VgRsGeXSV7hs9b6
 yTaQ==
X-Gm-Message-State: AOJu0Yz9rRXiAqzbqFKsq0RU4+ZegnI6pnaOOTEI2H6M/4hdihiECwsJ
 oabmWH1VaY00tjQIA5WxCwcHY50Xc5Wf9H8jfGCu/C9vhDJg6ROXzYrC0ehfreDOffApz9Uij2R
 aw4j/tmPqX6X3rA0BGCIYEhorSv4FzyZ2MBv65pWAelGazl81MORTkJiw
X-Google-Smtp-Source: AGHT+IHVB2bjVFs4z+YepttNJe0H7SqtqqRrZ7uBTSO+e6FRoflCFqF5vZspWUPo4vKeSEpB0Ov1jVG6cz9S
X-Received: by 2002:a05:6214:518f:b0:6ad:5db9:ef87 with SMTP id
 6a1803df08f44-6ad5db9f451mr149499066d6.15.1716882593025; 
 Tue, 28 May 2024 00:49:53 -0700 (PDT)
Received: from postal.iol.unh.edu (postal.iol.unh.edu.
 [2606:4100:3880:1234::84]) by smtp-relay.gmail.com with ESMTPS id
 6a1803df08f44-6ac1629513asm12678266d6.64.2024.05.28.00.49.52
 (version=TLS1_2 cipher=ECDHE-ECDSA-AES128-GCM-SHA256 bits=128/128);
 Tue, 28 May 2024 00:49:53 -0700 (PDT)
X-Relaying-Domain: iol.unh.edu
Date: Tue, 28 May 2024 00:49:53 -0700 (PDT)
Message-ID: <66558ca1.d40a0220.cfe1c.3c5dSMTPIN_ADDED_MISSING@mx.google.com>
Received: from [172.17.0.5] (unknown [172.18.0.217])
 by postal.iol.unh.edu (Postfix) with ESMTP id B355A605C373;
 Tue, 28 May 2024 03:49:52 -0400 (EDT)
Subject: |SUCCESS| pw140342 [PATCH] eal: speed up dpdk init time
From: dpdklab@iol.unh.edu
To: Test Report <test-report@dpdk.org>
Cc: dpdk-test-reports@iol.unh.edu
In-Reply-To: <20240528061259.29528-1-changfengnan@bytedance.com>
References: <20240528061259.29528-1-changfengnan@bytedance.com>
Content-Type: text/plain
X-BeenThere: test-report@dpdk.org
X-Mailman-Version: 2.1.29
Precedence: list
List-Id: automatic DPDK test reports <test-report.dpdk.org>
List-Unsubscribe: <https://mails.dpdk.org/options/test-report>,
 <mailto:test-report-request@dpdk.org?subject=unsubscribe>
List-Archive: <http://mails.dpdk.org/archives/test-report/>
List-Post: <mailto:test-report@dpdk.org>
List-Help: <mailto:test-report-request@dpdk.org?subject=help>
List-Subscribe: <https://mails.dpdk.org/listinfo/test-report>,
 <mailto:test-report-request@dpdk.org?subject=subscribe>
Errors-To: test-report-bounces@dpdk.org

Test-Label: iol-unit-amd64-testing
Test-Status: SUCCESS
http://dpdk.org/patch/140342

_Testing PASS_

Submitter: Fengnan Chang <changfengnan@bytedance.com>
Date: Tuesday, May 28 2024 06:12:59 
DPDK git baseline: Repo:dpdk
  Branch: master
  CommitID:77e63757d2a0106a0cc519f5a82e2d749d16475a

140342 --> testing pass

Test environment and result as below:

+---------------------+----------------+
|     Environment     | dpdk_unit_test |
+=====================+================+
| Debian Bullseye     | PASS           |
+---------------------+----------------+
| Windows Server 2019 | PASS           |
+---------------------+----------------+
| Fedora 38           | PASS           |
+---------------------+----------------+
| CentOS Stream 8     | PASS           |
+---------------------+----------------+
| Fedora 37           | PASS           |
+---------------------+----------------+
| Debian 12           | PASS           |
+---------------------+----------------+
| openSUSE Leap 15    | PASS           |
+---------------------+----------------+
| Ubuntu 20.04        | PASS           |
+---------------------+----------------+
| Fedora 39           | PASS           |
+---------------------+----------------+
| Ubuntu 22.04        | PASS           |
+---------------------+----------------+
| RHEL8               | PASS           |
+---------------------+----------------+


Debian Bullseye
	Kernel: 5.4.0-167-generic
	Compiler: gcc 10.2.1-6

Windows Server 2019
	Kernel: 10.0.17763
	Compiler: clang 14.0 and gcc 8.1.0 (MinGW)

Fedora 38
	Kernel: Depends on container host
	Compiler: gcc 13.2.1

CentOS Stream 8
	Kernel: 5.4.0-167-generic
	Compiler: gcc 8.5.0 20210514

Fedora 37
	Kernel: Depends on container host system
	Compiler: gcc 12.3.1

Debian 12
	Kernel: Container Host Kernel
	Compiler: gcc 10.2.1

openSUSE Leap 15
	Kernel: 5.4.0-167-generic
	Compiler: gcc 7.5.0

Ubuntu 20.04
	Kernel: 5.4.0-167-generic
	Compiler: gcc 9.4.0-1ubuntu1~20.04.1

Fedora 39
	Kernel: Depends on container host
	Compiler: clang 17.0.6

Ubuntu 22.04
	Kernel: 5.4.0-167-generic
	Compiler: gcc 11.4.0

RHEL8
	Kernel: 5.4.0-167-generic
	Compiler: gcc 8.5.0 20210514 (Red Hat 8.5.0-20)

To view detailed results, visit:
https://lab.dpdk.org/results/dashboard/patchsets/30026/

UNH-IOL DPDK Community Lab

To manage your email subscriptions, visit: 
https://lab.dpdk.org/results/dashboard/preferences/subscriptions/