From mboxrd@z Thu Jan  1 00:00:00 1970
Return-Path: <test-report-bounces@dpdk.org>
Received: from mails.dpdk.org (mails.dpdk.org [217.70.189.124])
	by inbox.dpdk.org (Postfix) with ESMTP id 699CC440F2
	for <public@inbox.dpdk.org>; Tue, 28 May 2024 10:57:19 +0200 (CEST)
Received: from mails.dpdk.org (localhost [127.0.0.1])
	by mails.dpdk.org (Postfix) with ESMTP id 64B364029A;
	Tue, 28 May 2024 10:57:19 +0200 (CEST)
Received: from mail-io1-f98.google.com (mail-io1-f98.google.com
 [209.85.166.98]) by mails.dpdk.org (Postfix) with ESMTP id 1EADB40150
 for <test-report@dpdk.org>; Tue, 28 May 2024 10:57:18 +0200 (CEST)
Received: by mail-io1-f98.google.com with SMTP id
 ca18e2360f4ac-7e25df4ccecso23996039f.1
 for <test-report@dpdk.org>; Tue, 28 May 2024 01:57:18 -0700 (PDT)
DKIM-Signature: v=1; a=rsa-sha256; c=relaxed/relaxed;
 d=iol.unh.edu; s=unh-iol; t=1716886637; x=1717491437; darn=dpdk.org;
 h=references:in-reply-to:cc:to:from:subject:message-id:date:from:to
 :cc:subject:date:message-id:reply-to;
 bh=nthdIh+fBOyc0cWLYhoVO+jqG86/5LOW3zbjS3ONeYM=;
 b=Nrdc3Tv8G4/1smx7vHHBB00ePXsMmUFGQRoRm++ct1UnqAm8wFBEgVvs7Q5WDZpU2Z
 Xj1BX50oHHlSJC3XS/Y/eCzcgQDMOWtIUWwLdBjCxdE/vv8v2uETQh1ddSJQPxxzebhd
 GhPE1mxUsNQ5RYUJgRSmrYt++8IqPH1xAgMgk=
X-Google-DKIM-Signature: v=1; a=rsa-sha256; c=relaxed/relaxed;
 d=1e100.net; s=20230601; t=1716886637; x=1717491437;
 h=references:in-reply-to:cc:to:from:subject:message-id:date
 :x-gm-message-state:from:to:cc:subject:date:message-id:reply-to;
 bh=nthdIh+fBOyc0cWLYhoVO+jqG86/5LOW3zbjS3ONeYM=;
 b=jR4kzJSKQnanwqGY7Q7Zdyzza2dShcc8hz93ZwdYUzz+TldmuFSez05w1xa2sAHOfu
 KFrxxqQanvlsraqqEcoerz/keMesOP7U5Nz3NNeXqAAwz6hT0Nd70dXhe5FpzMe54+do
 4w9pIdybRX/sqNS31a3J1FW04cKp+DfM2R+dtyBJzyJbpXFfXz+5xz/mU7Ae4PKvrllx
 uMf0RMaJUsRfTHejIb5zJfdDqdmqu6mGdWPZ7ruvGDH4KPYMBFFaiA7t38gWSJctscTX
 F+4JC3aCOiucsSdV6q6NmZVwF/y8FmC1WGulQLGMmJU9KaSMdGF6r4xedDWJfXyXpIoc
 JURg==
X-Gm-Message-State: AOJu0YwspgTFvQSero55a7H7WwZw5Nxk/ItYspCsF46a8xUmjpQeyHOB
 x8c7Ur7qqnJrszMJm/cKN3Zh9C8Daq4tGWZ0HNlY5nXOLFlYeTia/e3a+9xVyLfC0UThA3NTxVq
 pOFsP6064Er7xm3wbupjx+Zw7ZthZdC1x9+p3WK3F
X-Google-Smtp-Source: AGHT+IFLs7HQJcmAiKPfGOozAor2g/4ZonuKwnCvSIit6fzmEaCfWh6dRlV44eCfkun0j32hMsUG66TrVgjk
X-Received: by 2002:a05:6602:80a:b0:7e1:8bfa:727c with SMTP id
 ca18e2360f4ac-7e8c52d3fcamr1117027839f.9.1716886637248; 
 Tue, 28 May 2024 01:57:17 -0700 (PDT)
Received: from postal.iol.unh.edu (postal.iol.unh.edu. [132.177.123.84])
 by smtp-relay.gmail.com with ESMTPS id
 8926c6da1cb9f-4b07fc40f17sm640336173.10.2024.05.28.01.57.17
 (version=TLS1_2 cipher=ECDHE-ECDSA-AES128-GCM-SHA256 bits=128/128);
 Tue, 28 May 2024 01:57:17 -0700 (PDT)
X-Relaying-Domain: iol.unh.edu
Date: Tue, 28 May 2024 01:57:17 -0700 (PDT)
Message-ID: <66559c6d.050a0220.d7f2f.3815SMTPIN_ADDED_MISSING@mx.google.com>
Received: from [172.17.0.4] (unknown [172.18.0.217])
 by postal.iol.unh.edu (Postfix) with ESMTP id 74A3D605C373;
 Tue, 28 May 2024 04:57:16 -0400 (EDT)
Subject: |SUCCESS| pw140338-140341 [PATCH] [4/4] net/nfp: support generic SCT
From: dpdklab@iol.unh.edu
To: Test Report <test-report@dpdk.org>
Cc: dpdk-test-reports@iol.unh.edu
In-Reply-To: <20240528015504.2376070-5-chaoyong.he@corigine.com>
References: <20240528015504.2376070-5-chaoyong.he@corigine.com>
Content-Type: text/plain
X-BeenThere: test-report@dpdk.org
X-Mailman-Version: 2.1.29
Precedence: list
List-Id: automatic DPDK test reports <test-report.dpdk.org>
List-Unsubscribe: <https://mails.dpdk.org/options/test-report>,
 <mailto:test-report-request@dpdk.org?subject=unsubscribe>
List-Archive: <http://mails.dpdk.org/archives/test-report/>
List-Post: <mailto:test-report@dpdk.org>
List-Help: <mailto:test-report-request@dpdk.org?subject=help>
List-Subscribe: <https://mails.dpdk.org/listinfo/test-report>,
 <mailto:test-report-request@dpdk.org?subject=subscribe>
Errors-To: test-report-bounces@dpdk.org

Test-Label: iol-abi-testing
Test-Status: SUCCESS
http://dpdk.org/patch/140341

_Testing PASS_

Submitter: Chaoyong He <chaoyong.he@corigine.com>
Date: Tuesday, May 28 2024 01:55:04 
DPDK git baseline: Repo:dpdk
  Branch: master
  CommitID:2dbb63594a9a985e2c8639b57f9fcd1468b9de97

140338-140341 --> testing pass

Test environment and result as below:

+------------------+----------+
|   Environment    | abi_test |
+==================+==========+
| CentOS Stream 8  | PASS     |
+------------------+----------+
| Fedora 39        | PASS     |
+------------------+----------+
| Debian 12        | PASS     |
+------------------+----------+
| openSUSE Leap 15 | PASS     |
+------------------+----------+
| Debian Bullseye  | PASS     |
+------------------+----------+
| Fedora 38        | PASS     |
+------------------+----------+
| RHEL8            | PASS     |
+------------------+----------+
| CentOS Stream 9  | PASS     |
+------------------+----------+
| Ubuntu 22.04     | PASS     |
+------------------+----------+
| Fedora 37        | PASS     |
+------------------+----------+


CentOS Stream 8
	Kernel: 5.4.0-167-generic
	Compiler: gcc 8.5.0 20210514

Fedora 39
	Kernel: Depends on container host
	Compiler: gcc 13.2.1

Debian 12
	Kernel: Container Host Kernel
	Compiler: gcc 10.2.1

openSUSE Leap 15
	Kernel: 5.4.0-167-generic
	Compiler: gcc 7.5.0

Debian Bullseye
	Kernel: 5.4.0-167-generic
	Compiler: gcc 10.2.1-6

Fedora 38
	Kernel: Depends on container host
	Compiler: clang 16.0.6

RHEL8
	Kernel: 5.4.0-167-generic
	Compiler: gcc 8.5.0 20210514 (Red Hat 8.5.0-20)

CentOS Stream 9
	Kernel: 5.4.0-167-generic
	Compiler: gcc 11.4.1 20230605

Ubuntu 22.04
	Kernel: 5.4.0-167-generic
	Compiler: gcc 11.4.0

Fedora 37
	Kernel: Depends on container host system
	Compiler: gcc 12.3.1

To view detailed results, visit:
https://lab.dpdk.org/results/dashboard/patchsets/30025/

UNH-IOL DPDK Community Lab

To manage your email subscriptions, visit: 
https://lab.dpdk.org/results/dashboard/preferences/subscriptions/