From mboxrd@z Thu Jan  1 00:00:00 1970
Return-Path: <test-report-bounces@dpdk.org>
Received: from mails.dpdk.org (mails.dpdk.org [217.70.189.124])
	by inbox.dpdk.org (Postfix) with ESMTP id 72191440F2
	for <public@inbox.dpdk.org>; Tue, 28 May 2024 11:04:08 +0200 (CEST)
Received: from mails.dpdk.org (localhost [127.0.0.1])
	by mails.dpdk.org (Postfix) with ESMTP id 68BB3402D2;
	Tue, 28 May 2024 11:04:08 +0200 (CEST)
Received: from mail-qt1-f225.google.com (mail-qt1-f225.google.com
 [209.85.160.225])
 by mails.dpdk.org (Postfix) with ESMTP id 1E1494029A
 for <test-report@dpdk.org>; Tue, 28 May 2024 11:04:07 +0200 (CEST)
Received: by mail-qt1-f225.google.com with SMTP id
 d75a77b69052e-43fbbd06e48so17774311cf.1
 for <test-report@dpdk.org>; Tue, 28 May 2024 02:04:07 -0700 (PDT)
DKIM-Signature: v=1; a=rsa-sha256; c=relaxed/relaxed;
 d=iol.unh.edu; s=unh-iol; t=1716887046; x=1717491846; darn=dpdk.org;
 h=references:in-reply-to:cc:to:from:subject:message-id:date:from:to
 :cc:subject:date:message-id:reply-to;
 bh=ycTy00Mpaknrcl7pOZmQquuPvrGYUU6jZ6Ty1DP/oAQ=;
 b=IzXLs7tZAs/d1UPLxa2xEP7a1etIJnZp4iUTQvYJNgL6o3r7mnubmVz/y8n39xjjR9
 +dK/l5lfsScPzATw/UX8MnSkC+4ceX5eATiTVdz31fjB34nR6QNDErwy2iSk02KZqxdA
 hzQJTQrnk/2ny/jtlE42GqifxtzCoUoi24Lik=
X-Google-DKIM-Signature: v=1; a=rsa-sha256; c=relaxed/relaxed;
 d=1e100.net; s=20230601; t=1716887046; x=1717491846;
 h=references:in-reply-to:cc:to:from:subject:message-id:date
 :x-gm-message-state:from:to:cc:subject:date:message-id:reply-to;
 bh=ycTy00Mpaknrcl7pOZmQquuPvrGYUU6jZ6Ty1DP/oAQ=;
 b=LqgutYODRZhjQMIpYKxSmzggE0Cf6qKGPrFRqvy8wfhplyXopjmsWsF4393Sw/n2xh
 lcsZ4xyQ0uPh0hM7IJjKA/W6O9NPb8S0U9vl7fCAgpfit3M7g9UA3NPpvT/r64KjA1fd
 e7j8a9jY0czYUPj+iDarny544M1M/6LmOoi56XxGesdTIReNm84jBi6NZDGZeNweFXby
 j2ZnFYvmCgzDlXG8Jb+jP0BxHuhMRC/d4vqY+GFKOoKevVlfN+m5QuOoOG9xdEPTbDnD
 iK6OP8qKFLzt3PBOs761Ucq5Mqm8dVXVanJFgKnjsCPU3WJ4SUIZICz680KaLe8qC5Lp
 JLow==
X-Gm-Message-State: AOJu0YzV8Nrgisg/eTCAO6JHiXa7zg01kzSjf7EosGvFNxgMdToXS3jC
 yOEGQFDHPiHkl35rs916EOCpy7zc1MGuCgJuIHRiTUwZ3Wxw3fbDjtx5uqhA2tBdd6rD3yQXb26
 YIz950zl0f6TQE7POJNyp/ihDk96UrSFPzHX3tMiXsi8IuTHKqaZI9zvL
X-Google-Smtp-Source: AGHT+IFmrNzpj57H2WCuo+tg3tWa28MxjoWzTfF2HWG86/c6N7zSbkKnXr+irFn2cr7/aEH6A7jx5BK2Gm2c
X-Received: by 2002:a05:6214:b63:b0:6ad:8167:ac48 with SMTP id
 6a1803df08f44-6ad8167ba81mr110621416d6.24.1716887046568; 
 Tue, 28 May 2024 02:04:06 -0700 (PDT)
Received: from postal.iol.unh.edu (postal.iol.unh.edu.
 [2606:4100:3880:1234::84]) by smtp-relay.gmail.com with ESMTPS id
 6a1803df08f44-6ac16286b52sm13240026d6.66.2024.05.28.02.04.06
 (version=TLS1_2 cipher=ECDHE-ECDSA-AES128-GCM-SHA256 bits=128/128);
 Tue, 28 May 2024 02:04:06 -0700 (PDT)
X-Relaying-Domain: iol.unh.edu
Date: Tue, 28 May 2024 02:04:06 -0700 (PDT)
Message-ID: <66559e06.d40a0220.9d70e.49a7SMTPIN_ADDED_MISSING@mx.google.com>
Received: from [172.17.0.4] (unknown [172.18.0.217])
 by postal.iol.unh.edu (Postfix) with ESMTP id 46405605C373;
 Tue, 28 May 2024 05:04:06 -0400 (EDT)
Subject: |SUCCESS| pw140338-140341 [PATCH] [4/4] net/nfp: support generic SCT
From: dpdklab@iol.unh.edu
To: Test Report <test-report@dpdk.org>
Cc: dpdk-test-reports@iol.unh.edu
In-Reply-To: <20240528015504.2376070-5-chaoyong.he@corigine.com>
References: <20240528015504.2376070-5-chaoyong.he@corigine.com>
Content-Type: text/plain
X-BeenThere: test-report@dpdk.org
X-Mailman-Version: 2.1.29
Precedence: list
List-Id: automatic DPDK test reports <test-report.dpdk.org>
List-Unsubscribe: <https://mails.dpdk.org/options/test-report>,
 <mailto:test-report-request@dpdk.org?subject=unsubscribe>
List-Archive: <http://mails.dpdk.org/archives/test-report/>
List-Post: <mailto:test-report@dpdk.org>
List-Help: <mailto:test-report-request@dpdk.org?subject=help>
List-Subscribe: <https://mails.dpdk.org/listinfo/test-report>,
 <mailto:test-report-request@dpdk.org?subject=subscribe>
Errors-To: test-report-bounces@dpdk.org

Test-Label: iol-compile-amd64-testing
Test-Status: SUCCESS
http://dpdk.org/patch/140341

_Testing PASS_

Submitter: Chaoyong He <chaoyong.he@corigine.com>
Date: Tuesday, May 28 2024 01:55:04 
DPDK git baseline: Repo:dpdk
  Branch: master
  CommitID:2dbb63594a9a985e2c8639b57f9fcd1468b9de97

140338-140341 --> testing pass

Test environment and result as below:

+---------------------+--------------------+------------------+----------------------+-------------------+
|     Environment     | dpdk_meson_compile | dpdk_compile_ovs | dpdk_mingw64_compile | dpdk_msvc_compile |
+=====================+====================+==================+======================+===================+
| Debian Bullseye     | PASS               | PASS             | SKIPPED              | SKIPPED           |
+---------------------+--------------------+------------------+----------------------+-------------------+
| CentOS Stream 8     | PASS               | PASS             | SKIPPED              | SKIPPED           |
+---------------------+--------------------+------------------+----------------------+-------------------+
| Fedora 38           | PASS               | PASS             | SKIPPED              | SKIPPED           |
+---------------------+--------------------+------------------+----------------------+-------------------+
| Windows Server 2022 | PASS               | SKIPPED          | PASS                 | PASS              |
+---------------------+--------------------+------------------+----------------------+-------------------+
| FreeBSD 13.3        | PASS               | SKIPPED          | SKIPPED              | SKIPPED           |
+---------------------+--------------------+------------------+----------------------+-------------------+
| Windows Server 2019 | PASS               | SKIPPED          | PASS                 | SKIPPED           |
+---------------------+--------------------+------------------+----------------------+-------------------+
| Alpine              | PASS               | SKIPPED          | SKIPPED              | SKIPPED           |
+---------------------+--------------------+------------------+----------------------+-------------------+
| RHEL8               | PASS               | PASS             | SKIPPED              | SKIPPED           |
+---------------------+--------------------+------------------+----------------------+-------------------+
| Ubuntu 20.04        | PASS               | PASS             | SKIPPED              | SKIPPED           |
+---------------------+--------------------+------------------+----------------------+-------------------+
| Fedora 37           | PASS               | PASS             | SKIPPED              | SKIPPED           |
+---------------------+--------------------+------------------+----------------------+-------------------+
| Debian 12           | PASS               | PASS             | SKIPPED              | SKIPPED           |
+---------------------+--------------------+------------------+----------------------+-------------------+
| CentOS Stream 9     | PASS               | PASS             | SKIPPED              | SKIPPED           |
+---------------------+--------------------+------------------+----------------------+-------------------+
| openSUSE Leap 15    | PASS               | PASS             | SKIPPED              | SKIPPED           |
+---------------------+--------------------+------------------+----------------------+-------------------+
| FreeBSD 14.0        | PASS               | SKIPPED          | SKIPPED              | SKIPPED           |
+---------------------+--------------------+------------------+----------------------+-------------------+
| Fedora 39           | PASS               | PASS             | SKIPPED              | SKIPPED           |
+---------------------+--------------------+------------------+----------------------+-------------------+
| Ubuntu 22.04        | PASS               | PASS             | SKIPPED              | SKIPPED           |
+---------------------+--------------------+------------------+----------------------+-------------------+


Debian Bullseye
	Kernel: 5.4.0-167-generic
	Compiler: gcc 10.2.1-6

CentOS Stream 8
	Kernel: 5.4.0-167-generic
	Compiler: gcc 8.5.0 20210514

Fedora 38
	Kernel: Depends on container host
	Compiler: gcc 13.2.1

Windows Server 2022
	Kernel: 10.0.20348.2031
	Compiler: clang 15.0.7, gcc 8.1.0 (MinGW), and MSVC VS 17.9

FreeBSD 13.3
	Kernel: 13.3-RELEASE-p1
	Compiler: clang 17.0.6

Windows Server 2019
	Kernel: 10.0.17763
	Compiler: clang 14.0 and gcc 8.1.0 (MinGW)

Alpine
	Kernel: 5.4.0-167-generic
	Compiler: gcc (Alpine 13.2.1_git20231014) 13.2.1 20231014

RHEL8
	Kernel: 5.4.0-167-generic
	Compiler: gcc 8.5.0 20210514 (Red Hat 8.5.0-20)

Ubuntu 20.04
	Kernel: 5.4.0-167-generic
	Compiler: gcc 9.4.0-1ubuntu1~20.04.1

Fedora 37
	Kernel: Depends on container host system
	Compiler: gcc 12.3.1

Debian 12
	Kernel: Container Host Kernel
	Compiler: gcc 10.2.1

CentOS Stream 9
	Kernel: 5.4.0-167-generic
	Compiler: gcc 11.4.1 20230605

openSUSE Leap 15
	Kernel: 5.4.0-167-generic
	Compiler: gcc 7.5.0

FreeBSD 14.0
	Kernel: 14.0
	Compiler: clang 16.0.6

Fedora 39
	Kernel: Depends on container host
	Compiler: gcc 13.2.1

Ubuntu 22.04
	Kernel: 5.4.0-167-generic
	Compiler: gcc 11.4.0

To view detailed results, visit:
https://lab.dpdk.org/results/dashboard/patchsets/30025/

UNH-IOL DPDK Community Lab

To manage your email subscriptions, visit: 
https://lab.dpdk.org/results/dashboard/preferences/subscriptions/