From mboxrd@z Thu Jan  1 00:00:00 1970
Return-Path: <test-report-bounces@dpdk.org>
Received: from mails.dpdk.org (mails.dpdk.org [217.70.189.124])
	by inbox.dpdk.org (Postfix) with ESMTP id C8184440F2
	for <public@inbox.dpdk.org>; Tue, 28 May 2024 12:42:00 +0200 (CEST)
Received: from mails.dpdk.org (localhost [127.0.0.1])
	by mails.dpdk.org (Postfix) with ESMTP id BF64F40648;
	Tue, 28 May 2024 12:42:00 +0200 (CEST)
Received: from mail-pl1-f227.google.com (mail-pl1-f227.google.com
 [209.85.214.227])
 by mails.dpdk.org (Postfix) with ESMTP id 8A371402E4
 for <test-report@dpdk.org>; Tue, 28 May 2024 12:41:59 +0200 (CEST)
Received: by mail-pl1-f227.google.com with SMTP id
 d9443c01a7336-1f480624d04so5869235ad.2
 for <test-report@dpdk.org>; Tue, 28 May 2024 03:41:59 -0700 (PDT)
DKIM-Signature: v=1; a=rsa-sha256; c=relaxed/relaxed;
 d=iol.unh.edu; s=unh-iol; t=1716892919; x=1717497719; darn=dpdk.org;
 h=references:in-reply-to:cc:to:from:subject:message-id:date:from:to
 :cc:subject:date:message-id:reply-to;
 bh=VgBxv/Rlp0XJ61oVt9QQH9tvbgWpK69US89a7v+U0Ls=;
 b=ViJLZukkFqZfD+f9davYmueOLIbt9LgOJcHaOtrOjoZstjLI0rYrsOawtuPcIvsAjc
 nE6NsG6jg2Zuu1YqrlodZkhLM2lrGt4hW83iAYzdxRpLJY0QejUSoGR6O2Ero1Y0QnP2
 AJy9bdHJFC2Rps0nNRx8DePqO4JWKK8NsvVHM=
X-Google-DKIM-Signature: v=1; a=rsa-sha256; c=relaxed/relaxed;
 d=1e100.net; s=20230601; t=1716892919; x=1717497719;
 h=references:in-reply-to:cc:to:from:subject:message-id:date
 :x-gm-message-state:from:to:cc:subject:date:message-id:reply-to;
 bh=VgBxv/Rlp0XJ61oVt9QQH9tvbgWpK69US89a7v+U0Ls=;
 b=F3d/JgkbE6cviVqNXxP9mb/bZfBK8exqjJHmUwUnzg1FzR4zv+PpOBj2SfTebrwp9Y
 NWfqWN2EH1zxjl7Kda5JE0+HlVVy349wzouuudsFfRjfjNI2kRJwgBtIXBcVgupkuBIi
 Hnk/5HO1+RO9jbk83CTDMBvnoJIGiFUvVDoMedAHnK+Qg5sHO5scNs1yyQI9WwKWCWRm
 clMe4PNI/JoBElu1I1NYbMLJWTykhgGCqFlwzA1Sd0jWuLBSXJLDRyCOyWKs2jrEIEj4
 JflkzSwSKrNNUWzY5hR+PsNxNb1U9cFois50KCFRPR/f+zgh8sJxsO5Z1urYLL3Dptt2
 jXsg==
X-Gm-Message-State: AOJu0YxNlOjRBJMfDqPN5m/tRqXQ3VsVDcN4pHZ7/0PPVykOPBzaIiDC
 KELOEpcbI6TWSzGKUvd1iR/TQCJ4Pj5/yhnnzQgCiM8NFUjhyYmwKop++IOHxKAizY73IjX3ZHr
 gy/ovdplP6+dDFuWHM4ttWlgQ5TuHZ8tWkPnEvo3xQ8CSItdU4q9AIZ6O
X-Google-Smtp-Source: AGHT+IHqMUSdJggESZd4np26CC5fSZWz+V3BTXfOrVpHfLxR4Aon1pRPtkiDCiZ7XwYwDbN46jM9QJQxOLaF
X-Received: by 2002:a17:902:c40e:b0:1f2:f1bf:cf44 with SMTP id
 d9443c01a7336-1f4486d51c6mr134957695ad.6.1716892918747; 
 Tue, 28 May 2024 03:41:58 -0700 (PDT)
Received: from postal.iol.unh.edu (postal.iol.unh.edu.
 [2606:4100:3880:1234::84]) by smtp-relay.gmail.com with ESMTPS id
 d9443c01a7336-1f493058005sm2341145ad.71.2024.05.28.03.41.58
 (version=TLS1_2 cipher=ECDHE-ECDSA-AES128-GCM-SHA256 bits=128/128);
 Tue, 28 May 2024 03:41:58 -0700 (PDT)
X-Relaying-Domain: iol.unh.edu
Date: Tue, 28 May 2024 03:41:58 -0700 (PDT)
Message-ID: <6655b4f6.170a0220.25376.583aSMTPIN_ADDED_MISSING@mx.google.com>
Received: from [172.21.0.7] (unknown [172.18.0.240])
 by postal.iol.unh.edu (Postfix) with ESMTP id EDD00605C373;
 Tue, 28 May 2024 06:41:57 -0400 (EDT)
Subject: |SUCCESS| pw140338-140341 [PATCH] [4/4] net/nfp: support generic SCT
From: dpdklab@iol.unh.edu
To: Test Report <test-report@dpdk.org>
Cc: dpdk-test-reports@iol.unh.edu
In-Reply-To: <20240528015504.2376070-5-chaoyong.he@corigine.com>
References: <20240528015504.2376070-5-chaoyong.he@corigine.com>
Content-Type: text/plain
X-BeenThere: test-report@dpdk.org
X-Mailman-Version: 2.1.29
Precedence: list
List-Id: automatic DPDK test reports <test-report.dpdk.org>
List-Unsubscribe: <https://mails.dpdk.org/options/test-report>,
 <mailto:test-report-request@dpdk.org?subject=unsubscribe>
List-Archive: <http://mails.dpdk.org/archives/test-report/>
List-Post: <mailto:test-report@dpdk.org>
List-Help: <mailto:test-report-request@dpdk.org?subject=help>
List-Subscribe: <https://mails.dpdk.org/listinfo/test-report>,
 <mailto:test-report-request@dpdk.org?subject=subscribe>
Errors-To: test-report-bounces@dpdk.org

Test-Label: iol-unit-arm64-testing
Test-Status: SUCCESS
http://dpdk.org/patch/140341

_Testing PASS_

Submitter: Chaoyong He <chaoyong.he@corigine.com>
Date: Tuesday, May 28 2024 01:55:04 
DPDK git baseline: Repo:dpdk
  Branch: master
  CommitID:2dbb63594a9a985e2c8639b57f9fcd1468b9de97

140338-140341 --> testing pass

Test environment and result as below:

+-----------------------------+------------------------------+---------------------------+----------------+--------------+
|         Environment         | cryptodev_sw_snow3g_autotest | cryptodev_sw_zuc_autotest | dpdk_unit_test | lpm_autotest |
+=============================+==============================+===========================+================+==============+
| Debian 12 (arm)             | PASS                         | PASS                      | PASS           | SKIPPED      |
+-----------------------------+------------------------------+---------------------------+----------------+--------------+
| Debian 11 (Buster) (ARM)    | SKIPPED                      | SKIPPED                   | PASS           | SKIPPED      |
+-----------------------------+------------------------------+---------------------------+----------------+--------------+
| CentOS Stream 9 (ARM)       | SKIPPED                      | SKIPPED                   | PASS           | SKIPPED      |
+-----------------------------+------------------------------+---------------------------+----------------+--------------+
| Fedora 37 (ARM)             | SKIPPED                      | SKIPPED                   | PASS           | SKIPPED      |
+-----------------------------+------------------------------+---------------------------+----------------+--------------+
| Fedora 38 (ARM)             | SKIPPED                      | SKIPPED                   | PASS           | SKIPPED      |
+-----------------------------+------------------------------+---------------------------+----------------+--------------+
| 32-bit Ubuntu 20.04.4 (ARM) | SKIPPED                      | SKIPPED                   | PASS           | SKIPPED      |
+-----------------------------+------------------------------+---------------------------+----------------+--------------+
| Ubuntu 20.04 (ARM)          | SKIPPED                      | SKIPPED                   | PASS           | SKIPPED      |
+-----------------------------+------------------------------+---------------------------+----------------+--------------+
| Fedora 39 (ARM)             | SKIPPED                      | SKIPPED                   | PASS           | SKIPPED      |
+-----------------------------+------------------------------+---------------------------+----------------+--------------+
| Fedora 38 (ARM Clang)       | SKIPPED                      | SKIPPED                   | PASS           | SKIPPED      |
+-----------------------------+------------------------------+---------------------------+----------------+--------------+
| Fedora 39 (ARM Clang)       | SKIPPED                      | SKIPPED                   | PASS           | SKIPPED      |
+-----------------------------+------------------------------+---------------------------+----------------+--------------+
| Ubuntu 20.04 ARM SVE        | SKIPPED                      | SKIPPED                   | SKIPPED        | PASS         |
+-----------------------------+------------------------------+---------------------------+----------------+--------------+


Debian 12 (arm)
	Kernel: Container Host Kernel
	Compiler: gcc 12.2.0

Debian 11 (Buster) (ARM)
	Kernel: Container Host Kernel
	Compiler: gcc 10.2.1

CentOS Stream 9 (ARM)
	Kernel: Container Host Kernel
	Compiler: gcc 11.4.1

Fedora 37 (ARM)
	Kernel: Depends on container host
	Compiler: gcc 12.3.1

Fedora 38 (ARM)
	Kernel: Depends on container host
	Compiler: gcc 13.2.1

32-bit Ubuntu 20.04.4 (ARM)
	Kernel: 5.4.0-155-generic aarch64
	Compiler: gcc 9.4

Ubuntu 20.04 (ARM)
	Kernel: Container Host Kernel
	Compiler: gcc 9.4.0

Fedora 39 (ARM)
	Kernel: Depends on container host
	Compiler: gcc 13.2.1

Fedora 38 (ARM Clang)
	Kernel: Depends on container host
	Compiler: clang 16.0.6

Fedora 39 (ARM Clang)
	Kernel: Depends on container host
	Compiler: clang 17.0.6

Ubuntu 20.04 ARM SVE
	Kernel: 5.4.0-167-generic
	Compiler: gcc (Ubuntu 10.5.0-1ubuntu1~20.04) 10.5.0

To view detailed results, visit:
https://lab.dpdk.org/results/dashboard/patchsets/30025/

UNH-IOL DPDK Community Lab

To manage your email subscriptions, visit: 
https://lab.dpdk.org/results/dashboard/preferences/subscriptions/