From mboxrd@z Thu Jan  1 00:00:00 1970
Return-Path: <test-report-bounces@dpdk.org>
Received: from mails.dpdk.org (mails.dpdk.org [217.70.189.124])
	by inbox.dpdk.org (Postfix) with ESMTP id 2B85D440F2
	for <public@inbox.dpdk.org>; Tue, 28 May 2024 12:55:44 +0200 (CEST)
Received: from mails.dpdk.org (localhost [127.0.0.1])
	by mails.dpdk.org (Postfix) with ESMTP id 2614140648;
	Tue, 28 May 2024 12:55:44 +0200 (CEST)
Received: from mail-qv1-f98.google.com (mail-qv1-f98.google.com
 [209.85.219.98]) by mails.dpdk.org (Postfix) with ESMTP id CF01D402E4
 for <test-report@dpdk.org>; Tue, 28 May 2024 12:55:42 +0200 (CEST)
Received: by mail-qv1-f98.google.com with SMTP id
 6a1803df08f44-6ab9e011f62so34603446d6.0
 for <test-report@dpdk.org>; Tue, 28 May 2024 03:55:42 -0700 (PDT)
DKIM-Signature: v=1; a=rsa-sha256; c=relaxed/relaxed;
 d=iol.unh.edu; s=unh-iol; t=1716893742; x=1717498542; darn=dpdk.org;
 h=references:in-reply-to:cc:to:from:subject:message-id:date:from:to
 :cc:subject:date:message-id:reply-to;
 bh=h3pw+tk2g9Z2O4bbBaJgQ5yvQC/IFJfH+FXIjn5s308=;
 b=cME33lINF4kmqSHI3kmLRxvFZvxaiZW8ZbLEZPUQyrnwHP1JPb9qsfNk0v08dxg5Yl
 5JPrDvvylyg511vqRxU+vDrWChx2N479acMtZy6gcftzix2Nj4RRhtCSHn1y6jx6eT4Q
 3VaVtFmbh2N7fmlpxZDR/5r9FKwwnIqJ6ZRzM=
X-Google-DKIM-Signature: v=1; a=rsa-sha256; c=relaxed/relaxed;
 d=1e100.net; s=20230601; t=1716893742; x=1717498542;
 h=references:in-reply-to:cc:to:from:subject:message-id:date
 :x-gm-message-state:from:to:cc:subject:date:message-id:reply-to;
 bh=h3pw+tk2g9Z2O4bbBaJgQ5yvQC/IFJfH+FXIjn5s308=;
 b=cXsqT52DAwJABh7IIDh/1wIhclcP0M82bpv7IdD9zNgW6JfcXG0dgaH07JXXAhHU98
 nRWhrxFt4srTLZNhzSN85a7jp8i5x57ggfMveJ2U7oct0zG/M/wlaeh2F0Iulcn2FzBe
 woXT+WrLFTIZQLiW4dQ4RkUkKIq1eHjR8VC0TyDIFIY6WQaTnU4eysUOhUtug7pR3EFd
 oO59E/OOpVL7O1PuCjtifMlIZNjWGxWL/41+TqkoT9V4p5hybnZD5SeKU/qUmNrJlmrF
 iDL9DV72On+LdIt9h4Hebp9ul8dSA6vmKq4UgmDUkXtIIqWKlTrteuDArPDvO5NiXMaL
 ldxw==
X-Gm-Message-State: AOJu0YzLtwWskN6Om3ZtNwBPfFVRsjfee+I70IZoxVEe6L7yTLOZLSmG
 wHkoD8GLC/SF7NLxkjs8FMSY5fSivk4sRsFMpn06U65Dvl6EYuYSqiPdfpM5X3M6qazAo/W/jVq
 gVIiCnbLCk9UK4sUTrfWWCMkt9DaPKr2A8E1OvCn8
X-Google-Smtp-Source: AGHT+IEW192MtMwcg4NnYe4rXBL7+VI77dezAM7iYyhYkLE/OD5r8GV/zGEp1rUKPhBBfNl3WvQyN17Q7Wpz
X-Received: by 2002:ad4:5cc4:0:b0:6ad:77f3:f004 with SMTP id
 6a1803df08f44-6ad77f3f0b1mr123967086d6.6.1716893742283; 
 Tue, 28 May 2024 03:55:42 -0700 (PDT)
Received: from postal.iol.unh.edu (postal.iol.unh.edu. [132.177.123.84])
 by smtp-relay.gmail.com with ESMTPS id
 6a1803df08f44-6ac06f6accdsm13828766d6.14.2024.05.28.03.55.42
 (version=TLS1_2 cipher=ECDHE-ECDSA-AES128-GCM-SHA256 bits=128/128);
 Tue, 28 May 2024 03:55:42 -0700 (PDT)
X-Relaying-Domain: iol.unh.edu
Date: Tue, 28 May 2024 03:55:42 -0700 (PDT)
Message-ID: <6655b82e.d40a0220.2eda0.735cSMTPIN_ADDED_MISSING@mx.google.com>
Received: from [172.21.0.6] (unknown [172.18.0.240])
 by postal.iol.unh.edu (Postfix) with ESMTP id F076B605C373;
 Tue, 28 May 2024 06:55:41 -0400 (EDT)
Subject: |SUCCESS| pw140356 [PATCH] [RFC,v2] eal: provide option to use compi
From: dpdklab@iol.unh.edu
To: Test Report <test-report@dpdk.org>
Cc: dpdk-test-reports@iol.unh.edu
In-Reply-To: <20240528074354.190779-1-mattias.ronnblom@ericsson.com>
References: <20240528074354.190779-1-mattias.ronnblom@ericsson.com>
Content-Type: text/plain
X-BeenThere: test-report@dpdk.org
X-Mailman-Version: 2.1.29
Precedence: list
List-Id: automatic DPDK test reports <test-report.dpdk.org>
List-Unsubscribe: <https://mails.dpdk.org/options/test-report>,
 <mailto:test-report-request@dpdk.org?subject=unsubscribe>
List-Archive: <http://mails.dpdk.org/archives/test-report/>
List-Post: <mailto:test-report@dpdk.org>
List-Help: <mailto:test-report-request@dpdk.org?subject=help>
List-Subscribe: <https://mails.dpdk.org/listinfo/test-report>,
 <mailto:test-report-request@dpdk.org?subject=subscribe>
Errors-To: test-report-bounces@dpdk.org

Test-Label: iol-compile-amd64-testing
Test-Status: SUCCESS
http://dpdk.org/patch/140356

_Testing PASS_

Submitter: Mattias Ronnblom <mattias.ronnblom@ericsson.com>
Date: Tuesday, May 28 2024 07:43:54 
DPDK git baseline: Repo:dpdk
  Branch: master
  CommitID:77e63757d2a0106a0cc519f5a82e2d749d16475a

140356 --> testing pass

Test environment and result as below:

+---------------------+--------------------+----------------------+-------------------+------------------+
|     Environment     | dpdk_meson_compile | dpdk_mingw64_compile | dpdk_msvc_compile | dpdk_compile_ovs |
+=====================+====================+======================+===================+==================+
| Windows Server 2019 | PASS               | PASS                 | SKIPPED           | SKIPPED          |
+---------------------+--------------------+----------------------+-------------------+------------------+
| Windows Server 2022 | PASS               | PASS                 | PASS              | SKIPPED          |
+---------------------+--------------------+----------------------+-------------------+------------------+
| FreeBSD 13.3        | PASS               | SKIPPED              | SKIPPED           | SKIPPED          |
+---------------------+--------------------+----------------------+-------------------+------------------+
| CentOS Stream 8     | PASS               | SKIPPED              | SKIPPED           | PASS             |
+---------------------+--------------------+----------------------+-------------------+------------------+
| FreeBSD 14.0        | PASS               | SKIPPED              | SKIPPED           | SKIPPED          |
+---------------------+--------------------+----------------------+-------------------+------------------+
| Debian Bullseye     | PASS               | SKIPPED              | SKIPPED           | PASS             |
+---------------------+--------------------+----------------------+-------------------+------------------+
| CentOS Stream 9     | PASS               | SKIPPED              | SKIPPED           | PASS             |
+---------------------+--------------------+----------------------+-------------------+------------------+
| Fedora 37           | PASS               | SKIPPED              | SKIPPED           | PASS             |
+---------------------+--------------------+----------------------+-------------------+------------------+
| Fedora 38           | PASS               | SKIPPED              | SKIPPED           | PASS             |
+---------------------+--------------------+----------------------+-------------------+------------------+
| Fedora 39           | PASS               | SKIPPED              | SKIPPED           | PASS             |
+---------------------+--------------------+----------------------+-------------------+------------------+
| Debian 12           | PASS               | SKIPPED              | SKIPPED           | PASS             |
+---------------------+--------------------+----------------------+-------------------+------------------+
| RHEL8               | PASS               | SKIPPED              | SKIPPED           | PASS             |
+---------------------+--------------------+----------------------+-------------------+------------------+
| openSUSE Leap 15    | PASS               | SKIPPED              | SKIPPED           | PASS             |
+---------------------+--------------------+----------------------+-------------------+------------------+
| Ubuntu 20.04        | PASS               | SKIPPED              | SKIPPED           | PASS             |
+---------------------+--------------------+----------------------+-------------------+------------------+
| Ubuntu 22.04        | PASS               | SKIPPED              | SKIPPED           | PASS             |
+---------------------+--------------------+----------------------+-------------------+------------------+


Windows Server 2019
	Kernel: 10.0.17763
	Compiler: clang 14.0 and gcc 8.1.0 (MinGW)

Windows Server 2022
	Kernel: 10.0.20348.2031
	Compiler: clang 15.0.7, gcc 8.1.0 (MinGW), and MSVC VS 17.9

FreeBSD 13.3
	Kernel: 13.3-RELEASE-p1
	Compiler: clang 17.0.6

CentOS Stream 8
	Kernel: 5.4.0-167-generic
	Compiler: gcc 8.5.0 20210514

FreeBSD 14.0
	Kernel: 14.0
	Compiler: clang 16.0.6

Debian Bullseye
	Kernel: 5.4.0-167-generic
	Compiler: gcc 10.2.1-6

CentOS Stream 9
	Kernel: 5.4.0-167-generic
	Compiler: gcc 11.4.1 20230605

Fedora 37
	Kernel: Depends on container host system
	Compiler: gcc 12.3.1

Fedora 38
	Kernel: Depends on container host
	Compiler: clang 16.0.6

Fedora 39
	Kernel: Depends on container host
	Compiler: clang 17.0.6

Debian 12
	Kernel: Container Host Kernel
	Compiler: gcc 10.2.1

RHEL8
	Kernel: 5.4.0-167-generic
	Compiler: gcc 8.5.0 20210514 (Red Hat 8.5.0-20)

openSUSE Leap 15
	Kernel: 5.4.0-167-generic
	Compiler: gcc 7.5.0

Ubuntu 20.04
	Kernel: 5.4.0-167-generic
	Compiler: gcc 9.4.0-1ubuntu1~20.04.1

Ubuntu 22.04
	Kernel: 5.4.0-167-generic
	Compiler: gcc 11.4.0

To view detailed results, visit:
https://lab.dpdk.org/results/dashboard/patchsets/30031/

UNH-IOL DPDK Community Lab

To manage your email subscriptions, visit: 
https://lab.dpdk.org/results/dashboard/preferences/subscriptions/