From mboxrd@z Thu Jan  1 00:00:00 1970
Return-Path: <test-report-bounces@dpdk.org>
Received: from mails.dpdk.org (mails.dpdk.org [217.70.189.124])
	by inbox.dpdk.org (Postfix) with ESMTP id 57B9E440F2
	for <public@inbox.dpdk.org>; Tue, 28 May 2024 13:54:29 +0200 (CEST)
Received: from mails.dpdk.org (localhost [127.0.0.1])
	by mails.dpdk.org (Postfix) with ESMTP id 4F61640648;
	Tue, 28 May 2024 13:54:29 +0200 (CEST)
Received: from mail-io1-f98.google.com (mail-io1-f98.google.com
 [209.85.166.98]) by mails.dpdk.org (Postfix) with ESMTP id 71DCB402E4
 for <test-report@dpdk.org>; Tue, 28 May 2024 13:54:28 +0200 (CEST)
Received: by mail-io1-f98.google.com with SMTP id
 ca18e2360f4ac-7e2274fb335so31726339f.1
 for <test-report@dpdk.org>; Tue, 28 May 2024 04:54:28 -0700 (PDT)
DKIM-Signature: v=1; a=rsa-sha256; c=relaxed/relaxed;
 d=iol.unh.edu; s=unh-iol; t=1716897268; x=1717502068; darn=dpdk.org;
 h=references:in-reply-to:cc:to:from:subject:message-id:date:from:to
 :cc:subject:date:message-id:reply-to;
 bh=QVLAp8H1Bd6BvmdoBjfY8lqD/8prcJUmbGP6PU2AQug=;
 b=XvIAoOfY5yvDJ2OtT3HlX7tJL54le3vZS2ian2p1xR4v7jG8O6CEoqLCyy8A/A726A
 hS57K3Kgp64sizsGTiNyjgPjPXWuAtSXeRZj5cVaVUGWnpOhgAb7f8pc31dCAX0H3x71
 hHgtgJyeVNcAXJDj+ZNAEV+Ta0ifZlOOEV+PM=
X-Google-DKIM-Signature: v=1; a=rsa-sha256; c=relaxed/relaxed;
 d=1e100.net; s=20230601; t=1716897268; x=1717502068;
 h=references:in-reply-to:cc:to:from:subject:message-id:date
 :x-gm-message-state:from:to:cc:subject:date:message-id:reply-to;
 bh=QVLAp8H1Bd6BvmdoBjfY8lqD/8prcJUmbGP6PU2AQug=;
 b=aBSQq+i0cXATWvMP1ToNvFUE9rsxAdi0sivVQowUdXT4fL/EgH0V2fEcZzQQz7fOqa
 dsIzqYeHgIW8YS/7tq6T57yERZGzCwz54/wcXGSbhw3BV6IbTYDiar9Y/C+AEpYS0lql
 fy9akATKXkGYMgVeoM7K7XNuzJslD+ZAUONvWqHDOAK7zRWho7ycp5fOA+UtC0Npk4md
 db+mxff2vMyYoNlbT1k8hN5OWn+YBaKdYSzsj1/6RxnL7SE2+/xerKyvmAvjLe84BQTD
 NLwWt4JSanu70mEiV+DKP92ztrZoZmZ/OFisYU/47BmDuK25p1dPJYoi6hjpJFay9qFN
 uMfg==
X-Gm-Message-State: AOJu0YzyJ9a0T/gBxnOFlUIVxBVJUjFhPALLioAwrdjFXiTDbhAlfnTm
 PCyJzJAh0HJHUOGqnKfSqzt5vpBWHyoTQ1Wah28P+rtu6Src4eyDnf17aWXY0yyTFohotV3POF9
 fXX0K8SKGgONC9qR8pr+QkC5w8iq8mcf1muzmElx3HbNpN+Mns++3kUaP
X-Google-Smtp-Source: AGHT+IHDziJIPlVXZWxa9R8wipmMfZgguKvOu3gd99CeMVPJzkbKReiGz91XTkN31pZb4UxMXLF6Y+NatF8w
X-Received: by 2002:a05:6602:641e:b0:7e9:99b3:1537 with SMTP id
 ca18e2360f4ac-7e999b317b1mr1466423839f.2.1716897267852; 
 Tue, 28 May 2024 04:54:27 -0700 (PDT)
Received: from postal.iol.unh.edu (postal.iol.unh.edu.
 [2606:4100:3880:1234::84]) by smtp-relay.gmail.com with ESMTPS id
 8926c6da1cb9f-4b03e824e30sm1082232173.17.2024.05.28.04.54.27
 (version=TLS1_2 cipher=ECDHE-ECDSA-AES128-GCM-SHA256 bits=128/128);
 Tue, 28 May 2024 04:54:27 -0700 (PDT)
X-Relaying-Domain: iol.unh.edu
Date: Tue, 28 May 2024 04:54:27 -0700 (PDT)
Message-ID: <6655c5f3.050a0220.981bb.e8feSMTPIN_ADDED_MISSING@mx.google.com>
Received: from [172.21.0.6] (unknown [172.18.0.240])
 by postal.iol.unh.edu (Postfix) with ESMTP id 53D8C605C373;
 Tue, 28 May 2024 07:54:27 -0400 (EDT)
Subject: |SUCCESS| pw140356 [PATCH] [RFC,v2] eal: provide option to use compi
From: dpdklab@iol.unh.edu
To: Test Report <test-report@dpdk.org>
Cc: dpdk-test-reports@iol.unh.edu
In-Reply-To: <20240528074354.190779-1-mattias.ronnblom@ericsson.com>
References: <20240528074354.190779-1-mattias.ronnblom@ericsson.com>
Content-Type: text/plain
X-BeenThere: test-report@dpdk.org
X-Mailman-Version: 2.1.29
Precedence: list
List-Id: automatic DPDK test reports <test-report.dpdk.org>
List-Unsubscribe: <https://mails.dpdk.org/options/test-report>,
 <mailto:test-report-request@dpdk.org?subject=unsubscribe>
List-Archive: <http://mails.dpdk.org/archives/test-report/>
List-Post: <mailto:test-report@dpdk.org>
List-Help: <mailto:test-report-request@dpdk.org?subject=help>
List-Subscribe: <https://mails.dpdk.org/listinfo/test-report>,
 <mailto:test-report-request@dpdk.org?subject=subscribe>
Errors-To: test-report-bounces@dpdk.org

Test-Label: iol-unit-arm64-testing
Test-Status: SUCCESS
http://dpdk.org/patch/140356

_Testing PASS_

Submitter: Mattias Ronnblom <mattias.ronnblom@ericsson.com>
Date: Tuesday, May 28 2024 07:43:54 
DPDK git baseline: Repo:dpdk
  Branch: master
  CommitID:77e63757d2a0106a0cc519f5a82e2d749d16475a

140356 --> testing pass

Test environment and result as below:

+-----------------------------+----------------+--------------+------------------------------+
|         Environment         | dpdk_unit_test | lpm_autotest | cryptodev_sw_snow3g_autotest |
+=============================+================+==============+==============================+
| Debian 12 (arm)             | PASS           | SKIPPED      | PASS                         |
+-----------------------------+----------------+--------------+------------------------------+
| Debian 11 (Buster) (ARM)    | PASS           | SKIPPED      | SKIPPED                      |
+-----------------------------+----------------+--------------+------------------------------+
| CentOS Stream 9 (ARM)       | PASS           | SKIPPED      | SKIPPED                      |
+-----------------------------+----------------+--------------+------------------------------+
| Fedora 38 (ARM Clang)       | PASS           | SKIPPED      | SKIPPED                      |
+-----------------------------+----------------+--------------+------------------------------+
| Fedora 38 (ARM)             | PASS           | SKIPPED      | SKIPPED                      |
+-----------------------------+----------------+--------------+------------------------------+
| 32-bit Ubuntu 20.04.4 (ARM) | PASS           | SKIPPED      | SKIPPED                      |
+-----------------------------+----------------+--------------+------------------------------+
| Ubuntu 20.04 (ARM)          | PASS           | SKIPPED      | SKIPPED                      |
+-----------------------------+----------------+--------------+------------------------------+
| Fedora 37 (ARM)             | PASS           | SKIPPED      | SKIPPED                      |
+-----------------------------+----------------+--------------+------------------------------+
| Fedora 39 (ARM Clang)       | PASS           | SKIPPED      | SKIPPED                      |
+-----------------------------+----------------+--------------+------------------------------+
| Fedora 39 (ARM)             | PASS           | SKIPPED      | SKIPPED                      |
+-----------------------------+----------------+--------------+------------------------------+
| Ubuntu 20.04 ARM SVE        | SKIPPED        | PASS         | SKIPPED                      |
+-----------------------------+----------------+--------------+------------------------------+


Debian 12 (arm)
	Kernel: Container Host Kernel
	Compiler: gcc 12.2.0

Debian 11 (Buster) (ARM)
	Kernel: Container Host Kernel
	Compiler: gcc 10.2.1

CentOS Stream 9 (ARM)
	Kernel: Container Host Kernel
	Compiler: gcc 11.4.1

Fedora 38 (ARM Clang)
	Kernel: Depends on container host
	Compiler: clang 16.0.6

Fedora 38 (ARM)
	Kernel: Depends on container host
	Compiler: gcc 13.2.1

32-bit Ubuntu 20.04.4 (ARM)
	Kernel: 5.4.0-155-generic aarch64
	Compiler: gcc 9.4

Ubuntu 20.04 (ARM)
	Kernel: Container Host Kernel
	Compiler: gcc 9.4.0

Fedora 37 (ARM)
	Kernel: Depends on container host
	Compiler: gcc 12.3.1

Fedora 39 (ARM Clang)
	Kernel: Depends on container host
	Compiler: clang 17.0.6

Fedora 39 (ARM)
	Kernel: Depends on container host
	Compiler: gcc 13.2.1

Ubuntu 20.04 ARM SVE
	Kernel: 5.4.0-167-generic
	Compiler: gcc (Ubuntu 10.5.0-1ubuntu1~20.04) 10.5.0

To view detailed results, visit:
https://lab.dpdk.org/results/dashboard/patchsets/30031/

UNH-IOL DPDK Community Lab

To manage your email subscriptions, visit: 
https://lab.dpdk.org/results/dashboard/preferences/subscriptions/