From mboxrd@z Thu Jan  1 00:00:00 1970
Return-Path: <test-report-bounces@dpdk.org>
Received: from mails.dpdk.org (mails.dpdk.org [217.70.189.124])
	by inbox.dpdk.org (Postfix) with ESMTP id B73B6440F2
	for <public@inbox.dpdk.org>; Tue, 28 May 2024 13:59:22 +0200 (CEST)
Received: from mails.dpdk.org (localhost [127.0.0.1])
	by mails.dpdk.org (Postfix) with ESMTP id B3A7040648;
	Tue, 28 May 2024 13:59:22 +0200 (CEST)
Received: from mail-pf1-f227.google.com (mail-pf1-f227.google.com
 [209.85.210.227])
 by mails.dpdk.org (Postfix) with ESMTP id 8B59D402E4
 for <test-report@dpdk.org>; Tue, 28 May 2024 13:59:21 +0200 (CEST)
Received: by mail-pf1-f227.google.com with SMTP id
 d2e1a72fcca58-701e1eaa6cfso222310b3a.1
 for <test-report@dpdk.org>; Tue, 28 May 2024 04:59:21 -0700 (PDT)
DKIM-Signature: v=1; a=rsa-sha256; c=relaxed/relaxed;
 d=iol.unh.edu; s=unh-iol; t=1716897561; x=1717502361; darn=dpdk.org;
 h=references:in-reply-to:cc:to:from:subject:message-id:date:from:to
 :cc:subject:date:message-id:reply-to;
 bh=QVLAp8H1Bd6BvmdoBjfY8lqD/8prcJUmbGP6PU2AQug=;
 b=A/vJXGbzCRypCDTbhB0/TA1krtEsLUqmm5fOeW2zUoVKKf1gR+RUaswqftF0AwKXYe
 ymcpbEJu4a9AcBPVO+1LZVHffBM/6sY0kYYNcQzaidDQv9/twp/yirFvATNeqxs5kV32
 abt74A8oDU1fYBSQfdplKN83a8zni6jez9KaY=
X-Google-DKIM-Signature: v=1; a=rsa-sha256; c=relaxed/relaxed;
 d=1e100.net; s=20230601; t=1716897561; x=1717502361;
 h=references:in-reply-to:cc:to:from:subject:message-id:date
 :x-gm-message-state:from:to:cc:subject:date:message-id:reply-to;
 bh=QVLAp8H1Bd6BvmdoBjfY8lqD/8prcJUmbGP6PU2AQug=;
 b=bTRwHsKAW7CCfPpbWIvFZRP2Wwz87kxhldEBqpW9dU7FXdlu1y5xg3maiKOXVYeaZK
 qwB6Okx6TIZqoxYalXHg2RS6bxLQzcC+gGQ0u16cAMNECi3jMLomCI3OMQYEfMb6Jiey
 ixJjrN/9lt7T1anmAkgI7b4szOElXjP2JOUufPMf22GhWO234sYoTDP8MiczKrDdXvUY
 6Cs1To0jV9fG+O/PzsKv/qQV/sGA6ATTDaErlQjxBwM9doYs6diq32YKF0bcDQX6IzE2
 mJurFBQdeJ8nTWFoNrKXMcAjW/+/soVi5f/K6XvyBdeS9D0hoi4Em1jZByszsY05xmxb
 Vy6Q==
X-Gm-Message-State: AOJu0YxuH9LMoZGrbc4Hxx6vqF5IWLs2p4PKF8nyoO/kxkzPluX74Ryb
 vE8hFRMujnkcVhb9xbd7SeGOZPJjgoz3iqL9my61wIUD/3mfQJATT5DgAzIx83MtLm+Tw+H2Q4A
 DZ2GylI9biWJ8HUyo8u5kaSstlTlh2P/slmtlV3PQ00kbHb+0oLmMzJ6A
X-Google-Smtp-Source: AGHT+IF56z5Ryh5buq4VswC/K+eeaI/KOWlj3G7pm7RUz8MG2rjh7jC9Zl30keX/zDI0gdIzNuLcmtO3kskR
X-Received: by 2002:a17:902:d2ce:b0:1f4:a552:7e83 with SMTP id
 d9443c01a7336-1f4a5528076mr58837195ad.31.1716897560697; 
 Tue, 28 May 2024 04:59:20 -0700 (PDT)
Received: from postal.iol.unh.edu (postal.iol.unh.edu.
 [2606:4100:3880:1234::84]) by smtp-relay.gmail.com with ESMTPS id
 d9443c01a7336-1f44c957a2asm6173845ad.97.2024.05.28.04.59.20
 (version=TLS1_2 cipher=ECDHE-ECDSA-AES128-GCM-SHA256 bits=128/128);
 Tue, 28 May 2024 04:59:20 -0700 (PDT)
X-Relaying-Domain: iol.unh.edu
Date: Tue, 28 May 2024 04:59:20 -0700 (PDT)
Message-ID: <6655c718.170a0220.f5bc2.cdf3SMTPIN_ADDED_MISSING@mx.google.com>
Received: from [172.21.0.6] (unknown [172.18.0.240])
 by postal.iol.unh.edu (Postfix) with ESMTP id D5531605C373;
 Tue, 28 May 2024 07:59:19 -0400 (EDT)
Subject: |SUCCESS| pw140356 [PATCH] [RFC,v2] eal: provide option to use compi
From: dpdklab@iol.unh.edu
To: Test Report <test-report@dpdk.org>
Cc: dpdk-test-reports@iol.unh.edu
In-Reply-To: <20240528074354.190779-1-mattias.ronnblom@ericsson.com>
References: <20240528074354.190779-1-mattias.ronnblom@ericsson.com>
Content-Type: text/plain
X-BeenThere: test-report@dpdk.org
X-Mailman-Version: 2.1.29
Precedence: list
List-Id: automatic DPDK test reports <test-report.dpdk.org>
List-Unsubscribe: <https://mails.dpdk.org/options/test-report>,
 <mailto:test-report-request@dpdk.org?subject=unsubscribe>
List-Archive: <http://mails.dpdk.org/archives/test-report/>
List-Post: <mailto:test-report@dpdk.org>
List-Help: <mailto:test-report-request@dpdk.org?subject=help>
List-Subscribe: <https://mails.dpdk.org/listinfo/test-report>,
 <mailto:test-report-request@dpdk.org?subject=subscribe>
Errors-To: test-report-bounces@dpdk.org

Test-Label: iol-unit-arm64-testing
Test-Status: SUCCESS
http://dpdk.org/patch/140356

_Testing PASS_

Submitter: Mattias Ronnblom <mattias.ronnblom@ericsson.com>
Date: Tuesday, May 28 2024 07:43:54 
DPDK git baseline: Repo:dpdk
  Branch: master
  CommitID:77e63757d2a0106a0cc519f5a82e2d749d16475a

140356 --> testing pass

Test environment and result as below:

+-----------------------------+----------------+--------------+------------------------------+
|         Environment         | dpdk_unit_test | lpm_autotest | cryptodev_sw_snow3g_autotest |
+=============================+================+==============+==============================+
| Debian 12 (arm)             | PASS           | SKIPPED      | PASS                         |
+-----------------------------+----------------+--------------+------------------------------+
| Debian 11 (Buster) (ARM)    | PASS           | SKIPPED      | SKIPPED                      |
+-----------------------------+----------------+--------------+------------------------------+
| CentOS Stream 9 (ARM)       | PASS           | SKIPPED      | SKIPPED                      |
+-----------------------------+----------------+--------------+------------------------------+
| Fedora 38 (ARM Clang)       | PASS           | SKIPPED      | SKIPPED                      |
+-----------------------------+----------------+--------------+------------------------------+
| Fedora 38 (ARM)             | PASS           | SKIPPED      | SKIPPED                      |
+-----------------------------+----------------+--------------+------------------------------+
| 32-bit Ubuntu 20.04.4 (ARM) | PASS           | SKIPPED      | SKIPPED                      |
+-----------------------------+----------------+--------------+------------------------------+
| Ubuntu 20.04 (ARM)          | PASS           | SKIPPED      | SKIPPED                      |
+-----------------------------+----------------+--------------+------------------------------+
| Fedora 37 (ARM)             | PASS           | SKIPPED      | SKIPPED                      |
+-----------------------------+----------------+--------------+------------------------------+
| Fedora 39 (ARM Clang)       | PASS           | SKIPPED      | SKIPPED                      |
+-----------------------------+----------------+--------------+------------------------------+
| Fedora 39 (ARM)             | PASS           | SKIPPED      | SKIPPED                      |
+-----------------------------+----------------+--------------+------------------------------+
| Ubuntu 20.04 ARM SVE        | SKIPPED        | PASS         | SKIPPED                      |
+-----------------------------+----------------+--------------+------------------------------+


Debian 12 (arm)
	Kernel: Container Host Kernel
	Compiler: gcc 12.2.0

Debian 11 (Buster) (ARM)
	Kernel: Container Host Kernel
	Compiler: gcc 10.2.1

CentOS Stream 9 (ARM)
	Kernel: Container Host Kernel
	Compiler: gcc 11.4.1

Fedora 38 (ARM Clang)
	Kernel: Depends on container host
	Compiler: clang 16.0.6

Fedora 38 (ARM)
	Kernel: Depends on container host
	Compiler: gcc 13.2.1

32-bit Ubuntu 20.04.4 (ARM)
	Kernel: 5.4.0-155-generic aarch64
	Compiler: gcc 9.4

Ubuntu 20.04 (ARM)
	Kernel: Container Host Kernel
	Compiler: gcc 9.4.0

Fedora 37 (ARM)
	Kernel: Depends on container host
	Compiler: gcc 12.3.1

Fedora 39 (ARM Clang)
	Kernel: Depends on container host
	Compiler: clang 17.0.6

Fedora 39 (ARM)
	Kernel: Depends on container host
	Compiler: gcc 13.2.1

Ubuntu 20.04 ARM SVE
	Kernel: 5.4.0-167-generic
	Compiler: gcc (Ubuntu 10.5.0-1ubuntu1~20.04) 10.5.0

To view detailed results, visit:
https://lab.dpdk.org/results/dashboard/patchsets/30031/

UNH-IOL DPDK Community Lab

To manage your email subscriptions, visit: 
https://lab.dpdk.org/results/dashboard/preferences/subscriptions/