From mboxrd@z Thu Jan  1 00:00:00 1970
Return-Path: <test-report-bounces@dpdk.org>
Received: from mails.dpdk.org (mails.dpdk.org [217.70.189.124])
	by inbox.dpdk.org (Postfix) with ESMTP id 1FF8E44099
	for <public@inbox.dpdk.org>; Tue, 28 May 2024 14:48:53 +0200 (CEST)
Received: from mails.dpdk.org (localhost [127.0.0.1])
	by mails.dpdk.org (Postfix) with ESMTP id 16476402E4;
	Tue, 28 May 2024 14:48:53 +0200 (CEST)
Received: from mail-qv1-f100.google.com (mail-qv1-f100.google.com
 [209.85.219.100])
 by mails.dpdk.org (Postfix) with ESMTP id EB4254025C
 for <test-report@dpdk.org>; Tue, 28 May 2024 14:48:51 +0200 (CEST)
Received: by mail-qv1-f100.google.com with SMTP id
 6a1803df08f44-6ad935156fdso2542546d6.0
 for <test-report@dpdk.org>; Tue, 28 May 2024 05:48:51 -0700 (PDT)
DKIM-Signature: v=1; a=rsa-sha256; c=relaxed/relaxed;
 d=iol.unh.edu; s=unh-iol; t=1716900531; x=1717505331; darn=dpdk.org;
 h=references:in-reply-to:cc:to:from:subject:message-id:date:from:to
 :cc:subject:date:message-id:reply-to;
 bh=xClTlnPPdi/dQJzz4AUBlui5bIbMWleeGuNhpCnEy7c=;
 b=Y/lFVX3oGeEAjzo/tl1MI+k81IrczoQsS6y9yuF2e1i36ld0n5vKTBfbZZJv5XkEZd
 tkDCb73fhs1989FxKFzRzeu0dUbaGGqfXbnk8ehXO3dcwfjMAogAokyEcJaPIZuHtMxP
 Jr8hlsCDQvh/kDncxq136iQm7r45lIbZQ1rRw=
X-Google-DKIM-Signature: v=1; a=rsa-sha256; c=relaxed/relaxed;
 d=1e100.net; s=20230601; t=1716900531; x=1717505331;
 h=references:in-reply-to:cc:to:from:subject:message-id:date
 :x-gm-message-state:from:to:cc:subject:date:message-id:reply-to;
 bh=xClTlnPPdi/dQJzz4AUBlui5bIbMWleeGuNhpCnEy7c=;
 b=eowg8LCQFfa6psq5E6fAmxu2+G+zSMs1v1V6n13PmXCCxufEoLmGcBrxqpaRt+gEjr
 RHJlmlmXrYaOspUtqVD+5QYREhXFzokAzlUz/f/N3PO+FD+xZuzUtdnCSegLAyrveS5W
 4jseRcJbf4HyKLuWh4KCNNEDATAAnDdWKdM8Htf5zqExXgGi5GWuzKyVNeATh7VfWcMI
 ivl+KPWxDM4Yl/ZGXOIcBcEndgQNWH1jyb+qYTiM7EUcx/HDkQSqAL1YuPEhVIrp/TKs
 qR2ZALWuKE58VNqO5hbZDEFGQZS+sQSmHxGKNqv+fu6rbLJelq2XySpUZfc0ejNJPbqB
 ANqg==
X-Gm-Message-State: AOJu0YwvJrL5hQcl+rqFbtf8T5kMlk0CkOqVWycu6PcGQhGJ8hw59x89
 4+5nXpuVRAkg/AYVETVV/xItSUzGelrpRWDfj7WgN37RxnIg1yRxIa1Et6ft2epLOc39mY8gd2y
 6YsY9GbHjfh3c16YtTwoXFwd7t4T50cSmbZJMcsWzReu4H4Nb4u84ZoOp
X-Google-Smtp-Source: AGHT+IH3VqclTNyJs5ar5wmQ/vdyOSqdZ0vfL/FaScf4w2vOiFnFy+/HsmGusCJWdc3HsCNvH4zfhCV5E2Op
X-Received: by 2002:a05:6214:4a05:b0:6ab:8b00:5074 with SMTP id
 6a1803df08f44-6abcd0b4c0emr136744576d6.58.1716900531456; 
 Tue, 28 May 2024 05:48:51 -0700 (PDT)
Received: from postal.iol.unh.edu (postal.iol.unh.edu.
 [2606:4100:3880:1234::84]) by smtp-relay.gmail.com with ESMTPS id
 6a1803df08f44-6ac070884cfsm13716446d6.21.2024.05.28.05.48.51
 (version=TLS1_2 cipher=ECDHE-ECDSA-AES128-GCM-SHA256 bits=128/128);
 Tue, 28 May 2024 05:48:51 -0700 (PDT)
X-Relaying-Domain: iol.unh.edu
Date: Tue, 28 May 2024 05:48:51 -0700 (PDT)
Message-ID: <6655d2b3.050a0220.b964d.5475SMTPIN_ADDED_MISSING@mx.google.com>
Received: from [172.21.0.6] (unknown [172.18.0.240])
 by postal.iol.unh.edu (Postfix) with ESMTP id 23CA9605C373;
 Tue, 28 May 2024 08:48:51 -0400 (EDT)
Subject: |SUCCESS| pw140357-140381 [PATCH] [25/25] net/cpfl: updating idpf vc
From: dpdklab@iol.unh.edu
To: Test Report <test-report@dpdk.org>
Cc: dpdk-test-reports@iol.unh.edu
In-Reply-To: <20240528073630.867131-6-soumyadeep.hore@intel.com>
References: <20240528073630.867131-6-soumyadeep.hore@intel.com>
Content-Type: text/plain
X-BeenThere: test-report@dpdk.org
X-Mailman-Version: 2.1.29
Precedence: list
List-Id: automatic DPDK test reports <test-report.dpdk.org>
List-Unsubscribe: <https://mails.dpdk.org/options/test-report>,
 <mailto:test-report-request@dpdk.org?subject=unsubscribe>
List-Archive: <http://mails.dpdk.org/archives/test-report/>
List-Post: <mailto:test-report@dpdk.org>
List-Help: <mailto:test-report-request@dpdk.org?subject=help>
List-Subscribe: <https://mails.dpdk.org/listinfo/test-report>,
 <mailto:test-report-request@dpdk.org?subject=subscribe>
Errors-To: test-report-bounces@dpdk.org

Test-Label: iol-unit-arm64-testing
Test-Status: SUCCESS
http://dpdk.org/patch/140381

_Testing PASS_

Submitter: Soumyadeep Hore <soumyadeep.hore@intel.com>
Date: Tuesday, May 28 2024 07:36:30 
DPDK git baseline: Repo:dpdk
  Branch: master
  CommitID:19be1a0ba8af8a513adb011a3017d583d6312fc9

140357-140381 --> testing pass

Test environment and result as below:

+-----------------------------+--------------+---------------------------+----------------+------------------------------+
|         Environment         | lpm_autotest | cryptodev_sw_zuc_autotest | dpdk_unit_test | cryptodev_sw_snow3g_autotest |
+=============================+==============+===========================+================+==============================+
| Ubuntu 20.04 ARM SVE        | PASS         | SKIPPED                   | SKIPPED        | SKIPPED                      |
+-----------------------------+--------------+---------------------------+----------------+------------------------------+
| Debian 12 (arm)             | SKIPPED      | PASS                      | PASS           | PASS                         |
+-----------------------------+--------------+---------------------------+----------------+------------------------------+
| 32-bit Ubuntu 20.04.4 (ARM) | SKIPPED      | SKIPPED                   | PASS           | SKIPPED                      |
+-----------------------------+--------------+---------------------------+----------------+------------------------------+
| Debian 11 (Buster) (ARM)    | SKIPPED      | SKIPPED                   | PASS           | SKIPPED                      |
+-----------------------------+--------------+---------------------------+----------------+------------------------------+
| CentOS Stream 9 (ARM)       | SKIPPED      | SKIPPED                   | PASS           | SKIPPED                      |
+-----------------------------+--------------+---------------------------+----------------+------------------------------+
| Fedora 37 (ARM)             | SKIPPED      | SKIPPED                   | PASS           | SKIPPED                      |
+-----------------------------+--------------+---------------------------+----------------+------------------------------+
| Fedora 38 (ARM)             | SKIPPED      | SKIPPED                   | PASS           | SKIPPED                      |
+-----------------------------+--------------+---------------------------+----------------+------------------------------+
| Fedora 39 (ARM)             | SKIPPED      | SKIPPED                   | PASS           | SKIPPED                      |
+-----------------------------+--------------+---------------------------+----------------+------------------------------+
| Ubuntu 20.04 (ARM)          | SKIPPED      | SKIPPED                   | PASS           | SKIPPED                      |
+-----------------------------+--------------+---------------------------+----------------+------------------------------+
| Fedora 39 (ARM Clang)       | SKIPPED      | SKIPPED                   | PASS           | SKIPPED                      |
+-----------------------------+--------------+---------------------------+----------------+------------------------------+


Ubuntu 20.04 ARM SVE
	Kernel: 5.4.0-167-generic
	Compiler: gcc (Ubuntu 10.5.0-1ubuntu1~20.04) 10.5.0

Debian 12 (arm)
	Kernel: Container Host Kernel
	Compiler: gcc 12.2.0

32-bit Ubuntu 20.04.4 (ARM)
	Kernel: 5.4.0-155-generic aarch64
	Compiler: gcc 9.4

Debian 11 (Buster) (ARM)
	Kernel: Container Host Kernel
	Compiler: gcc 10.2.1

CentOS Stream 9 (ARM)
	Kernel: Container Host Kernel
	Compiler: gcc 11.4.1

Fedora 37 (ARM)
	Kernel: Depends on container host
	Compiler: gcc 12.3.1

Fedora 38 (ARM)
	Kernel: Depends on container host
	Compiler: gcc 13.2.1

Fedora 39 (ARM)
	Kernel: Depends on container host
	Compiler: gcc 13.2.1

Ubuntu 20.04 (ARM)
	Kernel: Container Host Kernel
	Compiler: gcc 9.4.0

Fedora 39 (ARM Clang)
	Kernel: Depends on container host
	Compiler: clang 17.0.6

To view detailed results, visit:
https://lab.dpdk.org/results/dashboard/patchsets/30032/

UNH-IOL DPDK Community Lab

To manage your email subscriptions, visit: 
https://lab.dpdk.org/results/dashboard/preferences/subscriptions/