From mboxrd@z Thu Jan  1 00:00:00 1970
Return-Path: <test-report-bounces@dpdk.org>
Received: from mails.dpdk.org (mails.dpdk.org [217.70.189.124])
	by inbox.dpdk.org (Postfix) with ESMTP id 86F0644099
	for <public@inbox.dpdk.org>; Tue, 28 May 2024 15:19:04 +0200 (CEST)
Received: from mails.dpdk.org (localhost [127.0.0.1])
	by mails.dpdk.org (Postfix) with ESMTP id 79CEE40687;
	Tue, 28 May 2024 15:19:04 +0200 (CEST)
Received: from mail-oo1-f100.google.com (mail-oo1-f100.google.com
 [209.85.161.100])
 by mails.dpdk.org (Postfix) with ESMTP id 1564C4025C
 for <test-report@dpdk.org>; Tue, 28 May 2024 15:19:03 +0200 (CEST)
Received: by mail-oo1-f100.google.com with SMTP id
 006d021491bc7-5b9706c84e5so503206eaf.1
 for <test-report@dpdk.org>; Tue, 28 May 2024 06:19:03 -0700 (PDT)
DKIM-Signature: v=1; a=rsa-sha256; c=relaxed/relaxed;
 d=iol.unh.edu; s=unh-iol; t=1716902342; x=1717507142; darn=dpdk.org;
 h=references:in-reply-to:cc:to:from:subject:message-id:date:from:to
 :cc:subject:date:message-id:reply-to;
 bh=i0zflXtL+uEA6+CBTHBHchodnvzDw4v3zsZu8yY6t/Y=;
 b=jJgrGVqvxL59r23UBdvnWHfMQUq3KIEQu5PYDLaQTF9N8u5dWuKxTTI4YFq27l8ySD
 CRGMv+iXA7i5UyMsBICuvn4ynkUe85uk25q7TiSx45pPArxS1XXS3yG9Q6gPcrouPg+o
 2hECQSosY+HYFqnF2mb4gBkBrbLWCLsvd+HOQ=
X-Google-DKIM-Signature: v=1; a=rsa-sha256; c=relaxed/relaxed;
 d=1e100.net; s=20230601; t=1716902342; x=1717507142;
 h=references:in-reply-to:cc:to:from:subject:message-id:date
 :x-gm-message-state:from:to:cc:subject:date:message-id:reply-to;
 bh=i0zflXtL+uEA6+CBTHBHchodnvzDw4v3zsZu8yY6t/Y=;
 b=mbYCAv5SP09RNxq7ShBsQKPzeZX0zsQVFNLFfB1x1iEYfMpfrp6oddit7KtfN99Bwc
 YZroJ0VqxcGwg5LgUHzTOSWMSPyOSqr+zCqVu/bfC1XT8nK6IZZSMhBoLfRN6K0dCtnJ
 vIylnuSXXh9h5K57e1+qpaS3MbVesgMlqi9XkFzTszapJvoLjFehTf+5ExTC4jejg9PF
 4khE7aIzzZceddUhGdUEycQu2+p8Ih/uGzRPOHbJJ36Bs5jeTDKbX0LmtBp/B3nGqp9d
 4mWsLtW10LCFjZEnTWX/byCDnAg6tMRYZiXM94RW5B+14AOw0HFyJKgEoPbfu/tvpOAK
 e22w==
X-Gm-Message-State: AOJu0YwTSi64ksbzXGRQJV45gj6evZvVWhrzxq5S94ihrhITug8CUzwA
 8XmmqyvW3CQi4sJHOrRzu+fTkOkEk7ekBTYtfkXNl0J02wfQYx3tVjoBgx6vLL9ujQ7RMWMO/dT
 t/Xm4bsTODIDIFwcZxW5UolZlf0BIct/scVEQb3edIn4F5CZxl1/uzQZE
X-Google-Smtp-Source: AGHT+IGFVNEUGXp0YJ9jUngIIh7altK2iLUAlB4DR/Hil7YtXGzsxP1L2lDkQehn4D7Bb9e7ikakMm1SrMV9
X-Received: by 2002:a05:6820:820:b0:5b3:34aa:430a with SMTP id
 006d021491bc7-5b961fa3491mr13344980eaf.7.1716902342405; 
 Tue, 28 May 2024 06:19:02 -0700 (PDT)
Received: from postal.iol.unh.edu (postal.iol.unh.edu.
 [2606:4100:3880:1234::84]) by smtp-relay.gmail.com with ESMTPS id
 006d021491bc7-5b9ad72c71fsm574272eaf.21.2024.05.28.06.19.02
 (version=TLS1_2 cipher=ECDHE-ECDSA-AES128-GCM-SHA256 bits=128/128);
 Tue, 28 May 2024 06:19:02 -0700 (PDT)
X-Relaying-Domain: iol.unh.edu
Date: Tue, 28 May 2024 06:19:02 -0700 (PDT)
Message-ID: <6655d9c6.4a0a0220.92de7.13d1SMTPIN_ADDED_MISSING@mx.google.com>
Received: from [172.21.0.7] (unknown [172.18.0.240])
 by postal.iol.unh.edu (Postfix) with ESMTP id E2FB2605C373;
 Tue, 28 May 2024 09:19:01 -0400 (EDT)
Subject: |SUCCESS| pw140345-140355 [PATCH] [v2,10/10] net/cnxk: define CPT HW
From: dpdklab@iol.unh.edu
To: Test Report <test-report@dpdk.org>
Cc: dpdk-test-reports@iol.unh.edu
In-Reply-To: <20240528070522.3857626-10-ndabilpuram@marvell.com>
References: <20240528070522.3857626-10-ndabilpuram@marvell.com>
Content-Type: text/plain
X-BeenThere: test-report@dpdk.org
X-Mailman-Version: 2.1.29
Precedence: list
List-Id: automatic DPDK test reports <test-report.dpdk.org>
List-Unsubscribe: <https://mails.dpdk.org/options/test-report>,
 <mailto:test-report-request@dpdk.org?subject=unsubscribe>
List-Archive: <http://mails.dpdk.org/archives/test-report/>
List-Post: <mailto:test-report@dpdk.org>
List-Help: <mailto:test-report-request@dpdk.org?subject=help>
List-Subscribe: <https://mails.dpdk.org/listinfo/test-report>,
 <mailto:test-report-request@dpdk.org?subject=subscribe>
Errors-To: test-report-bounces@dpdk.org

Test-Label: iol-compile-amd64-testing
Test-Status: SUCCESS
http://dpdk.org/patch/140355

_Testing PASS_

Submitter: Nithin Dabilpuram <ndabilpuram@marvell.com>
Date: Tuesday, May 28 2024 07:05:22 
DPDK git baseline: Repo:dpdk
  Branch: master
  CommitID:77e63757d2a0106a0cc519f5a82e2d749d16475a

140345-140355 --> testing pass

Test environment and result as below:

+---------------------+--------------------+----------------------+-------------------+------------------+
|     Environment     | dpdk_meson_compile | dpdk_mingw64_compile | dpdk_msvc_compile | dpdk_compile_ovs |
+=====================+====================+======================+===================+==================+
| FreeBSD 13.3        | PASS               | SKIPPED              | SKIPPED           | SKIPPED          |
+---------------------+--------------------+----------------------+-------------------+------------------+
| Windows Server 2022 | PASS               | PASS                 | PASS              | SKIPPED          |
+---------------------+--------------------+----------------------+-------------------+------------------+
| Windows Server 2019 | PASS               | PASS                 | SKIPPED           | SKIPPED          |
+---------------------+--------------------+----------------------+-------------------+------------------+
| FreeBSD 14.0        | PASS               | SKIPPED              | SKIPPED           | SKIPPED          |
+---------------------+--------------------+----------------------+-------------------+------------------+
| CentOS Stream 9     | PASS               | SKIPPED              | SKIPPED           | PASS             |
+---------------------+--------------------+----------------------+-------------------+------------------+
| Debian 12           | PASS               | SKIPPED              | SKIPPED           | PASS             |
+---------------------+--------------------+----------------------+-------------------+------------------+
| CentOS Stream 8     | PASS               | SKIPPED              | SKIPPED           | PASS             |
+---------------------+--------------------+----------------------+-------------------+------------------+
| Debian Bullseye     | PASS               | SKIPPED              | SKIPPED           | PASS             |
+---------------------+--------------------+----------------------+-------------------+------------------+
| Fedora 38           | PASS               | SKIPPED              | SKIPPED           | PASS             |
+---------------------+--------------------+----------------------+-------------------+------------------+
| Ubuntu 22.04        | PASS               | SKIPPED              | SKIPPED           | PASS             |
+---------------------+--------------------+----------------------+-------------------+------------------+
| Fedora 39           | PASS               | SKIPPED              | SKIPPED           | PASS             |
+---------------------+--------------------+----------------------+-------------------+------------------+
| RHEL8               | PASS               | SKIPPED              | SKIPPED           | PASS             |
+---------------------+--------------------+----------------------+-------------------+------------------+
| openSUSE Leap 15    | PASS               | SKIPPED              | SKIPPED           | PASS             |
+---------------------+--------------------+----------------------+-------------------+------------------+
| Fedora 37           | PASS               | SKIPPED              | SKIPPED           | PASS             |
+---------------------+--------------------+----------------------+-------------------+------------------+
| Ubuntu 20.04        | PASS               | SKIPPED              | SKIPPED           | PASS             |
+---------------------+--------------------+----------------------+-------------------+------------------+
| Alpine              | PASS               | SKIPPED              | SKIPPED           | SKIPPED          |
+---------------------+--------------------+----------------------+-------------------+------------------+


FreeBSD 13.3
	Kernel: 13.3-RELEASE-p1
	Compiler: clang 17.0.6

Windows Server 2022
	Kernel: 10.0.20348.2031
	Compiler: clang 15.0.7, gcc 8.1.0 (MinGW), and MSVC VS 17.9

Windows Server 2019
	Kernel: 10.0.17763
	Compiler: clang 14.0 and gcc 8.1.0 (MinGW)

FreeBSD 14.0
	Kernel: 14.0
	Compiler: clang 16.0.6

CentOS Stream 9
	Kernel: 5.4.0-167-generic
	Compiler: gcc 11.4.1 20230605

Debian 12
	Kernel: Container Host Kernel
	Compiler: gcc 10.2.1

CentOS Stream 8
	Kernel: 5.4.0-167-generic
	Compiler: gcc 8.5.0 20210514

Debian Bullseye
	Kernel: 5.4.0-167-generic
	Compiler: gcc 10.2.1-6

Fedora 38
	Kernel: Depends on container host
	Compiler: gcc 13.2.1

Ubuntu 22.04
	Kernel: 5.4.0-167-generic
	Compiler: gcc 11.4.0

Fedora 39
	Kernel: Depends on container host
	Compiler: clang 17.0.6

RHEL8
	Kernel: 5.4.0-167-generic
	Compiler: gcc 8.5.0 20210514 (Red Hat 8.5.0-20)

openSUSE Leap 15
	Kernel: 5.4.0-167-generic
	Compiler: gcc 7.5.0

Fedora 37
	Kernel: Depends on container host system
	Compiler: gcc 12.3.1

Ubuntu 20.04
	Kernel: 5.4.0-167-generic
	Compiler: gcc 9.4.0-1ubuntu1~20.04.1

Alpine
	Kernel: 5.4.0-167-generic
	Compiler: gcc (Alpine 13.2.1_git20231014) 13.2.1 20231014

To view detailed results, visit:
https://lab.dpdk.org/results/dashboard/patchsets/30029/

UNH-IOL DPDK Community Lab

To manage your email subscriptions, visit: 
https://lab.dpdk.org/results/dashboard/preferences/subscriptions/