From mboxrd@z Thu Jan  1 00:00:00 1970
Return-Path: <test-report-bounces@dpdk.org>
Received: from mails.dpdk.org (mails.dpdk.org [217.70.189.124])
	by inbox.dpdk.org (Postfix) with ESMTP id B38B3440E3
	for <public@inbox.dpdk.org>; Tue, 28 May 2024 16:41:14 +0200 (CEST)
Received: from mails.dpdk.org (localhost [127.0.0.1])
	by mails.dpdk.org (Postfix) with ESMTP id 4AE70406B8;
	Tue, 28 May 2024 16:41:14 +0200 (CEST)
Received: from mail-pf1-f225.google.com (mail-pf1-f225.google.com
 [209.85.210.225])
 by mails.dpdk.org (Postfix) with ESMTP id 7AFA9402E4
 for <test-report@dpdk.org>; Tue, 28 May 2024 16:40:46 +0200 (CEST)
Received: by mail-pf1-f225.google.com with SMTP id
 d2e1a72fcca58-6f8e98784b3so653607b3a.1
 for <test-report@dpdk.org>; Tue, 28 May 2024 07:40:46 -0700 (PDT)
DKIM-Signature: v=1; a=rsa-sha256; c=relaxed/relaxed;
 d=iol.unh.edu; s=unh-iol; t=1716907245; x=1717512045; darn=dpdk.org;
 h=references:in-reply-to:cc:to:from:subject:message-id:date:from:to
 :cc:subject:date:message-id:reply-to;
 bh=UKOVw8b+NI0/18mLDZn6dE2rklaNzJ0h6vtahnjt7vE=;
 b=gEARv6cdyqZJWOZM7OJlKHYYnKOTKAC+0CVl/JhS2dF+Xcrj7zezkFDgbvKbp+7uhU
 aVtK1ID41G/3CGml89osdJzjCzW21iiMGuBqEWL/QaH77/c+ON+JgCsRcQs9BIOk/0Im
 uP/lXxpXqpm8TH1q+tbWPQJSgRUHloVsymwtQ=
X-Google-DKIM-Signature: v=1; a=rsa-sha256; c=relaxed/relaxed;
 d=1e100.net; s=20230601; t=1716907245; x=1717512045;
 h=references:in-reply-to:cc:to:from:subject:message-id:date
 :x-gm-message-state:from:to:cc:subject:date:message-id:reply-to;
 bh=UKOVw8b+NI0/18mLDZn6dE2rklaNzJ0h6vtahnjt7vE=;
 b=ULQFSNvWToeLXNIgBWMBKjHKRGddQpI/Qkmpd+GV0KEKSItl6tzQ7qkXNMpQr93W9Z
 Db31nx8ymcL37/jdEmpADiesylZ/+xFAlPMncvROt7BTKwDrd7PjXRQzLxgY4kpLbWx4
 yABx7Yi9zCsS4SXACY4Wt2U7yCpGZiY7n/sPRn/tvy7HH8UZAX4zHtewrnOy1P5baHUe
 tCMCI/s8a/PzEem/H+/46hPwFXqCuyx+lucw9YQsAu54fBk6f00R+8MxXs1Kq2Uo32xs
 1O7z6nXGZVUehLiARhFC4yu1fa1tZXy3GyQCImBapHq44YGu4h9kMnMETFUdC+s1z8/a
 8Gug==
X-Gm-Message-State: AOJu0YwBjmam4jHgIQa1D6ZvqUnENWRzMexc6cZgQCM1duTjRlwHkMB8
 MeNZyqdcZM18+pPOyG5z6u6fRYtLGvMi7trm8gg2MnMi10GVKj4uYlq5zf7GXSTzPM4To1C+thF
 jiHjxrg0b1Lq2zOchgDi+Sffn0KFg1o0Vmw4sOJO0ln+xEAauIdywQKhX
X-Google-Smtp-Source: AGHT+IE0xq9/RXyLD8xH5+07jhLnHphnNK/oclHGAqp2j/gFIxN8HjSKkA0z8K5qF+TbT/6UtvQt0lJ4ZEQn
X-Received: by 2002:a05:6a21:7881:b0:1af:d19b:a76 with SMTP id
 adf61e73a8af0-1b212d5a083mr14404937637.12.1716907245720; 
 Tue, 28 May 2024 07:40:45 -0700 (PDT)
Received: from postal.iol.unh.edu (postal.iol.unh.edu.
 [2606:4100:3880:1234::84]) by smtp-relay.gmail.com with ESMTPS id
 d2e1a72fcca58-6f8fcded0e8sm973718b3a.21.2024.05.28.07.40.45
 (version=TLS1_2 cipher=ECDHE-ECDSA-AES128-GCM-SHA256 bits=128/128);
 Tue, 28 May 2024 07:40:45 -0700 (PDT)
X-Relaying-Domain: iol.unh.edu
Date: Tue, 28 May 2024 07:40:45 -0700 (PDT)
Message-ID: <6655eced.050a0220.93cc7.9f67SMTPIN_ADDED_MISSING@mx.google.com>
Received: from [172.21.0.6] (unknown [172.18.0.240])
 by postal.iol.unh.edu (Postfix) with ESMTP id DE9A3605C374;
 Tue, 28 May 2024 10:40:44 -0400 (EDT)
Subject: |SUCCESS| pw140345-140355 [PATCH] [v2,10/10] net/cnxk: define CPT HW
From: dpdklab@iol.unh.edu
To: Test Report <test-report@dpdk.org>
Cc: dpdk-test-reports@iol.unh.edu
In-Reply-To: <20240528070522.3857626-10-ndabilpuram@marvell.com>
References: <20240528070522.3857626-10-ndabilpuram@marvell.com>
Content-Type: text/plain
X-BeenThere: test-report@dpdk.org
X-Mailman-Version: 2.1.29
Precedence: list
List-Id: automatic DPDK test reports <test-report.dpdk.org>
List-Unsubscribe: <https://mails.dpdk.org/options/test-report>,
 <mailto:test-report-request@dpdk.org?subject=unsubscribe>
List-Archive: <http://mails.dpdk.org/archives/test-report/>
List-Post: <mailto:test-report@dpdk.org>
List-Help: <mailto:test-report-request@dpdk.org?subject=help>
List-Subscribe: <https://mails.dpdk.org/listinfo/test-report>,
 <mailto:test-report-request@dpdk.org?subject=subscribe>
Errors-To: test-report-bounces@dpdk.org

Test-Label: iol-unit-amd64-testing
Test-Status: SUCCESS
http://dpdk.org/patch/140355

_Testing PASS_

Submitter: Nithin Dabilpuram <ndabilpuram@marvell.com>
Date: Tuesday, May 28 2024 07:05:22 
DPDK git baseline: Repo:dpdk
  Branch: master
  CommitID:77e63757d2a0106a0cc519f5a82e2d749d16475a

140345-140355 --> testing pass

Test environment and result as below:

+---------------------+----------------+
|     Environment     | dpdk_unit_test |
+=====================+================+
| Debian Bullseye     | PASS           |
+---------------------+----------------+
| CentOS Stream 8     | PASS           |
+---------------------+----------------+
| Debian 12           | PASS           |
+---------------------+----------------+
| Fedora 38           | PASS           |
+---------------------+----------------+
| Fedora 37           | PASS           |
+---------------------+----------------+
| Fedora 39           | PASS           |
+---------------------+----------------+
| openSUSE Leap 15    | PASS           |
+---------------------+----------------+
| Ubuntu 22.04        | PASS           |
+---------------------+----------------+
| Ubuntu 20.04        | PASS           |
+---------------------+----------------+
| RHEL8               | PASS           |
+---------------------+----------------+
| CentOS Stream 9     | PASS           |
+---------------------+----------------+
| Windows Server 2019 | PASS           |
+---------------------+----------------+


Debian Bullseye
	Kernel: 5.4.0-167-generic
	Compiler: gcc 10.2.1-6

CentOS Stream 8
	Kernel: 5.4.0-167-generic
	Compiler: gcc 8.5.0 20210514

Debian 12
	Kernel: Container Host Kernel
	Compiler: gcc 10.2.1

Fedora 38
	Kernel: Depends on container host
	Compiler: gcc 13.2.1

Fedora 37
	Kernel: Depends on container host system
	Compiler: gcc 12.3.1

Fedora 39
	Kernel: Depends on container host
	Compiler: gcc 13.2.1

openSUSE Leap 15
	Kernel: 5.4.0-167-generic
	Compiler: gcc 7.5.0

Ubuntu 22.04
	Kernel: 5.4.0-167-generic
	Compiler: gcc 11.4.0

Ubuntu 20.04
	Kernel: 5.4.0-167-generic
	Compiler: gcc 9.4.0-1ubuntu1~20.04.1

RHEL8
	Kernel: 5.4.0-167-generic
	Compiler: gcc 8.5.0 20210514 (Red Hat 8.5.0-20)

CentOS Stream 9
	Kernel: 5.4.0-167-generic
	Compiler: gcc 11.4.1 20230605

Windows Server 2019
	Kernel: 10.0.17763
	Compiler: clang 14.0 and gcc 8.1.0 (MinGW)

To view detailed results, visit:
https://lab.dpdk.org/results/dashboard/patchsets/30029/

UNH-IOL DPDK Community Lab

To manage your email subscriptions, visit: 
https://lab.dpdk.org/results/dashboard/preferences/subscriptions/