From mboxrd@z Thu Jan  1 00:00:00 1970
Return-Path: <test-report-bounces@dpdk.org>
Received: from mails.dpdk.org (mails.dpdk.org [217.70.189.124])
	by inbox.dpdk.org (Postfix) with ESMTP id AA94244101
	for <public@inbox.dpdk.org>; Wed, 29 May 2024 13:45:26 +0200 (CEST)
Received: from mails.dpdk.org (localhost [127.0.0.1])
	by mails.dpdk.org (Postfix) with ESMTP id A47DE40649;
	Wed, 29 May 2024 13:45:26 +0200 (CEST)
Received: from mail-il1-f225.google.com (mail-il1-f225.google.com
 [209.85.166.225])
 by mails.dpdk.org (Postfix) with ESMTP id 9A1C6402CD
 for <test-report@dpdk.org>; Wed, 29 May 2024 13:45:25 +0200 (CEST)
Received: by mail-il1-f225.google.com with SMTP id
 e9e14a558f8ab-3737b268b06so8319915ab.0
 for <test-report@dpdk.org>; Wed, 29 May 2024 04:45:25 -0700 (PDT)
DKIM-Signature: v=1; a=rsa-sha256; c=relaxed/relaxed;
 d=iol.unh.edu; s=unh-iol; t=1716983125; x=1717587925; darn=dpdk.org;
 h=references:in-reply-to:cc:to:from:subject:message-id:date:from:to
 :cc:subject:date:message-id:reply-to;
 bh=ANZKihQViUNxp4m6ApfrLsLl5tTWULuSvudCqL6/6FU=;
 b=DeGbRI1u1F8CaJPLH73+Acwf6Pn2huE4QZLXNI6sbD+jK9ncBngwB1djsZAPKgdknb
 RVsa9YNskxTstt/j5OWHlPb3FFUnYXIO6x4i5Xh+s9C6XmfQwv5GnsEyp+6jcQ0sL8Og
 Bv+ziVvQVypZNI4cudKsgib/9ucJmrnJ0myvM=
X-Google-DKIM-Signature: v=1; a=rsa-sha256; c=relaxed/relaxed;
 d=1e100.net; s=20230601; t=1716983125; x=1717587925;
 h=references:in-reply-to:cc:to:from:subject:message-id:date
 :x-gm-message-state:from:to:cc:subject:date:message-id:reply-to;
 bh=ANZKihQViUNxp4m6ApfrLsLl5tTWULuSvudCqL6/6FU=;
 b=xN/GhXok1XsJ11XSbHurAs3zgnQuhK+aAz+RZLlBPJJVu940Sms0U3BiwBQ8SmZL9Q
 EQTLHEWOrNOe4ILYjQVBrkmH5HvwRABhQC8tiG6MkhhYZPFu7LEQZw3dRxi8ByY9YHw/
 vLl1ZMi//1//K9Z7Lmjf4LDpu7NiUGuq/utlQ9hYua0P2WMdF/SlIzVMIgOnBaNGfWJI
 ehRYv0QEIAQ2OgF21gjWTKcCqY5ActxKosGgNcWxKipB512zZCkdyZBrmd0PsbgW0nL0
 jXAakrB2eSaW7DxKvSIu8EdFmjz2/Q+19qfycH1phhKmaeHJnd5ZfLE4abMizS5xrWlr
 McMw==
X-Gm-Message-State: AOJu0YwPEtUtbtE+hC0gY+4ucSyVVFFQ9GIpb0QiRc7xPQ22BnDIK0Zx
 V3VeSKvSxaq+iopxDEJHAye/lGW4iZ6fxYoTetVPTStaszw6DCvxzQHCjOCANsnkd6/t8pITaLV
 FkJ18K2iCHi7sgZZbV1CDnXKqwJ7j2FpUZWe8XpUN
X-Google-Smtp-Source: AGHT+IGl8N9faqmrTNsUAUmPhPpIii1g+Xdcso8TX8zreO8H1oj1PsyWPNuoC23pRZDiv4Ny+rvzQwFkTHB5
X-Received: by 2002:a05:6e02:1d81:b0:36c:c566:31e with SMTP id
 e9e14a558f8ab-3737b32a196mr165373375ab.20.1716983125058; 
 Wed, 29 May 2024 04:45:25 -0700 (PDT)
Received: from postal.iol.unh.edu (postal.iol.unh.edu. [132.177.123.84])
 by smtp-relay.gmail.com with ESMTPS id
 e9e14a558f8ab-3737c34f372sm11539525ab.58.2024.05.29.04.45.24
 (version=TLS1_2 cipher=ECDHE-ECDSA-AES128-GCM-SHA256 bits=128/128);
 Wed, 29 May 2024 04:45:25 -0700 (PDT)
X-Relaying-Domain: iol.unh.edu
Date: Wed, 29 May 2024 04:45:25 -0700 (PDT)
Message-ID: <66571555.050a0220.fe295.f832SMTPIN_ADDED_MISSING@mx.google.com>
Received: from [172.17.0.2] (unknown [172.18.0.217])
 by postal.iol.unh.edu (Postfix) with ESMTP id A2AD7605C373;
 Wed, 29 May 2024 07:45:24 -0400 (EDT)
Subject: |SUCCESS| pw140385-140389 [PATCH] [v12,6/6] test: add unit test for 
From: dpdklab@iol.unh.edu
To: Test Report <test-report@dpdk.org>
Cc: dpdk-test-reports@iol.unh.edu
In-Reply-To: <20240529102242.1137076-7-paul.szczepanek@arm.com>
References: <20240529102242.1137076-7-paul.szczepanek@arm.com>
Content-Type: text/plain
X-BeenThere: test-report@dpdk.org
X-Mailman-Version: 2.1.29
Precedence: list
List-Id: automatic DPDK test reports <test-report.dpdk.org>
List-Unsubscribe: <https://mails.dpdk.org/options/test-report>,
 <mailto:test-report-request@dpdk.org?subject=unsubscribe>
List-Archive: <http://mails.dpdk.org/archives/test-report/>
List-Post: <mailto:test-report@dpdk.org>
List-Help: <mailto:test-report-request@dpdk.org?subject=help>
List-Subscribe: <https://mails.dpdk.org/listinfo/test-report>,
 <mailto:test-report-request@dpdk.org?subject=subscribe>
Errors-To: test-report-bounces@dpdk.org

Test-Label: iol-compile-amd64-testing
Test-Status: SUCCESS
http://dpdk.org/patch/140389

_Testing PASS_

Submitter: Paul Szczepanek <paul.szczepanek@arm.com>
Date: Wednesday, May 29 2024 10:22:42 
DPDK git baseline: Repo:dpdk
  Branch: master
  CommitID:0ad961387e94a9ccfc1484a1d742d6f79eda9cd9

140385-140389 --> testing pass

Test environment and result as below:

+---------------------+--------------------+----------------------+-------------------+------------------+
|     Environment     | dpdk_meson_compile | dpdk_mingw64_compile | dpdk_msvc_compile | dpdk_compile_ovs |
+=====================+====================+======================+===================+==================+
| FreeBSD 13.3        | PASS               | SKIPPED              | SKIPPED           | SKIPPED          |
+---------------------+--------------------+----------------------+-------------------+------------------+
| Windows Server 2019 | PASS               | PASS                 | SKIPPED           | SKIPPED          |
+---------------------+--------------------+----------------------+-------------------+------------------+
| Windows Server 2022 | PASS               | PASS                 | PASS              | SKIPPED          |
+---------------------+--------------------+----------------------+-------------------+------------------+
| FreeBSD 14.0        | PASS               | SKIPPED              | SKIPPED           | SKIPPED          |
+---------------------+--------------------+----------------------+-------------------+------------------+
| CentOS Stream 9     | PASS               | SKIPPED              | SKIPPED           | PASS             |
+---------------------+--------------------+----------------------+-------------------+------------------+
| Fedora 39           | PASS               | SKIPPED              | SKIPPED           | PASS             |
+---------------------+--------------------+----------------------+-------------------+------------------+
| Debian Bullseye     | PASS               | SKIPPED              | SKIPPED           | PASS             |
+---------------------+--------------------+----------------------+-------------------+------------------+
| CentOS Stream 8     | PASS               | SKIPPED              | SKIPPED           | PASS             |
+---------------------+--------------------+----------------------+-------------------+------------------+
| openSUSE Leap 15    | PASS               | SKIPPED              | SKIPPED           | PASS             |
+---------------------+--------------------+----------------------+-------------------+------------------+
| Ubuntu 20.04        | PASS               | SKIPPED              | SKIPPED           | PASS             |
+---------------------+--------------------+----------------------+-------------------+------------------+
| Fedora 37           | PASS               | SKIPPED              | SKIPPED           | PASS             |
+---------------------+--------------------+----------------------+-------------------+------------------+
| RHEL8               | PASS               | SKIPPED              | SKIPPED           | PASS             |
+---------------------+--------------------+----------------------+-------------------+------------------+


FreeBSD 13.3
	Kernel: 13.3-RELEASE-p1
	Compiler: clang 17.0.6

Windows Server 2019
	Kernel: 10.0.17763
	Compiler: clang 14.0 and gcc 8.1.0 (MinGW)

Windows Server 2022
	Kernel: 10.0.20348.2031
	Compiler: clang 15.0.7, gcc 8.1.0 (MinGW), and MSVC VS 17.9

FreeBSD 14.0
	Kernel: 14.0
	Compiler: clang 16.0.6

CentOS Stream 9
	Kernel: 5.4.0-167-generic
	Compiler: gcc 11.4.1 20230605

Fedora 39
	Kernel: Depends on container host
	Compiler: gcc 13.2.1

Debian Bullseye
	Kernel: 5.4.0-167-generic
	Compiler: gcc 10.2.1-6

CentOS Stream 8
	Kernel: 5.4.0-167-generic
	Compiler: gcc 8.5.0 20210514

openSUSE Leap 15
	Kernel: 5.4.0-167-generic
	Compiler: gcc 7.5.0

Ubuntu 20.04
	Kernel: 5.4.0-167-generic
	Compiler: gcc 9.4.0-1ubuntu1~20.04.1

Fedora 37
	Kernel: Depends on container host system
	Compiler: gcc 12.3.1

RHEL8
	Kernel: 5.4.0-167-generic
	Compiler: gcc 8.5.0 20210514 (Red Hat 8.5.0-20)

To view detailed results, visit:
https://lab.dpdk.org/results/dashboard/patchsets/30036/

UNH-IOL DPDK Community Lab

To manage your email subscriptions, visit: 
https://lab.dpdk.org/results/dashboard/preferences/subscriptions/