From mboxrd@z Thu Jan  1 00:00:00 1970
Return-Path: <test-report-bounces@dpdk.org>
Received: from mails.dpdk.org (mails.dpdk.org [217.70.189.124])
	by inbox.dpdk.org (Postfix) with ESMTP id 844BE44101
	for <public@inbox.dpdk.org>; Wed, 29 May 2024 13:56:50 +0200 (CEST)
Received: from mails.dpdk.org (localhost [127.0.0.1])
	by mails.dpdk.org (Postfix) with ESMTP id 80E5040649;
	Wed, 29 May 2024 13:56:50 +0200 (CEST)
Received: from mail-yw1-f227.google.com (mail-yw1-f227.google.com
 [209.85.128.227])
 by mails.dpdk.org (Postfix) with ESMTP id 3138D402CD
 for <test-report@dpdk.org>; Wed, 29 May 2024 13:56:48 +0200 (CEST)
Received: by mail-yw1-f227.google.com with SMTP id
 00721157ae682-62a08099115so19926697b3.0
 for <test-report@dpdk.org>; Wed, 29 May 2024 04:56:48 -0700 (PDT)
DKIM-Signature: v=1; a=rsa-sha256; c=relaxed/relaxed;
 d=iol.unh.edu; s=unh-iol; t=1716983807; x=1717588607; darn=dpdk.org;
 h=references:in-reply-to:cc:to:from:subject:message-id:date:from:to
 :cc:subject:date:message-id:reply-to;
 bh=FtNu+UeYxifjxeSQwNnRuFlyhkVS0Vm/RITrjPcN/Io=;
 b=d7xaU8cDpwBEKUxHQWymsvnGcEqBXvF/a6ZNxSxnSUPa2aSOlOfm1hHKgcAqDpTzq3
 fouV6YC0lNt8uxbpHN3q2YqFUib+e4pyDi5QNqK5i1x4SS/sNV/+8+yCCTT9t7FiIrxL
 mOvP1ESMXC25wMNL46GHQpHoLP8UQfubsv5Z8=
X-Google-DKIM-Signature: v=1; a=rsa-sha256; c=relaxed/relaxed;
 d=1e100.net; s=20230601; t=1716983807; x=1717588607;
 h=references:in-reply-to:cc:to:from:subject:message-id:date
 :x-gm-message-state:from:to:cc:subject:date:message-id:reply-to;
 bh=FtNu+UeYxifjxeSQwNnRuFlyhkVS0Vm/RITrjPcN/Io=;
 b=UL4bxztcPgepCYt4jPexa+8Ij3rvF8H9YJHtW9s+ENKZlAwtjnGvyFlEg4fNHc+MSH
 WC920f0WA6b+OoT6k88J8nVK7miZid4XQRbKeeotBWgODDZqqoW2vyq3MoFb8TLIaYxZ
 gdgY7DTN5s4Xt3wiokDF5KIPeZegL1PDjOQdD8BAaSucsE79uRBdFn3Mq/VudrBFZHDj
 0lDjjEckI7ZYTNdOGQAJkvLNKVws/HbmWfa8H8ExovwjBTJ+2PG+dlso1LPh5n5ybbm8
 LSLas7J7M+ftyJMKatBWoBGE1SiKxVX0+6j5OOBmX0TU/rojt3beyUkDTu42ZTbEwFxA
 FaVA==
X-Gm-Message-State: AOJu0Yz0ZGKnmzQ8HawXUkZQIp73nZi4yGrt2u7CbIzxjv15gYcTzIN2
 YmURm2vN8gltHkaQd5Z1APvXScx5uFCo+/FOeTa0Y4sQxt3+eHvfgLF54xaEMQ8ejWB1sOGZljS
 1yMEMYKt1O0/NxUHzAtonmmoM0+2eRnBF/XdzG4sD
X-Google-Smtp-Source: AGHT+IEieSLzbN73PstBf78w/rPFBaMq+4KrjbBRMl0vVDCUJGoWdxgcUnhnb/pe8LUYHjMmsrhQZrveTwO9
X-Received: by 2002:a0d:df4a:0:b0:618:8b6c:6c1b with SMTP id
 00721157ae682-62a12ec169dmr135689827b3.4.1716983807136; 
 Wed, 29 May 2024 04:56:47 -0700 (PDT)
Received: from postal.iol.unh.edu (postal.iol.unh.edu. [132.177.123.84])
 by smtp-relay.gmail.com with ESMTPS id
 00721157ae682-62a0a4db47esm9677407b3.50.2024.05.29.04.56.47
 (version=TLS1_2 cipher=ECDHE-ECDSA-AES128-GCM-SHA256 bits=128/128);
 Wed, 29 May 2024 04:56:47 -0700 (PDT)
X-Relaying-Domain: iol.unh.edu
Date: Wed, 29 May 2024 04:56:47 -0700 (PDT)
Message-ID: <665717ff.050a0220.ee751.bf81SMTPIN_ADDED_MISSING@mx.google.com>
Received: from [172.17.0.3] (unknown [172.18.0.217])
 by postal.iol.unh.edu (Postfix) with ESMTP id C22A9605C373;
 Wed, 29 May 2024 07:56:46 -0400 (EDT)
Subject: |SUCCESS| pw140385-140389 [PATCH] [v12,6/6] test: add unit test for 
From: dpdklab@iol.unh.edu
To: Test Report <test-report@dpdk.org>
Cc: dpdk-test-reports@iol.unh.edu
In-Reply-To: <20240529102242.1137076-7-paul.szczepanek@arm.com>
References: <20240529102242.1137076-7-paul.szczepanek@arm.com>
Content-Type: text/plain
X-BeenThere: test-report@dpdk.org
X-Mailman-Version: 2.1.29
Precedence: list
List-Id: automatic DPDK test reports <test-report.dpdk.org>
List-Unsubscribe: <https://mails.dpdk.org/options/test-report>,
 <mailto:test-report-request@dpdk.org?subject=unsubscribe>
List-Archive: <http://mails.dpdk.org/archives/test-report/>
List-Post: <mailto:test-report@dpdk.org>
List-Help: <mailto:test-report-request@dpdk.org?subject=help>
List-Subscribe: <https://mails.dpdk.org/listinfo/test-report>,
 <mailto:test-report-request@dpdk.org?subject=subscribe>
Errors-To: test-report-bounces@dpdk.org

Test-Label: iol-compile-amd64-testing
Test-Status: SUCCESS
http://dpdk.org/patch/140389

_Testing PASS_

Submitter: Paul Szczepanek <paul.szczepanek@arm.com>
Date: Wednesday, May 29 2024 10:22:42 
DPDK git baseline: Repo:dpdk
  Branch: master
  CommitID:0ad961387e94a9ccfc1484a1d742d6f79eda9cd9

140385-140389 --> testing pass

Test environment and result as below:

+---------------------+--------------------+----------------------+-------------------+------------------+
|     Environment     | dpdk_meson_compile | dpdk_mingw64_compile | dpdk_msvc_compile | dpdk_compile_ovs |
+=====================+====================+======================+===================+==================+
| FreeBSD 13.3        | PASS               | SKIPPED              | SKIPPED           | SKIPPED          |
+---------------------+--------------------+----------------------+-------------------+------------------+
| Windows Server 2019 | PASS               | PASS                 | SKIPPED           | SKIPPED          |
+---------------------+--------------------+----------------------+-------------------+------------------+
| Windows Server 2022 | PASS               | PASS                 | PASS              | SKIPPED          |
+---------------------+--------------------+----------------------+-------------------+------------------+
| FreeBSD 14.0        | PASS               | SKIPPED              | SKIPPED           | SKIPPED          |
+---------------------+--------------------+----------------------+-------------------+------------------+
| CentOS Stream 9     | PASS               | SKIPPED              | SKIPPED           | PASS             |
+---------------------+--------------------+----------------------+-------------------+------------------+
| Fedora 39           | PASS               | SKIPPED              | SKIPPED           | PASS             |
+---------------------+--------------------+----------------------+-------------------+------------------+
| Debian Bullseye     | PASS               | SKIPPED              | SKIPPED           | PASS             |
+---------------------+--------------------+----------------------+-------------------+------------------+
| CentOS Stream 8     | PASS               | SKIPPED              | SKIPPED           | PASS             |
+---------------------+--------------------+----------------------+-------------------+------------------+
| openSUSE Leap 15    | PASS               | SKIPPED              | SKIPPED           | PASS             |
+---------------------+--------------------+----------------------+-------------------+------------------+
| Ubuntu 20.04        | PASS               | SKIPPED              | SKIPPED           | PASS             |
+---------------------+--------------------+----------------------+-------------------+------------------+
| Fedora 37           | PASS               | SKIPPED              | SKIPPED           | PASS             |
+---------------------+--------------------+----------------------+-------------------+------------------+
| RHEL8               | PASS               | SKIPPED              | SKIPPED           | PASS             |
+---------------------+--------------------+----------------------+-------------------+------------------+
| Fedora 38           | PASS               | SKIPPED              | SKIPPED           | PASS             |
+---------------------+--------------------+----------------------+-------------------+------------------+
| Alpine              | PASS               | SKIPPED              | SKIPPED           | SKIPPED          |
+---------------------+--------------------+----------------------+-------------------+------------------+
| Ubuntu 22.04        | PASS               | SKIPPED              | SKIPPED           | PASS             |
+---------------------+--------------------+----------------------+-------------------+------------------+
| Ubuntu 24.04        | PASS               | SKIPPED              | SKIPPED           | PASS             |
+---------------------+--------------------+----------------------+-------------------+------------------+
| Debian 12           | PASS               | SKIPPED              | SKIPPED           | PASS             |
+---------------------+--------------------+----------------------+-------------------+------------------+


FreeBSD 13.3
	Kernel: 13.3-RELEASE-p1
	Compiler: clang 17.0.6

Windows Server 2019
	Kernel: 10.0.17763
	Compiler: clang 14.0 and gcc 8.1.0 (MinGW)

Windows Server 2022
	Kernel: 10.0.20348.2031
	Compiler: clang 15.0.7, gcc 8.1.0 (MinGW), and MSVC VS 17.9

FreeBSD 14.0
	Kernel: 14.0
	Compiler: clang 16.0.6

CentOS Stream 9
	Kernel: 5.4.0-167-generic
	Compiler: gcc 11.4.1 20230605

Fedora 39
	Kernel: Depends on container host
	Compiler: gcc 13.2.1

Debian Bullseye
	Kernel: 5.4.0-167-generic
	Compiler: gcc 10.2.1-6

CentOS Stream 8
	Kernel: 5.4.0-167-generic
	Compiler: gcc 8.5.0 20210514

openSUSE Leap 15
	Kernel: 5.4.0-167-generic
	Compiler: gcc 7.5.0

Ubuntu 20.04
	Kernel: 5.4.0-167-generic
	Compiler: gcc 9.4.0-1ubuntu1~20.04.1

Fedora 37
	Kernel: Depends on container host system
	Compiler: gcc 12.3.1

RHEL8
	Kernel: 5.4.0-167-generic
	Compiler: gcc 8.5.0 20210514 (Red Hat 8.5.0-20)

Fedora 38
	Kernel: Depends on container host
	Compiler: clang 16.0.6

Alpine
	Kernel: 5.4.0-167-generic
	Compiler: gcc (Alpine 13.2.1_git20231014) 13.2.1 20231014

Ubuntu 22.04
	Kernel: 5.4.0-167-generic
	Compiler: gcc 11.4.0

Ubuntu 24.04
	Kernel: 5.4.0-167-generic
	Compiler: gcc 13.2.0

Debian 12
	Kernel: Container Host Kernel
	Compiler: gcc 10.2.1

To view detailed results, visit:
https://lab.dpdk.org/results/dashboard/patchsets/30036/

UNH-IOL DPDK Community Lab

To manage your email subscriptions, visit: 
https://lab.dpdk.org/results/dashboard/preferences/subscriptions/