From mboxrd@z Thu Jan  1 00:00:00 1970
Return-Path: <test-report-bounces@dpdk.org>
Received: from mails.dpdk.org (mails.dpdk.org [217.70.189.124])
	by inbox.dpdk.org (Postfix) with ESMTP id E276944104
	for <public@inbox.dpdk.org>; Wed, 29 May 2024 18:15:38 +0200 (CEST)
Received: from mails.dpdk.org (localhost [127.0.0.1])
	by mails.dpdk.org (Postfix) with ESMTP id DED7940273;
	Wed, 29 May 2024 18:15:38 +0200 (CEST)
Received: from mail-yw1-f227.google.com (mail-yw1-f227.google.com
 [209.85.128.227])
 by mails.dpdk.org (Postfix) with ESMTP id 45B384026F
 for <test-report@dpdk.org>; Wed, 29 May 2024 18:15:37 +0200 (CEST)
Received: by mail-yw1-f227.google.com with SMTP id
 00721157ae682-627eb38eb1bso19297087b3.1
 for <test-report@dpdk.org>; Wed, 29 May 2024 09:15:37 -0700 (PDT)
DKIM-Signature: v=1; a=rsa-sha256; c=relaxed/relaxed;
 d=iol.unh.edu; s=unh-iol; t=1716999336; x=1717604136; darn=dpdk.org;
 h=references:in-reply-to:cc:to:from:subject:message-id:date:from:to
 :cc:subject:date:message-id:reply-to;
 bh=ajbyvJ4q8Lq/eR8LJREEO7NwyFgdJwIetExadSZgWPE=;
 b=e6MZmoDeOSMeQI2WMld+fFYRD0BH0qwE2JlA53Yju9HeKk//6YDjYNfWMhWdg4Kos7
 ECLJACMzu7ygY/5wTp+Ie1aHQWwEnoZVH7q5oLpT1rGaLemssJNXGqzuY8iuz8UIJciO
 0L/6Hq2DlnSU3CC6KpE25ku2K1YbiRe3pHlKc=
X-Google-DKIM-Signature: v=1; a=rsa-sha256; c=relaxed/relaxed;
 d=1e100.net; s=20230601; t=1716999336; x=1717604136;
 h=references:in-reply-to:cc:to:from:subject:message-id:date
 :x-gm-message-state:from:to:cc:subject:date:message-id:reply-to;
 bh=ajbyvJ4q8Lq/eR8LJREEO7NwyFgdJwIetExadSZgWPE=;
 b=OYsQxCvZwh/bM8I5k+qEQzYQvEN80De/NzzYgzTiMtFVnRWS8wNKN6cYyd+a5gA1Wq
 aToqS7VsIU0kEIb7LptLbMqnKbb26wBzFxO1938IZPgysO/e1y5sPhExj7+sRmYh+nXq
 XI0WZUEO3HXuhrEOsmWqdRTZfdeXZF/WqwtaolDTxBLLkaHcL4dvsN8MuAoBHHiBDyzs
 aD7nQ69qEyI73Pm7uFCUbxnoptx7g8i2jFsPZHaWacMro8D2JG2p7DfYTUZax8/eAQI9
 /bnrUbdzLQI12ZiUznVlmnnM9gfp8O5t/f+WyuexefZk9SwRYy664mXLpDB4Ss3ZwU3Q
 5C6g==
X-Gm-Message-State: AOJu0YyZNt/U1KmOW1YA4x4DWikvmKcGUDM//d1nMny7DzEpQVS4cZWG
 pEGMTyjAGBR+w/jDZSYio+PDNnO2XweabVOlNyRCp7XETr+7cn2ePqoyDvA1GThyRyllYzb8jl7
 SSQ+5KQqMIAmg4cZ+fZhhr+BdqB7b+dj72q1Xc6Ej
X-Google-Smtp-Source: AGHT+IFdbhUphOmodK+z8AvLLh+2xcbuo1uULQTKQXC5swfwVbgqPmKmlYuuZ+iTVvHFucNVKjnguveApzKF
X-Received: by 2002:a81:528c:0:b0:61a:e48c:38b7 with SMTP id
 00721157ae682-62a08ed941amr149951597b3.41.1716999336605; 
 Wed, 29 May 2024 09:15:36 -0700 (PDT)
Received: from postal.iol.unh.edu (postal.iol.unh.edu. [132.177.123.84])
 by smtp-relay.gmail.com with ESMTPS id
 00721157ae682-62a0a4db8f2sm9790007b3.54.2024.05.29.09.15.36
 (version=TLS1_2 cipher=ECDHE-ECDSA-AES128-GCM-SHA256 bits=128/128);
 Wed, 29 May 2024 09:15:36 -0700 (PDT)
X-Relaying-Domain: iol.unh.edu
Date: Wed, 29 May 2024 09:15:36 -0700 (PDT)
Message-ID: <665754a8.050a0220.3d9ab.d38eSMTPIN_ADDED_MISSING@mx.google.com>
Received: from [172.17.0.4] (unknown [172.18.0.217])
 by postal.iol.unh.edu (Postfix) with ESMTP id 508CE605C373;
 Wed, 29 May 2024 12:15:35 -0400 (EDT)
Subject: |SUCCESS| pw140392-140393 [PATCH] [v2,2/2] crypto: validate crypto c
From: dpdklab@iol.unh.edu
To: Test Report <test-report@dpdk.org>
Cc: dpdk-test-reports@iol.unh.edu
In-Reply-To: <20240529144025.4089318-2-ganapati.kundapura@intel.com>
References: <20240529144025.4089318-2-ganapati.kundapura@intel.com>
Content-Type: text/plain
X-BeenThere: test-report@dpdk.org
X-Mailman-Version: 2.1.29
Precedence: list
List-Id: automatic DPDK test reports <test-report.dpdk.org>
List-Unsubscribe: <https://mails.dpdk.org/options/test-report>,
 <mailto:test-report-request@dpdk.org?subject=unsubscribe>
List-Archive: <http://mails.dpdk.org/archives/test-report/>
List-Post: <mailto:test-report@dpdk.org>
List-Help: <mailto:test-report-request@dpdk.org?subject=help>
List-Subscribe: <https://mails.dpdk.org/listinfo/test-report>,
 <mailto:test-report-request@dpdk.org?subject=subscribe>
Errors-To: test-report-bounces@dpdk.org

Test-Label: iol-abi-testing
Test-Status: SUCCESS
http://dpdk.org/patch/140393

_Testing PASS_

Submitter: Ganapati Kundapura <ganapati.kundapura@intel.com>
Date: Wednesday, May 29 2024 14:40:25 
DPDK git baseline: Repo:dpdk
  Branch: master
  CommitID:0ad961387e94a9ccfc1484a1d742d6f79eda9cd9

140392-140393 --> testing pass

Test environment and result as below:

+------------------+----------+
|   Environment    | abi_test |
+==================+==========+
| Fedora 38        | PASS     |
+------------------+----------+
| Fedora 39        | PASS     |
+------------------+----------+
| Debian Bullseye  | PASS     |
+------------------+----------+
| openSUSE Leap 15 | PASS     |
+------------------+----------+
| Fedora 37        | PASS     |
+------------------+----------+
| CentOS Stream 9  | PASS     |
+------------------+----------+
| RHEL8            | PASS     |
+------------------+----------+
| Ubuntu 22.04     | PASS     |
+------------------+----------+
| CentOS Stream 8  | PASS     |
+------------------+----------+
| Ubuntu 24.04     | PASS     |
+------------------+----------+
| Debian 12        | PASS     |
+------------------+----------+


Fedora 38
	Kernel: Depends on container host
	Compiler: clang 16.0.6

Fedora 39
	Kernel: Depends on container host
	Compiler: clang 17.0.6

Debian Bullseye
	Kernel: 5.4.0-167-generic
	Compiler: gcc 10.2.1-6

openSUSE Leap 15
	Kernel: 5.4.0-167-generic
	Compiler: gcc 7.5.0

Fedora 37
	Kernel: Depends on container host system
	Compiler: gcc 12.3.1

CentOS Stream 9
	Kernel: 5.4.0-167-generic
	Compiler: gcc 11.4.1 20230605

RHEL8
	Kernel: 5.4.0-167-generic
	Compiler: gcc 8.5.0 20210514 (Red Hat 8.5.0-20)

Ubuntu 22.04
	Kernel: 5.4.0-167-generic
	Compiler: gcc 11.4.0

CentOS Stream 8
	Kernel: 5.4.0-167-generic
	Compiler: gcc 8.5.0 20210514

Ubuntu 24.04
	Kernel: 5.4.0-167-generic
	Compiler: gcc 13.2.0

Debian 12
	Kernel: Container Host Kernel
	Compiler: gcc 10.2.1

To view detailed results, visit:
https://lab.dpdk.org/results/dashboard/patchsets/30038/

UNH-IOL DPDK Community Lab

To manage your email subscriptions, visit: 
https://lab.dpdk.org/results/dashboard/preferences/subscriptions/