From mboxrd@z Thu Jan  1 00:00:00 1970
Return-Path: <test-report-bounces@dpdk.org>
Received: from mails.dpdk.org (mails.dpdk.org [217.70.189.124])
	by inbox.dpdk.org (Postfix) with ESMTP id 2875A44104
	for <public@inbox.dpdk.org>; Wed, 29 May 2024 18:25:19 +0200 (CEST)
Received: from mails.dpdk.org (localhost [127.0.0.1])
	by mails.dpdk.org (Postfix) with ESMTP id 23F7F40273;
	Wed, 29 May 2024 18:25:19 +0200 (CEST)
Received: from mail-qv1-f98.google.com (mail-qv1-f98.google.com
 [209.85.219.98]) by mails.dpdk.org (Postfix) with ESMTP id A76514026F
 for <test-report@dpdk.org>; Wed, 29 May 2024 18:25:17 +0200 (CEST)
Received: by mail-qv1-f98.google.com with SMTP id
 6a1803df08f44-6ad8344825cso7023166d6.0
 for <test-report@dpdk.org>; Wed, 29 May 2024 09:25:17 -0700 (PDT)
DKIM-Signature: v=1; a=rsa-sha256; c=relaxed/relaxed;
 d=iol.unh.edu; s=unh-iol; t=1716999917; x=1717604717; darn=dpdk.org;
 h=references:in-reply-to:cc:to:from:subject:message-id:date:from:to
 :cc:subject:date:message-id:reply-to;
 bh=ajbyvJ4q8Lq/eR8LJREEO7NwyFgdJwIetExadSZgWPE=;
 b=NCSmgquT4sLXJZ+OzeSjr7uYAUaG6svNXeyaG9XuHmz9gzQOm6DNv7NOUWF1FO31xB
 Cv23wx4xx3f71LICvnaSVv6tC80IQlGzTlYHVVHbwozdA8+vJSiDbq5jzQ7cyREqqqGa
 FkuC9pZYhYG67AR549fZkglJEyxRtGNrGabkM=
X-Google-DKIM-Signature: v=1; a=rsa-sha256; c=relaxed/relaxed;
 d=1e100.net; s=20230601; t=1716999917; x=1717604717;
 h=references:in-reply-to:cc:to:from:subject:message-id:date
 :x-gm-message-state:from:to:cc:subject:date:message-id:reply-to;
 bh=ajbyvJ4q8Lq/eR8LJREEO7NwyFgdJwIetExadSZgWPE=;
 b=m+/n/pfSoxpPgnkcRDPlCGCCSrOvEHm8rzkgCnnoGg8CaH5Isuaog3Br9UMyXbvVB9
 F3k7QrmGipzMNAZBBolh91YpfhncEru4gjAr52pQhtoFOnY9QIPLCJqUEGaI/ptcYoeG
 /XmZUTElfBsSgNHY78GZi0V3PxwtXqUEgXkR6xEPOdyiTCmHC+ricQjHq/0l/n5drXXB
 P6GWxL2mssdCyUeEVaMM5f78USeTTu9YipqXYh/JQGi+wJgW1R1lGJavSsCs7U0inI7F
 N42yzrlON3kZhFXcC7x7uq8llgAAYTcA3BrVtn5IPcdEqvYyZHXLu4O4iV6GdcIQPqvH
 ga2g==
X-Gm-Message-State: AOJu0YxTglRSqs9ONjZacTvy3XtgcPplKKifPPYs1VCx0GR7vwGgFxEf
 YzdqQJiS82y0hroHXY7uF0Ai6qdcf+CfFpveHlsJRgSG0X3CXFeiyjqUClBXC98mBfx0Imm7Lfv
 0zRDNP2PKZYuDBIcp45eIY5BMa7a0m1l3g+wf6LwLGGJBCVYNl6jUEm5b
X-Google-Smtp-Source: AGHT+IGbn0SFrrvjJhdlGpeVLFlEHE9m9e9FacTXtNLlqz4nNClAwHQ9jXkKxI0PEed4VekR/Dvyhen5TlKx
X-Received: by 2002:a05:6214:3907:b0:6ab:6ec0:df89 with SMTP id
 6a1803df08f44-6abcd19d87emr177386896d6.51.1716999917073; 
 Wed, 29 May 2024 09:25:17 -0700 (PDT)
Received: from postal.iol.unh.edu (postal.iol.unh.edu.
 [2606:4100:3880:1234::84]) by smtp-relay.gmail.com with ESMTPS id
 6a1803df08f44-6ac0709f51asm15263176d6.36.2024.05.29.09.25.17
 (version=TLS1_2 cipher=ECDHE-ECDSA-AES128-GCM-SHA256 bits=128/128);
 Wed, 29 May 2024 09:25:17 -0700 (PDT)
X-Relaying-Domain: iol.unh.edu
Date: Wed, 29 May 2024 09:25:17 -0700 (PDT)
Message-ID: <665756ed.050a0220.6b45b.b02fSMTPIN_ADDED_MISSING@mx.google.com>
Received: from [172.17.0.2] (unknown [172.18.0.217])
 by postal.iol.unh.edu (Postfix) with ESMTP id BE7B6605C373;
 Wed, 29 May 2024 12:25:16 -0400 (EDT)
Subject: |SUCCESS| pw140392-140393 [PATCH] [v2,2/2] crypto: validate crypto c
From: dpdklab@iol.unh.edu
To: Test Report <test-report@dpdk.org>
Cc: dpdk-test-reports@iol.unh.edu
In-Reply-To: <20240529144025.4089318-2-ganapati.kundapura@intel.com>
References: <20240529144025.4089318-2-ganapati.kundapura@intel.com>
Content-Type: text/plain
X-BeenThere: test-report@dpdk.org
X-Mailman-Version: 2.1.29
Precedence: list
List-Id: automatic DPDK test reports <test-report.dpdk.org>
List-Unsubscribe: <https://mails.dpdk.org/options/test-report>,
 <mailto:test-report-request@dpdk.org?subject=unsubscribe>
List-Archive: <http://mails.dpdk.org/archives/test-report/>
List-Post: <mailto:test-report@dpdk.org>
List-Help: <mailto:test-report-request@dpdk.org?subject=help>
List-Subscribe: <https://mails.dpdk.org/listinfo/test-report>,
 <mailto:test-report-request@dpdk.org?subject=subscribe>
Errors-To: test-report-bounces@dpdk.org

Test-Label: iol-abi-testing
Test-Status: SUCCESS
http://dpdk.org/patch/140393

_Testing PASS_

Submitter: Ganapati Kundapura <ganapati.kundapura@intel.com>
Date: Wednesday, May 29 2024 14:40:25 
DPDK git baseline: Repo:dpdk
  Branch: master
  CommitID:0ad961387e94a9ccfc1484a1d742d6f79eda9cd9

140392-140393 --> testing pass

Test environment and result as below:

+------------------+----------+
|   Environment    | abi_test |
+==================+==========+
| Fedora 38        | PASS     |
+------------------+----------+
| Fedora 39        | PASS     |
+------------------+----------+
| Debian Bullseye  | PASS     |
+------------------+----------+
| openSUSE Leap 15 | PASS     |
+------------------+----------+
| Fedora 37        | PASS     |
+------------------+----------+
| CentOS Stream 9  | PASS     |
+------------------+----------+
| RHEL8            | PASS     |
+------------------+----------+
| Ubuntu 22.04     | PASS     |
+------------------+----------+
| CentOS Stream 8  | PASS     |
+------------------+----------+
| Ubuntu 24.04     | PASS     |
+------------------+----------+
| Debian 12        | PASS     |
+------------------+----------+


Fedora 38
	Kernel: Depends on container host
	Compiler: clang 16.0.6

Fedora 39
	Kernel: Depends on container host
	Compiler: clang 17.0.6

Debian Bullseye
	Kernel: 5.4.0-167-generic
	Compiler: gcc 10.2.1-6

openSUSE Leap 15
	Kernel: 5.4.0-167-generic
	Compiler: gcc 7.5.0

Fedora 37
	Kernel: Depends on container host system
	Compiler: gcc 12.3.1

CentOS Stream 9
	Kernel: 5.4.0-167-generic
	Compiler: gcc 11.4.1 20230605

RHEL8
	Kernel: 5.4.0-167-generic
	Compiler: gcc 8.5.0 20210514 (Red Hat 8.5.0-20)

Ubuntu 22.04
	Kernel: 5.4.0-167-generic
	Compiler: gcc 11.4.0

CentOS Stream 8
	Kernel: 5.4.0-167-generic
	Compiler: gcc 8.5.0 20210514

Ubuntu 24.04
	Kernel: 5.4.0-167-generic
	Compiler: gcc 13.2.0

Debian 12
	Kernel: Container Host Kernel
	Compiler: gcc 10.2.1

To view detailed results, visit:
https://lab.dpdk.org/results/dashboard/patchsets/30038/

UNH-IOL DPDK Community Lab

To manage your email subscriptions, visit: 
https://lab.dpdk.org/results/dashboard/preferences/subscriptions/