From mboxrd@z Thu Jan  1 00:00:00 1970
Return-Path: <test-report-bounces@dpdk.org>
Received: from mails.dpdk.org (mails.dpdk.org [217.70.189.124])
	by inbox.dpdk.org (Postfix) with ESMTP id B62FD440B7
	for <public@inbox.dpdk.org>; Wed, 29 May 2024 18:46:36 +0200 (CEST)
Received: from mails.dpdk.org (localhost [127.0.0.1])
	by mails.dpdk.org (Postfix) with ESMTP id B21BA40273;
	Wed, 29 May 2024 18:46:36 +0200 (CEST)
Received: from mail-qt1-f226.google.com (mail-qt1-f226.google.com
 [209.85.160.226])
 by mails.dpdk.org (Postfix) with ESMTP id 5956B4026F
 for <test-report@dpdk.org>; Wed, 29 May 2024 18:46:35 +0200 (CEST)
Received: by mail-qt1-f226.google.com with SMTP id
 d75a77b69052e-43fe3505abbso1614991cf.1
 for <test-report@dpdk.org>; Wed, 29 May 2024 09:46:35 -0700 (PDT)
DKIM-Signature: v=1; a=rsa-sha256; c=relaxed/relaxed;
 d=iol.unh.edu; s=unh-iol; t=1717001195; x=1717605995; darn=dpdk.org;
 h=references:in-reply-to:cc:to:from:subject:message-id:date:from:to
 :cc:subject:date:message-id:reply-to;
 bh=Ej/e8BX39vpWeRaLu77MvdF5RuFt0WFiiUYv3+wyM9k=;
 b=M4GC1K5Oelyemu53zTZBoZoFLjQH6BVU01BNCr3k7eYQjrRXurT8v1Ukwujm934xZH
 WcoXEtdKMBYNAY9mDJ583/Y8f24OfauCVu0mQjIlb3/n2sqJEH89sGHYYDWI5OaWnAEn
 ptZELcmnGadPKJP9nIrfQN0umdRMLbFq7MDdg=
X-Google-DKIM-Signature: v=1; a=rsa-sha256; c=relaxed/relaxed;
 d=1e100.net; s=20230601; t=1717001195; x=1717605995;
 h=references:in-reply-to:cc:to:from:subject:message-id:date
 :x-gm-message-state:from:to:cc:subject:date:message-id:reply-to;
 bh=Ej/e8BX39vpWeRaLu77MvdF5RuFt0WFiiUYv3+wyM9k=;
 b=eIzY3i8Knzfuq0lrj5CB5k/bL+iLc8deVhymtoW03GkvLXDKlyXefEpoTLVzXzgIcc
 kdzttk4IkJp6cERPuQjA5R69/JLev0DoqRHr+CPsj2l2Eq9f5rmk31tcpEdBAxSGFOBT
 xHnkDnNIuMjaONf1JrPHq8I68U/VR6HhBpmV63Adq2jbxtW0ZSqKSQ4f+h3169uLMhZy
 VNoliHNXMHeBYL32yqDl2OW1yauBAH9E+XRxKnYR8Wmir25UUlvjztpHps5stM8ry3Xc
 L2nroC7BniVGZ+qDsJMaUWHV8iv68E947jSRW8QUFyz7lY5lMd2vED9LAppQb+ANt09v
 qsNA==
X-Gm-Message-State: AOJu0Yw6ubAqi644lTjAvnmb2UQfw/bj1wcuv+j7yP4u0O1lrmcAW3jz
 5QbljU4ZdyLsLqLwj8BgYwh7uY/VHtIgzSBEs/PQEsi3WSQx1Ik8nugRxEpuK32jtfW0oxuJ+hz
 1G9961PKinpfBHYCNW/0Qh3zL4IlEK1T5MNJRpHH52L8GFvGplqMJCipT
X-Google-Smtp-Source: AGHT+IE4btPZJlgq+qfzAtHo6nX/DrSwjvYMtR8LmTokxNBvpPgBCxztkBC4VzGOI1Q8Y70zR/VSzjVMWvar
X-Received: by 2002:a05:622a:1349:b0:43a:b66d:1a67 with SMTP id
 d75a77b69052e-43fe127a899mr48276871cf.29.1717001194821; 
 Wed, 29 May 2024 09:46:34 -0700 (PDT)
Received: from postal.iol.unh.edu (postal.iol.unh.edu.
 [2606:4100:3880:1234::84]) by smtp-relay.gmail.com with ESMTPS id
 d75a77b69052e-43fb18944absm8012531cf.19.2024.05.29.09.46.34
 (version=TLS1_2 cipher=ECDHE-ECDSA-AES128-GCM-SHA256 bits=128/128);
 Wed, 29 May 2024 09:46:34 -0700 (PDT)
X-Relaying-Domain: iol.unh.edu
Date: Wed, 29 May 2024 09:46:34 -0700 (PDT)
Message-ID: <66575bea.c80a0220.2542c.7993SMTPIN_ADDED_MISSING@mx.google.com>
Received: from [172.21.0.7] (unknown [172.18.0.240])
 by postal.iol.unh.edu (Postfix) with ESMTP id 7F220605C373;
 Wed, 29 May 2024 12:46:34 -0400 (EDT)
Subject: |SUCCESS| pw140392-140393 [PATCH] [v2,2/2] crypto: validate crypto c
From: dpdklab@iol.unh.edu
To: Test Report <test-report@dpdk.org>
Cc: dpdk-test-reports@iol.unh.edu
In-Reply-To: <20240529144025.4089318-2-ganapati.kundapura@intel.com>
References: <20240529144025.4089318-2-ganapati.kundapura@intel.com>
Content-Type: text/plain
X-BeenThere: test-report@dpdk.org
X-Mailman-Version: 2.1.29
Precedence: list
List-Id: automatic DPDK test reports <test-report.dpdk.org>
List-Unsubscribe: <https://mails.dpdk.org/options/test-report>,
 <mailto:test-report-request@dpdk.org?subject=unsubscribe>
List-Archive: <http://mails.dpdk.org/archives/test-report/>
List-Post: <mailto:test-report@dpdk.org>
List-Help: <mailto:test-report-request@dpdk.org?subject=help>
List-Subscribe: <https://mails.dpdk.org/listinfo/test-report>,
 <mailto:test-report-request@dpdk.org?subject=subscribe>
Errors-To: test-report-bounces@dpdk.org

Test-Label: iol-unit-arm64-testing
Test-Status: SUCCESS
http://dpdk.org/patch/140393

_Testing PASS_

Submitter: Ganapati Kundapura <ganapati.kundapura@intel.com>
Date: Wednesday, May 29 2024 14:40:25 
DPDK git baseline: Repo:dpdk
  Branch: master
  CommitID:0ad961387e94a9ccfc1484a1d742d6f79eda9cd9

140392-140393 --> testing pass

Test environment and result as below:

+-----------------------------+------------------------------+---------------------------+----------------+--------------+
|         Environment         | cryptodev_sw_snow3g_autotest | cryptodev_sw_zuc_autotest | dpdk_unit_test | lpm_autotest |
+=============================+==============================+===========================+================+==============+
| Debian 12 (arm)             | PASS                         | PASS                      | PASS           | SKIPPED      |
+-----------------------------+------------------------------+---------------------------+----------------+--------------+
| CentOS Stream 9 (ARM)       | SKIPPED                      | SKIPPED                   | PASS           | SKIPPED      |
+-----------------------------+------------------------------+---------------------------+----------------+--------------+
| Fedora 37 (ARM)             | SKIPPED                      | SKIPPED                   | PASS           | SKIPPED      |
+-----------------------------+------------------------------+---------------------------+----------------+--------------+
| 32-bit Ubuntu 20.04.4 (ARM) | SKIPPED                      | SKIPPED                   | PASS           | SKIPPED      |
+-----------------------------+------------------------------+---------------------------+----------------+--------------+
| Debian 11 (Buster) (ARM)    | SKIPPED                      | SKIPPED                   | PASS           | SKIPPED      |
+-----------------------------+------------------------------+---------------------------+----------------+--------------+
| Fedora 38 (ARM)             | SKIPPED                      | SKIPPED                   | PASS           | SKIPPED      |
+-----------------------------+------------------------------+---------------------------+----------------+--------------+
| Ubuntu 20.04 (ARM)          | SKIPPED                      | SKIPPED                   | PASS           | SKIPPED      |
+-----------------------------+------------------------------+---------------------------+----------------+--------------+
| Fedora 39 (ARM)             | SKIPPED                      | SKIPPED                   | PASS           | SKIPPED      |
+-----------------------------+------------------------------+---------------------------+----------------+--------------+
| Fedora 38 (ARM Clang)       | SKIPPED                      | SKIPPED                   | PASS           | SKIPPED      |
+-----------------------------+------------------------------+---------------------------+----------------+--------------+
| Ubuntu 20.04 ARM SVE        | SKIPPED                      | SKIPPED                   | SKIPPED        | PASS         |
+-----------------------------+------------------------------+---------------------------+----------------+--------------+


Debian 12 (arm)
	Kernel: Container Host Kernel
	Compiler: gcc 12.2.0

CentOS Stream 9 (ARM)
	Kernel: Container Host Kernel
	Compiler: gcc 11.4.1

Fedora 37 (ARM)
	Kernel: Depends on container host
	Compiler: gcc 12.3.1

32-bit Ubuntu 20.04.4 (ARM)
	Kernel: 5.4.0-155-generic aarch64
	Compiler: gcc 9.4

Debian 11 (Buster) (ARM)
	Kernel: Container Host Kernel
	Compiler: gcc 10.2.1

Fedora 38 (ARM)
	Kernel: Depends on container host
	Compiler: gcc 13.2.1

Ubuntu 20.04 (ARM)
	Kernel: Container Host Kernel
	Compiler: gcc 9.4.0

Fedora 39 (ARM)
	Kernel: Depends on container host
	Compiler: gcc 13.2.1

Fedora 38 (ARM Clang)
	Kernel: Depends on container host
	Compiler: clang 16.0.6

Ubuntu 20.04 ARM SVE
	Kernel: 5.4.0-167-generic
	Compiler: gcc (Ubuntu 10.5.0-1ubuntu1~20.04) 10.5.0

To view detailed results, visit:
https://lab.dpdk.org/results/dashboard/patchsets/30038/

UNH-IOL DPDK Community Lab

To manage your email subscriptions, visit: 
https://lab.dpdk.org/results/dashboard/preferences/subscriptions/