From mboxrd@z Thu Jan  1 00:00:00 1970
Return-Path: <test-report-bounces@dpdk.org>
Received: from mails.dpdk.org (mails.dpdk.org [217.70.189.124])
	by inbox.dpdk.org (Postfix) with ESMTP id 3152B440E3
	for <public@inbox.dpdk.org>; Wed, 29 May 2024 19:24:13 +0200 (CEST)
Received: from mails.dpdk.org (localhost [127.0.0.1])
	by mails.dpdk.org (Postfix) with ESMTP id 2D4A240273;
	Wed, 29 May 2024 19:24:13 +0200 (CEST)
Received: from mail-il1-f226.google.com (mail-il1-f226.google.com
 [209.85.166.226])
 by mails.dpdk.org (Postfix) with ESMTP id A308340273
 for <test-report@dpdk.org>; Wed, 29 May 2024 19:24:03 +0200 (CEST)
Received: by mail-il1-f226.google.com with SMTP id
 e9e14a558f8ab-3737b33270aso9492065ab.1
 for <test-report@dpdk.org>; Wed, 29 May 2024 10:24:03 -0700 (PDT)
DKIM-Signature: v=1; a=rsa-sha256; c=relaxed/relaxed;
 d=iol.unh.edu; s=unh-iol; t=1717003443; x=1717608243; darn=dpdk.org;
 h=references:in-reply-to:cc:to:from:subject:message-id:date:from:to
 :cc:subject:date:message-id:reply-to;
 bh=Hl3ItJuEEi5Et6j8FbchLCWkcyoIJwSOTyt2h20s66o=;
 b=cEU+XW52BLgDGpJ/DRPLJa9lynH0WhtIeWumqB3VfgqaQ3+u1pIYb3CpOxneFdxqqG
 MosN09UYHZcVHXmglPMKNwoRERPEen/2c05kHMRFToBnS/rIiM7rZ5Y8/yCfhz4u86sv
 mH05WVKSrMaZ8T3cJehhz/76KjHn9j1OEretA=
X-Google-DKIM-Signature: v=1; a=rsa-sha256; c=relaxed/relaxed;
 d=1e100.net; s=20230601; t=1717003443; x=1717608243;
 h=references:in-reply-to:cc:to:from:subject:message-id:date
 :x-gm-message-state:from:to:cc:subject:date:message-id:reply-to;
 bh=Hl3ItJuEEi5Et6j8FbchLCWkcyoIJwSOTyt2h20s66o=;
 b=eSuU4Hi8qqG+QW+8+/+TuQ2kY6dvFQ+bTLx7cB2I4/jQzJr7txofMv89JY5/5nrXKs
 WChoaB+XWfJywq6qAwa7hJBnfrFA5d4XM9g3yVxx6arUJ3P55Dh3tr9URpsR44PWgqs9
 k+bR7tfPaawQ+lRrMwKBDMNGNw4DKoIPHyj/HnV2kUDJSkMrgEtW+6HEMPlGYTqdH63K
 17hIz8lZkpg00GgEe+9NgkmcwTtQlhf2DW3F5kbFpqpClPgOjCSIooiqo4zfKWcw9J/T
 kmCxM82jB8/RFlrrSgGXVQZzm262kDKc6qza59nYtxNh8nYOGTtKw51C7DSeuiTB8yyJ
 3A/w==
X-Gm-Message-State: AOJu0Yz8EUDrCZAUD2jDzugIW8npfoWUBVN91JRRWXbr93vNY9P1lVcD
 umrymx1JONmS7RQkRZ0Lz2ip2l1TgSijVbj3Dk/4K7pY3ipOEQBQarsRpU7jI9uhj9pdlVtVh/3
 vJn0EHh9qG+pgD8ub+gP3bRfvdoJ6zH6DWHiAUYCc
X-Google-Smtp-Source: AGHT+IFjp/nHvFh6sBNNeYN2wio3qsFm9dNmpiUYlhv8AfdxL5h/e3umrmfUVHfT1K/vOmDxxJ07DH2f6uBf
X-Received: by 2002:a05:6e02:2146:b0:36c:42a0:7abb with SMTP id
 e9e14a558f8ab-3737b37a88bmr180021615ab.31.1717003443043; 
 Wed, 29 May 2024 10:24:03 -0700 (PDT)
Received: from postal.iol.unh.edu (postal.iol.unh.edu. [132.177.123.84])
 by smtp-relay.gmail.com with ESMTPS id
 e9e14a558f8ab-3746e5ca045sm2494545ab.7.2024.05.29.10.24.02
 (version=TLS1_2 cipher=ECDHE-ECDSA-AES128-GCM-SHA256 bits=128/128);
 Wed, 29 May 2024 10:24:03 -0700 (PDT)
X-Relaying-Domain: iol.unh.edu
Date: Wed, 29 May 2024 10:24:03 -0700 (PDT)
Message-ID: <665764b3.050a0220.2151d.8925SMTPIN_ADDED_MISSING@mx.google.com>
Received: from [172.17.0.2] (unknown [172.18.0.217])
 by postal.iol.unh.edu (Postfix) with ESMTP id 5EC44605C373;
 Wed, 29 May 2024 13:24:02 -0400 (EDT)
Subject: |SUCCESS| pw140391 [PATCH] maintainers: update for networking mlx5 d
From: dpdklab@iol.unh.edu
To: Test Report <test-report@dpdk.org>
Cc: dpdk-test-reports@iol.unh.edu
In-Reply-To: <20240529112038.12904-1-dsosnowski@nvidia.com>
References: <20240529112038.12904-1-dsosnowski@nvidia.com>
Content-Type: text/plain
X-BeenThere: test-report@dpdk.org
X-Mailman-Version: 2.1.29
Precedence: list
List-Id: automatic DPDK test reports <test-report.dpdk.org>
List-Unsubscribe: <https://mails.dpdk.org/options/test-report>,
 <mailto:test-report-request@dpdk.org?subject=unsubscribe>
List-Archive: <http://mails.dpdk.org/archives/test-report/>
List-Post: <mailto:test-report@dpdk.org>
List-Help: <mailto:test-report-request@dpdk.org?subject=help>
List-Subscribe: <https://mails.dpdk.org/listinfo/test-report>,
 <mailto:test-report-request@dpdk.org?subject=subscribe>
Errors-To: test-report-bounces@dpdk.org

Test-Label: iol-abi-testing
Test-Status: SUCCESS
http://dpdk.org/patch/140391

_Testing PASS_

Submitter: Dariusz Sosnowski <dsosnowski@nvidia.com>
Date: Wednesday, May 29 2024 11:20:38 
DPDK git baseline: Repo:dpdk
  Branch: master
  CommitID:76cef1af8bdaeaf67a5c4ca5df3f221df994dc46

140391 --> testing pass

Test environment and result as below:

+------------------+----------+
|   Environment    | abi_test |
+==================+==========+
| openSUSE Leap 15 | PASS     |
+------------------+----------+
| Fedora 38        | PASS     |
+------------------+----------+
| Debian Bullseye  | PASS     |
+------------------+----------+
| CentOS Stream 8  | PASS     |
+------------------+----------+
| CentOS Stream 9  | PASS     |
+------------------+----------+
| Debian 12        | PASS     |
+------------------+----------+
| Ubuntu 22.04     | PASS     |
+------------------+----------+
| Fedora 39        | PASS     |
+------------------+----------+
| Ubuntu 24.04     | PASS     |
+------------------+----------+
| RHEL8            | PASS     |
+------------------+----------+
| Fedora 37        | PASS     |
+------------------+----------+


openSUSE Leap 15
	Kernel: 5.4.0-167-generic
	Compiler: gcc 7.5.0

Fedora 38
	Kernel: Depends on container host
	Compiler: gcc 13.2.1

Debian Bullseye
	Kernel: 5.4.0-167-generic
	Compiler: gcc 10.2.1-6

CentOS Stream 8
	Kernel: 5.4.0-167-generic
	Compiler: gcc 8.5.0 20210514

CentOS Stream 9
	Kernel: 5.4.0-167-generic
	Compiler: gcc 11.4.1 20230605

Debian 12
	Kernel: Container Host Kernel
	Compiler: gcc 10.2.1

Ubuntu 22.04
	Kernel: 5.4.0-167-generic
	Compiler: gcc 11.4.0

Fedora 39
	Kernel: Depends on container host
	Compiler: clang 17.0.6

Ubuntu 24.04
	Kernel: 5.4.0-167-generic
	Compiler: gcc 13.2.0

RHEL8
	Kernel: 5.4.0-167-generic
	Compiler: gcc 8.5.0 20210514 (Red Hat 8.5.0-20)

Fedora 37
	Kernel: Depends on container host system
	Compiler: gcc 12.3.1

To view detailed results, visit:
https://lab.dpdk.org/results/dashboard/patchsets/30037/

UNH-IOL DPDK Community Lab

To manage your email subscriptions, visit: 
https://lab.dpdk.org/results/dashboard/preferences/subscriptions/